BEGIN:VCALENDAR
VERSION:2.0
PRODID:-//Happy Days Nursery - ECPv6.15.20//NONSGML v1.0//EN
CALSCALE:GREGORIAN
METHOD:PUBLISH
X-WR-CALNAME:Happy Days Nursery
X-ORIGINAL-URL:https://happydaysnurseries.com
X-WR-CALDESC:Events for Happy Days Nursery
REFRESH-INTERVAL;VALUE=DURATION:PT1H
X-Robots-Tag:noindex
X-PUBLISHED-TTL:PT1H
BEGIN:VTIMEZONE
TZID:Europe/London
BEGIN:DAYLIGHT
TZOFFSETFROM:+0000
TZOFFSETTO:+0100
TZNAME:BST
DTSTART:20230326T010000
END:DAYLIGHT
BEGIN:STANDARD
TZOFFSETFROM:+0100
TZOFFSETTO:+0000
TZNAME:GMT
DTSTART:20231029T010000
END:STANDARD
BEGIN:DAYLIGHT
TZOFFSETFROM:+0000
TZOFFSETTO:+0100
TZNAME:BST
DTSTART:20240331T010000
END:DAYLIGHT
BEGIN:STANDARD
TZOFFSETFROM:+0100
TZOFFSETTO:+0000
TZNAME:GMT
DTSTART:20241027T010000
END:STANDARD
BEGIN:DAYLIGHT
TZOFFSETFROM:+0000
TZOFFSETTO:+0100
TZNAME:BST
DTSTART:20250330T010000
END:DAYLIGHT
BEGIN:STANDARD
TZOFFSETFROM:+0100
TZOFFSETTO:+0000
TZNAME:GMT
DTSTART:20251026T010000
END:STANDARD
END:VTIMEZONE
BEGIN:VEVENT
DTSTART;TZID=Europe/London:20240831T100000
DTEND;TZID=Europe/London:20240831T140000
DTSTAMP:20260424T143502
CREATED:20240816T142902Z
LAST-MODIFIED:20240816T144620Z
UID:10003202-1725098400-1725112800@happydaysnurseries.com
SUMMARY:Weston-Super-Mare Summer Fair
DESCRIPTION:Summer Fair at Happy Days\, Weston-super-Mare!Saturday 31t August | 10am – 2pm \nJoin us for lots of fun including:Fire EngineRaffleMini Photo ShootsGamesTombolaFoodStallsAnd lots more! \nEveryone welcome! No need to book – just turn up. £1 entry! \nFirst 10 families to arrive will receive a FREE Goody Bag! \n📍 Where: Happy Days Nursery 6 Whirlwind Road Weston Business Quarter Weston-super-Mare BS24 8EF📞 Call: 01934 420343📧 Email: westonsm@happydaysnurseries.com
URL:https://happydaysnurseries.com/event/summer-fair-weston-super-mare/
LOCATION:Happy Days Nursery 6 Whirlwind Road Weston Business Quarter Weston-super-Mare BS24 8EF\, Happy Days Nursery 6 Whirlwind Road Weston Business Quarter Weston-super-Mare\, Weston-super-Mare\, BS24 8EF\, United Kingdom
CATEGORIES:Community Pop Up Event
ATTACH;FMTTYPE=image/jpeg:https://happydaysnurseries.com/wp-content/uploads/2024/08/Stay-and-Play-droitwich-28.jpg
END:VEVENT
END:VCALENDAR