BEGIN:VCALENDAR
VERSION:2.0
PRODID:-//Happy Days Nursery - ECPv6.15.20//NONSGML v1.0//EN
CALSCALE:GREGORIAN
METHOD:PUBLISH
X-ORIGINAL-URL:https://happydaysnurseries.com
X-WR-CALDESC:Events for Happy Days Nursery
REFRESH-INTERVAL;VALUE=DURATION:PT1H
X-Robots-Tag:noindex
X-PUBLISHED-TTL:PT1H
BEGIN:VTIMEZONE
TZID:Europe/London
BEGIN:DAYLIGHT
TZOFFSETFROM:+0000
TZOFFSETTO:+0100
TZNAME:BST
DTSTART:20230326T010000
END:DAYLIGHT
BEGIN:STANDARD
TZOFFSETFROM:+0100
TZOFFSETTO:+0000
TZNAME:GMT
DTSTART:20231029T010000
END:STANDARD
BEGIN:DAYLIGHT
TZOFFSETFROM:+0000
TZOFFSETTO:+0100
TZNAME:BST
DTSTART:20240331T010000
END:DAYLIGHT
BEGIN:STANDARD
TZOFFSETFROM:+0100
TZOFFSETTO:+0000
TZNAME:GMT
DTSTART:20241027T010000
END:STANDARD
BEGIN:DAYLIGHT
TZOFFSETFROM:+0000
TZOFFSETTO:+0100
TZNAME:BST
DTSTART:20250330T010000
END:DAYLIGHT
BEGIN:STANDARD
TZOFFSETFROM:+0100
TZOFFSETTO:+0000
TZNAME:GMT
DTSTART:20251026T010000
END:STANDARD
END:VTIMEZONE
BEGIN:VEVENT
DTSTART;TZID=Europe/London:20241202T093000
DTEND;TZID=Europe/London:20241202T103000
DTSTAMP:20260422T113150
CREATED:20241107T144301Z
LAST-MODIFIED:20241107T144301Z
UID:10003480-1733131800-1733135400@happydaysnurseries.com
SUMMARY:Free Baby Massage Course
DESCRIPTION:Join us at Happy Days Swindon for our Free Baby Massage Classes for babies up to the age of 12 months. This is a 4 week course\, feel free to join us!  \nSession theme: Baby MassageWhen: Every Monday from 25th November | 9:30-10:30Where: Happy Days Nursery & Pre-School\, Happy Days Nursery\, Elstree Way\, Swindon SN25 4YX \nThe benefits of Baby Massage can include: \n⭐ Improved communication between parents and baby⭐ Help to calm baby’s emotions and relieve stress⭐ Help babies develop an awareness of their body⭐ Enhance parent’s ability to develop and understand their baby’s needs⭐ Aid digestion and help relieve colic\, wind and constipation⭐ Strengthen the immune system⭐ Support bonding and attachment⭐ A great chance to meet other new parents in the area! \nBook early as places are limited  Where: Happy Days Nursery & Pre-School\, Abbeymeads Village Centre\, Elstree Way\, Swindon SN25 4YX  Call: 01793 748 315  Email: swindon@happydaysnurseries.com \n\n\n \n \n 
URL:https://happydaysnurseries.com/event/free-baby-massage-course/2024-12-02/
LOCATION:Happy Days Nursery & Pre-School\, Swindon\, Abbeymeads Village Centre\, Elstree Way\, Swindon\, SN25 4YX
CATEGORIES:Baby Massage
ATTACH;FMTTYPE=image/jpeg:https://happydaysnurseries.com/wp-content/uploads/2024/11/baby-massage-Playbox.jpg
END:VEVENT
BEGIN:VEVENT
DTSTART;TZID=Europe/London:20241202T093000
DTEND;TZID=Europe/London:20241202T113000
DTSTAMP:20260422T113150
CREATED:20240909T142301Z
LAST-MODIFIED:20240910T081709Z
UID:10003372-1733131800-1733139000@happydaysnurseries.com
SUMMARY:Open House! Come and take a closer look at Happy Days Summercourt
DESCRIPTION:Open House! No need to book\, just pop in when you can. \nDate: Every Monday up until 9 DecemberTime: 09:30 am – 11:30 am \nExplore our state-of-the-art facilities:– Tour our purpose-built nursery designed for your child’s learning and development.– Meet our friendly and dedicated nursery team. \nLearn everything you need to know:– Early years funding options and fees– Nursery opening hours and tour availability– Nutritious meal plans and delicious menus– Engaging early years curriculum– …and much more! \nThis is a fantastic opportunity for you to see our nursery and ask any questions you may have. We look forward to welcoming you and your family to Happy Days! \nNo need to book – just pop in when you can!  Where: Happy Days Nursery & Pre-School\, Chapel Town\, Summercourt\, Newquay\, Cornwall\, TR8 5YA   Call: 01872 510 247  Email: summercourt@happydaysnurseries.com \n\n\n \n \n 
URL:https://happydaysnurseries.com/event/open-house-summercourt-1609/2024-12-02/
LOCATION:Happy Days Nursery & Pre-School\, Summercourt\, Chapel Town\, Summercourt\, TR8 5YA
CATEGORIES:Open Day
ATTACH;FMTTYPE=image/jpeg:https://happydaysnurseries.com/wp-content/uploads/2024/08/open-house-Summercourt-scaled.jpg
END:VEVENT
BEGIN:VEVENT
DTSTART;TZID=Europe/London:20241202T100000
DTEND;TZID=Europe/London:20241202T110000
DTSTAMP:20260422T113150
CREATED:20240731T105826Z
LAST-MODIFIED:20240731T115747Z
UID:10003135-1733133600-1733137200@happydaysnurseries.com
SUMMARY:Free Baby Massage Course with Happy Days Poole
DESCRIPTION:Join us at Happy Days Poole for our Free Baby Massage Classes for babies up to the age of 12 months.  \nSession theme: Baby MassageWhen: This course will be running weekly for 6 weeks\,  starting on the 11 November\,  10:00am to 11:00amWhere: Happy Days Nursery & Pre-School\, Beechbank Avenue\, Creekmoor\, Poole\, BH17 7FF \nThe benefits of Baby Massage can include: \n⭐ Improved communication between parents and baby⭐ Help to calm baby’s emotions and relieve stress⭐ Help babies develop an awareness of their body⭐ Enhance parent’s ability to develop and understand their baby’s needs⭐ Aid digestion and help relieve colic\, wind\, and constipation⭐ Strengthen the immune system⭐ Support bonding and attachment⭐ A great chance to meet other new parents in the area! \nBook early as places are limited  Where: Happy Days Nursery & Pre-School\, Beechbank Avenue\, Creekmoor\, Poole\, BH17 7FF  Call: 01202 698 427  Email: poole@happydaysnurseries.com \n\n\n \n \n 
URL:https://happydaysnurseries.com/event/free-baby-massage-course-poole/2024-12-02/
LOCATION:Happy Days Nursery & Pre-School\, Poole\, Beechbank Avenue\, Creekmoor\, Poole\, BH17 7FF
CATEGORIES:Baby Massage
ATTACH;FMTTYPE=image/jpeg:https://happydaysnurseries.com/wp-content/uploads/2024/02/baby-massage-poole.jpg
END:VEVENT
BEGIN:VEVENT
DTSTART;TZID=Europe/London:20241202T100000
DTEND;TZID=Europe/London:20241202T110000
DTSTAMP:20260422T113150
CREATED:20241108T123736Z
LAST-MODIFIED:20250103T151540Z
UID:10003496-1733133600-1733137200@happydaysnurseries.com
SUMMARY:FREE Stay & Play  - All Ages
DESCRIPTION:FREE Stay and Play for children ALL AGES at Happy Days Nursery\, Droitwich!When: Every Monday (Starting 18th November) | 10:00am – 11:00amWhere: Happy Days Nursery Woodland Way\, Yew Tree VillageEach week we will be hosting different activities from our unique ‘Where Children Shine’ Curriculum such as:– Sing & Sign– Musical Matters– Babbling Babies– Let’s Moveand much more!This is a great opportunity to meet other parents and bond with your child!📍 Where: Happy Days Nursery Woodland Way\, Yew Tree Village\, Droitwich Spa\, Worcestershire\, WR9 7GP☎ Call: 01905 590500📩 Email: droitwich@happydaysnurseries.com
URL:https://happydaysnurseries.com/event/stay-and-play-droitwich-all-ages/2024-12-02/
LOCATION:Happy Days Nursery & Pre-School\, Droitwich Spa\, 9 Woodland Way\, Yew Tree Village\, WR9 7GP
CATEGORIES:Stay & Play
ATTACH;FMTTYPE=image/jpeg:https://happydaysnurseries.com/wp-content/uploads/2024/03/SP-summercourt.jpg
END:VEVENT
END:VCALENDAR