BEGIN:VCALENDAR
VERSION:2.0
PRODID:-//Happy Days Nursery - ECPv6.15.20//NONSGML v1.0//EN
CALSCALE:GREGORIAN
METHOD:PUBLISH
X-WR-CALNAME:Happy Days Nursery
X-ORIGINAL-URL:https://happydaysnurseries.com
X-WR-CALDESC:Events for Happy Days Nursery
REFRESH-INTERVAL;VALUE=DURATION:PT1H
X-Robots-Tag:noindex
X-PUBLISHED-TTL:PT1H
BEGIN:VTIMEZONE
TZID:Europe/London
BEGIN:DAYLIGHT
TZOFFSETFROM:+0000
TZOFFSETTO:+0100
TZNAME:BST
DTSTART:20240331T010000
END:DAYLIGHT
BEGIN:STANDARD
TZOFFSETFROM:+0100
TZOFFSETTO:+0000
TZNAME:GMT
DTSTART:20241027T010000
END:STANDARD
BEGIN:DAYLIGHT
TZOFFSETFROM:+0000
TZOFFSETTO:+0100
TZNAME:BST
DTSTART:20250330T010000
END:DAYLIGHT
BEGIN:STANDARD
TZOFFSETFROM:+0100
TZOFFSETTO:+0000
TZNAME:GMT
DTSTART:20251026T010000
END:STANDARD
BEGIN:DAYLIGHT
TZOFFSETFROM:+0000
TZOFFSETTO:+0100
TZNAME:BST
DTSTART:20260329T010000
END:DAYLIGHT
BEGIN:STANDARD
TZOFFSETFROM:+0100
TZOFFSETTO:+0000
TZNAME:GMT
DTSTART:20261025T010000
END:STANDARD
END:VTIMEZONE
BEGIN:VEVENT
DTSTART;TZID=Europe/London:20250815T100000
DTEND;TZID=Europe/London:20250815T110000
DTSTAMP:20260420T042349
CREATED:20250527T144935Z
LAST-MODIFIED:20251118T113102Z
UID:10004936-1755252000-1755255600@happydaysnurseries.com
SUMMARY:Free Stay & Play Fridays at Happy Days Nursery – Charlton Heights\, Charlton Hayes
DESCRIPTION:Calling all parents\, grandparents\, and carers of children aged 0–4! \nJoin us for our FREE Stay & Play sessions every Friday from 10:00am to 11:00am at Happy Days Nursery & Preschool\, Charlton Heights. \nOur sessions are the perfect opportunity to: \n\n\nSpend quality time with your little one in a fun\, safe\, and nurturing environment \n\n\nMeet other local families and build connections in the community \n\n\nExplore a variety of engaging\, age appropriate activities designed to support your child’s development \n\n\nExperience our nursery first hand and get to know our friendly\, experienced team \n\n\nWhether you’re just looking for something fun to do with your child or starting to think about childcare in the future\, we’d love to welcome you. No pressure\, no commitment – just come along\, play\, and enjoy! \n📍 Location: Happy Days Nursery & Preschool\, Charlton Heights\, Charlton Hayes\, Bristol🕙 Time: Fridays\, 10:00am – 11:00am🎟️ Cost: Completely FREE \nSpaces may be limited\, so feel free to give us a call or drop us a message to let us know you’re coming… \nWe look forward to seeing you soon for a happy start to your Friday! \n\n \n Where: Happy Days Nursery & Pre-School\, Chessel Drive\, Charlton Hayes\, Bristol\, BS34 5UZ Call: 0117 379 0360 Email: charltonheights@happydaysnurseries.com \n\n\n \n \n 
URL:https://happydaysnurseries.com/event/free-stay-and-play-charlton-hayes-nursery/2025-08-15/
LOCATION:Happy Days Nursery & Pre-School\, Charlton Heights\, Bristol\, BS34 5UZ\, Chessel Drive\, Patchway\, Bristol\, BS34 5UZ\, United Kingdom
CATEGORIES:Stay & Play
ATTACH;FMTTYPE=image/jpeg:https://happydaysnurseries.com/wp-content/uploads/2025/05/stay-and-play-fridays-scaled.jpg
END:VEVENT
BEGIN:VEVENT
DTSTART;TZID=Europe/London:20250815T103000
DTEND;TZID=Europe/London:20250815T113000
DTSTAMP:20260420T042349
CREATED:20250722T104509Z
LAST-MODIFIED:20250723T113545Z
UID:10005309-1755253800-1755257400@happydaysnurseries.com
SUMMARY:Free Baby First Aid Class with Daisy First Aid
DESCRIPTION:Join us at Happy Days Nursery\, Falmouth for a FREE 1 Hour Session for parents of children aged 0-1 years.\n \n\n\nWhen: Friday 15 August | 10.30am – 11.30am\nWhere: Happy Days Nursery & Pre-School\, Jubilee Road\, Penwerris\, Falmouth\, TR11 2BB\n \n\n\nThe class will be led by Claire from Daisy First Aid and will cover:\n\nRecovery position for a baby \nCPR for a baby \nChoking for a baby \nSpotting Meningitis and Sepsis\n\nPlease note this is an introductory course only and NOT a formal qualification\n \n\n\nBabies under the age of 12 months are welcome to attend classes with parent(s) as we are breastfeeding friendly.\n \n\n\nPlease email to confirm your place as spaces are limited!\n \n\n\n Where: Happy Days Nursery & Pre-School\, Jubilee Road\, Penwerris\, Falmouth\, TR11 2BB\n Call: 01326 314 735\n Email: falmouth@happydaysnurseries.com
URL:https://happydaysnurseries.com/event/baby-first-aid-class-falmouth/
CATEGORIES:First Aid Session
ATTACH;FMTTYPE=image/jpeg:https://happydaysnurseries.com/wp-content/uploads/2025/07/first-aid-2-scaled.jpg
END:VEVENT
END:VCALENDAR