BEGIN:VCALENDAR
VERSION:2.0
PRODID:-//Happy Days Nursery - ECPv6.15.20//NONSGML v1.0//EN
CALSCALE:GREGORIAN
METHOD:PUBLISH
X-ORIGINAL-URL:https://happydaysnurseries.com
X-WR-CALDESC:Events for Happy Days Nursery
REFRESH-INTERVAL;VALUE=DURATION:PT1H
X-Robots-Tag:noindex
X-PUBLISHED-TTL:PT1H
BEGIN:VTIMEZONE
TZID:Europe/London
BEGIN:DAYLIGHT
TZOFFSETFROM:+0000
TZOFFSETTO:+0100
TZNAME:BST
DTSTART:20240331T010000
END:DAYLIGHT
BEGIN:STANDARD
TZOFFSETFROM:+0100
TZOFFSETTO:+0000
TZNAME:GMT
DTSTART:20241027T010000
END:STANDARD
BEGIN:DAYLIGHT
TZOFFSETFROM:+0000
TZOFFSETTO:+0100
TZNAME:BST
DTSTART:20250330T010000
END:DAYLIGHT
BEGIN:STANDARD
TZOFFSETFROM:+0100
TZOFFSETTO:+0000
TZNAME:GMT
DTSTART:20251026T010000
END:STANDARD
BEGIN:DAYLIGHT
TZOFFSETFROM:+0000
TZOFFSETTO:+0100
TZNAME:BST
DTSTART:20260329T010000
END:DAYLIGHT
BEGIN:STANDARD
TZOFFSETFROM:+0100
TZOFFSETTO:+0000
TZNAME:GMT
DTSTART:20261025T010000
END:STANDARD
END:VTIMEZONE
BEGIN:VEVENT
DTSTART;TZID=Europe/London:20251002T100000
DTEND;TZID=Europe/London:20251002T110000
DTSTAMP:20260421T052014
CREATED:20250905T131154Z
LAST-MODIFIED:20250905T131643Z
UID:10005866-1759399200-1759402800@happydaysnurseries.com
SUMMARY:Free Baby Massage Course | Playbox\, Truro
DESCRIPTION:Join us at Happy Days Playbox\, Truro for our Free Baby Massage Classes for babies up to the age of 12 months (non-mobile). \nThis is a 6 week course taking place every Thursday\, starting 2nd October to  November 6\, feel free to join us on any/all sessions!  \nSession theme: Baby MassageStart Date: Thursday 2nd October| 10:00am-11:00amWhere: Happy Days Nursery & Pre-School\, 9a Treyew Road\, Truro\, TR1 3AN \nThe benefits of Baby Massage can include: \n⭐ Improved communication between parents and baby⭐ Help to calm baby’s emotions and relieve stress⭐ Help babies develop an awareness of their body⭐ Enhance parent’s ability to develop and understand their baby’s needs⭐ Aid digestion and help relieve colic\, wind\, and constipation⭐ Strengthen the immune system⭐ Support bonding and attachment⭐ A great chance to meet other new parents in the area! \nBook early as places are limited  Where: Happy Days Nursery & Pre-School\, 9a Treyew Road\, Truro\, TR1 3AN  Call: 01872 222 571  Email: playbox@happydaysnurseries.com
URL:https://happydaysnurseries.com/event/free-baby-massage-playbox-truro/2025-10-02/
LOCATION:Happy Days Nursery & Pre-School\, Playbox\, Truro\, 9a Treyew Road\, Truro\, TR1 3AN
CATEGORIES:Baby Massage
ATTACH;FMTTYPE=image/jpeg:https://happydaysnurseries.com/wp-content/uploads/2025/02/baby-massage-playbox-2.jpg
END:VEVENT
BEGIN:VEVENT
DTSTART;TZID=Europe/London:20251002T100000
DTEND;TZID=Europe/London:20251002T110000
DTSTAMP:20260421T052014
CREATED:20250909T152017Z
LAST-MODIFIED:20251030T155519Z
UID:10005908-1759399200-1759402800@happydaysnurseries.com
SUMMARY:Free Stay & Play for 2-5 year olds!
DESCRIPTION:Looking for a fun and free way to connect with other parents and guardians while your child explores and plays? Join us at Happy Days Nursery & Pre-School Falmouth for our new 8 week Stay & Play programme! \nOur sessions are designed for children aged 2-5 years old and are a perfect opportunity for them to discover new activities and make new friends in a safe\, nurturing environment. We’ve planned a variety of exciting themes to spark their curiosity and creativity. \nKey Details \n\nWhen: Every Thursday\, starting October 2nd\nTime: 10:00 AM – 11:00 AM\nWhere: The Lighthouse Family Hub\, Jubilee Rd\, Falmouth\, TR11 2BB\nCost: Completely free!\n\n8 Week Session Schedule☕ Week 1: Coffee Morning & Free Play – Come along and let your child explore a variety of activities.🎵 Week 2: Let’s Sing & Sign – Enjoy a fun and interactive session introducing basic signs and songs to help your child communicate and express themselves.🥕 Week 3: Let’s Cook! – Get messy and creative in the kitchen as we enjoy the world of cooking and food preparation in a safe\, sensory-friendly way.💃  Week 4: Let’s Move! –  This session is all about music and movement\, helping your child playfully develop their motor skills.👻 Week 5: Spooky Messy Play – A Halloween-themed messy play session with gooey\, colourful\, and spooky activities to explore!✨ Week 6: Sparkle & Pop! – A creative session full of colourful crafts and sensory play celebrating fireworks and bonfire night.🧪 Week 7: STEM Explorers – Discover the world of science\, technology\, engineering\, and maths with hands on experiments. 📖 Week 8: Our Favourite Books – Join us for a special story time session. We’ll read some of our favourite books and bring the stories to life with puppets and interactive play. \nWe can’t wait to see you there!
URL:https://happydaysnurseries.com/event/stay-play-at-falmouth/2025-10-02/
LOCATION:Happy Days Nursery & Pre-School\, Falmouth\, Happy Days Nursery & Preschool Jubilee Rd\, Falmouth TR11 2BB\, Falmouth\, Cornwall\, TR11 2BB\, United Kingdom
CATEGORIES:Stay & Play
ATTACH;FMTTYPE=image/jpeg:https://happydaysnurseries.com/wp-content/uploads/2025/09/Stay-and-Play-Falmouth-1.jpg
END:VEVENT
BEGIN:VEVENT
DTSTART;TZID=Europe/London:20251002T103000
DTEND;TZID=Europe/London:20251002T110000
DTSTAMP:20260421T052014
CREATED:20250902T160404Z
LAST-MODIFIED:20251002T085612Z
UID:10005661-1759401000-1759402800@happydaysnurseries.com
SUMMARY: Free Rhyme Time for Under Twos
DESCRIPTION:Free Rhyme Time Sessions for Under Twos \n \nWe’re excited to be hosting a FREE community event at Bradley Stoke Library!\n \n Thursdays\, starting 18th September (6-week block) 10:30am – 11:00am Bradley Stoke Library\, 1 Fiddlers Wood Lane\, Bradley Stoke\, BS32 9BS\n \nThese fun Rhyme time sessions are designed especially for children under 2\, using songs\, music\, and simple signing to encourage early communication skills. They’re also a lovely opportunity to:\n Spend special bonding time with your child Meet other parents in the community Chat with some of the Happy Days Bradley Stoke team Ask any questions you may have about early years funding\nNo cost\, no booking required\, just come along\, join in\, and enjoy a friendly community session
URL:https://happydaysnurseries.com/event/rhyme-time-session-bradley-stoke/2025-10-02/
LOCATION:Happy Days Nursery & Pre-School\, Bradley Stoke\, Almondsbury Business Centre\, Woodlands Lane\, Bristol\, BH32 4QH
CATEGORIES:Community Pop Up Event
ATTACH;FMTTYPE=image/jpeg:https://happydaysnurseries.com/wp-content/uploads/2025/09/Rhyme-time-bradley-stoke.jpg
END:VEVENT
BEGIN:VEVENT
DTSTART;TZID=Europe/London:20251002T103000
DTEND;TZID=Europe/London:20251002T120000
DTSTAMP:20260421T052014
CREATED:20250910T113641Z
LAST-MODIFIED:20250918T105804Z
UID:10005918-1759401000-1759406400@happydaysnurseries.com
SUMMARY:Open House! At Happy Days Treloweth
DESCRIPTION:🎉 Fortnightly Open House at Happy Days Treloweth 🎉 \n📍 Location: Happy Days Nursery\, Treloweth CP School\, Higher Broad Lane\, Illogan South\, Redruth\, TR15 3JL📞 Call: 01209 313 080📩 Email: treloweth@happydaysnurseries.com \nWhen: 10:30am – 12:00pm on the following Fridays:18th September2nd October16th October30th October \nPop in to explore our beautiful purpose-built nursery\, meet the friendly team\, and find out everything you need to know about joining Happy Days Treloweth. \n✨ What to expect:– A guided tour of our state-of-the-art facilities– Friendly conversations with our experienced nursery team– Information about funding options\, availability\, fees\, and the early years curriculum– A look at our nutritious menus and approach to wellbeing– Time to ask any questions you may have \nNo need to book – just pop in when it suits you!We look forward to welcoming you and your family. 🌟
URL:https://happydaysnurseries.com/event/happy-days-treloweth-open-house/2025-10-02/
LOCATION:Happy Days Nursery & Pre-School\, Treloweth\, Happy Days Nursery Treloweth CP School Higher Broad Lane Illogan South\, Redruth\, Cornwall\, TR15 3JL
CATEGORIES:Open Day
ATTACH;FMTTYPE=image/jpeg:https://happydaysnurseries.com/wp-content/uploads/2025/09/open-house-TRELOWETH.jpg
END:VEVENT
BEGIN:VEVENT
DTSTART;TZID=Europe/London:20251002T143000
DTEND;TZID=Europe/London:20251002T153000
DTSTAMP:20260421T052014
CREATED:20250815T075953Z
LAST-MODIFIED:20250815T080310Z
UID:10005341-1759415400-1759419000@happydaysnurseries.com
SUMMARY:Free Baby Massage Classes
DESCRIPTION:Join us at Happy Days Falmouth for our Free Baby Massage Classes for babies aged 12 weeks to 12 months (non-mobile). \nThis is a 6 week course\, feel free to join us! \nSession theme: Baby Massage –  6 week courseWhen: Thursday 11 September from 2:30-3:30pm running for 6 weeksWhere: Happy Days Nursery\, Falmouth \nThe benefits of Baby Massage can include: \n⭐ Improved communication between parents and baby⭐ Help to calm baby’s emotions and relieve stress⭐ Help babies develop an awareness of their body⭐ Enhance parent’s ability to develop and understand their baby’s needs⭐ Aid digestion and help relieve colic\, wind\, and constipation⭐ Strengthen the immune system⭐ Support bonding and attachment⭐ A great chance to meet other new parents in the area! \n\n\n\n \n Where: Happy Days Nursery\, Jubilee Road\, Penwerris\, Falmouth\, TR11 2BB Call: 01326 314 735 Email: falmouth@happydaysnurseries.com
URL:https://happydaysnurseries.com/event/falmouth-baby-massage-2/2025-10-02/
LOCATION:Bristol
CATEGORIES:Baby Massage
ATTACH;FMTTYPE=image/jpeg:https://happydaysnurseries.com/wp-content/uploads/2025/07/Facebook-Baby-Massage-Falmouth-1.jpg
END:VEVENT
END:VCALENDAR