BEGIN:VCALENDAR
VERSION:2.0
PRODID:-//Happy Days Nursery - ECPv6.15.20//NONSGML v1.0//EN
CALSCALE:GREGORIAN
METHOD:PUBLISH
X-WR-CALNAME:Happy Days Nursery
X-ORIGINAL-URL:https://happydaysnurseries.com
X-WR-CALDESC:Events for Happy Days Nursery
REFRESH-INTERVAL;VALUE=DURATION:PT1H
X-Robots-Tag:noindex
X-PUBLISHED-TTL:PT1H
BEGIN:VTIMEZONE
TZID:Europe/London
BEGIN:DAYLIGHT
TZOFFSETFROM:+0000
TZOFFSETTO:+0100
TZNAME:BST
DTSTART:20240331T010000
END:DAYLIGHT
BEGIN:STANDARD
TZOFFSETFROM:+0100
TZOFFSETTO:+0000
TZNAME:GMT
DTSTART:20241027T010000
END:STANDARD
BEGIN:DAYLIGHT
TZOFFSETFROM:+0000
TZOFFSETTO:+0100
TZNAME:BST
DTSTART:20250330T010000
END:DAYLIGHT
BEGIN:STANDARD
TZOFFSETFROM:+0100
TZOFFSETTO:+0000
TZNAME:GMT
DTSTART:20251026T010000
END:STANDARD
BEGIN:DAYLIGHT
TZOFFSETFROM:+0000
TZOFFSETTO:+0100
TZNAME:BST
DTSTART:20260329T010000
END:DAYLIGHT
BEGIN:STANDARD
TZOFFSETFROM:+0100
TZOFFSETTO:+0000
TZNAME:GMT
DTSTART:20261025T010000
END:STANDARD
END:VTIMEZONE
BEGIN:VEVENT
DTSTART;TZID=Europe/London:20251029T093000
DTEND;TZID=Europe/London:20251029T113000
DTSTAMP:20260419T202115
CREATED:20250516T141951Z
LAST-MODIFIED:20251020T100800Z
UID:10004664-1761730200-1761737400@happydaysnurseries.com
SUMMARY:Open House! Come and take a closer look at Happy Days Summercourt
DESCRIPTION:Open House! No need to book\, just pop in when you can. \nDate: Every Wednesday Time: 09:30 am – 11:30 am \nExplore our state-of-the-art facilities:– Tour our purpose-built nursery designed for your child’s learning and development.– Meet our friendly and dedicated nursery team. \nLearn everything you need to know:– Early years funding options and fees– Nursery opening hours and tour availability– Nutritious meal plans and delicious menus– Engaging early years curriculum– …and much more! \nThis is a fantastic opportunity for you to see our nursery and ask any questions you may have. We look forward to welcoming you and your family to Happy Days! \nNo need to book – just pop in when you can!  Where: Happy Days Nursery & Pre-School\, Chapel Town\, Summercourt\, Newquay\, Cornwall\, TR8 5YA   Call: 01872 510 247  Email: summercourt@happydaysnurseries.com \n\n\n \n \n 
URL:https://happydaysnurseries.com/event/happy-days-summercourt-open-house/2025-10-29/
LOCATION:Happy Days Nursery & Pre-School\, Summercourt\, Chapel Town\, Summercourt\, TR8 5YA
CATEGORIES:Open Day
ATTACH;FMTTYPE=image/jpeg:https://happydaysnurseries.com/wp-content/uploads/2024/08/open-house-Summercourt-scaled.jpg
END:VEVENT
BEGIN:VEVENT
DTSTART;TZID=Europe/London:20251029T093000
DTEND;TZID=Europe/London:20251029T113000
DTSTAMP:20260419T202115
CREATED:20251020T124255Z
LAST-MODIFIED:20251020T124457Z
UID:10005987-1761730200-1761737400@happydaysnurseries.com
SUMMARY:Open House at Teddy Bears
DESCRIPTION:Come and see our nursery in action! \nAre you considering a nursery place for your child? We warmly invite you to our Open House at Teddy Bears Nursery School\, a perfect opportunity to explore our setting and find out what makes us special. \nNo need to book\,  just pop in when you can! \nWhat to expect: \n-A tour of our purpose-built\, modern nursery\n-A chance to meet our experienced\, friendly team\n-Information about early years funding\, fees\, and availability\n-Insights into our engaging curriculum and daily routine\n-A look at our menus and approach to nutrition\n-And answers to all your questions! \nFor parents and carers of children aged 0–5 \n📍 Teddy Bears Nursery School\, 232 Southampton Road\, North Harbour\, Portsmouth\, PO6 4QD📅 Wednesday\, 29 October🕘 9:30am to 11.30am \nNo booking required \nWhether you’re ready to enrol or just exploring options\, we’d love to welcome you in and help you feel confident in your child’s next step.
URL:https://happydaysnurseries.com/event/teddy-bears-open-house-oct/
LOCATION:Teddy Bears\, Teddy Bears Nursery School\, 232 Southampton Road\, Portsmouth\, PO6 4QD\, Portsmouth\, PO6 4QD\, United Kingdom
CATEGORIES:Open Day
ATTACH;FMTTYPE=image/jpeg:https://happydaysnurseries.com/wp-content/uploads/2025/08/Teddy-bears-open-house-scaled.jpg
ORGANIZER;CN="Teddy Bears":MAILTO:teddybears@rjcare.co.uk
END:VEVENT
BEGIN:VEVENT
DTSTART;TZID=Europe/London:20251029T100000
DTEND;TZID=Europe/London:20251029T110000
DTSTAMP:20260419T202115
CREATED:20250903T150254Z
LAST-MODIFIED:20250903T151503Z
UID:10005728-1761732000-1761735600@happydaysnurseries.com
SUMMARY:Autumnal Stay & Play at The Hollies Day Nursery\, Cardiff
DESCRIPTION:🐲 Aros a Chwarae’r Hydref ym Meithrinfa Ddydd The Hollies\, Caerdydd\nRydym yn gyffrous i groesawu teuluoedd i’n sesiynau Aros a Chwarae am ddim yr hydref hwn! Dewch â’ch rhai bach (dan 4 oed) ac ymunwch â ni am weithgareddau tymhorol hwyliog wedi’u cynllunio i danio chwilfrydedd\, creadigrwydd a chysylltiad. \n🍂 Bydd pob sesiwn yn cynnwys cyfleoedd chwarae ar thema’r hydref\, gan roi cyfle i blant archwilio\, creu a dysgu trwy chwarae tra bod rhieni a gofalwyr yn ymlacio ac yn cysylltu ag eraill. \nPryd?\n📅 Dydd Mercher\, 17eg Medi – 29ain Hydref\n🕙 10am – 11am\n📍   The Hollies\, Caerdydd\nMae’r sesiynau hyn yn rhad ac am ddim ac ar agor i bob teulu â phlant dan 4 oed. \nPam dod draw?\n🍂 Archwiliwch weithgareddau hydrefol cyffrous gyda’ch gilydd\n🍂 Mwynhewch amser o safon gyda’ch plentyn mewn amgylchedd meithringar\n🍂 Cwrdd â rhieni a gofalwyr lleol eraill\n🍂 Gweld yn uniongyrchol yr awyrgylch cynnes a chroesawgar yn The Hollies \nAddas ar gyfer plant dan 4 oed. Mae lleoedd yn gyfyngedig\, felly archebwch eich lle am ddim heddiw a dathlwch y tymor gyda ni! \n\nAutumnal Stay & Play at The Hollies Day Nursery\, Cardiff\nWe’re excited to welcome families to our free Stay & Play sessions this autumn! Bring along your little ones (under 4s) and join us for fun\, seasonal activities designed to spark curiosity\, creativity\, and connection. \n🍂 Each session will include autumn themed play opportunities\, giving children the chance to explore\, create\, and learn through play while parents and carers relax and connect with others. \nWhen?\n📅 Wednesday\, 17th September – 29th October\n🕙 10am – 11am\n📍 The Hollies Day Nursery\, Cardiff \nThese sessions are completely free and open to all families with children under 4. \nWhy come along?\n🍂 Explore exciting autumnal activities together\n🍂 Enjoy quality time with your child in a nurturing environment\n🍂 Meet other local parents and carers\n🍂 See first-hand the warm and welcoming atmosphere at The Hollies \nSuitable for under 4s. Spaces are limited\, so book your free place today and celebrate the season with us!
URL:https://happydaysnurseries.com/event/free-stay-and-play-in-cardiff/2025-10-29/
LOCATION:The Hollies Daycare Nursery\, 9 Sanatorium\, Canton\, Cardiff\, CF11 8DG
CATEGORIES:Stay & Play
ATTACH;FMTTYPE=image/jpeg:https://happydaysnurseries.com/wp-content/uploads/2025/09/Autumnal-stay-and-play-hollies-scaled.jpg
ORGANIZER;CN="The Hollies Daycare":MAILTO:thehollies@happydaysnurseries.com
END:VEVENT
BEGIN:VEVENT
DTSTART;TZID=Europe/London:20251029T100000
DTEND;TZID=Europe/London:20251029T113000
DTSTAMP:20260419T202115
CREATED:20250916T132806Z
LAST-MODIFIED:20250916T132859Z
UID:10005937-1761732000-1761737400@happydaysnurseries.com
SUMMARY:FREE Halloween Stay and Play
DESCRIPTION:Come along for a spooktacular Stay & Play session at Happy Days Nursery\, Yeovil!With themed activities\, crafts\, and lots of Halloween fun\, it’s the perfect way for children of all ages to get into the spirit of the season. \nDetails:📅 Date: 29th October⏰ Time: 10.00 am – 11.30 am📍 Location: Happy Days Nursery & Pre-School\, 25 Forest Hill\, Yeovil\, Somerset\, BA20 2PG \nWhat to bring:Dress for fun (Halloween costumes welcome\, but optional!). \nSpaces are limited – secure your place today! \n📞 Call: 01935 471717📧 Email: yeovil@happydaysnurseries.com
URL:https://happydaysnurseries.com/event/yeovil-halloween-stay-and-play-25/
LOCATION:Happy Days Nursery & Pre-School\, Yeovil\, Happy Days Nursery & Pre-School\, 25 Forest Hill\, Yeovil\, BA20 2\, United Kingdom\, YEOVIL\, Please select a region\, state or province.\, BA20 2\, United Kingdom
CATEGORIES:Stay & Play
ATTACH;FMTTYPE=image/jpeg:https://happydaysnurseries.com/wp-content/uploads/2024/09/Stay-and-Play-droitwich-33.jpg
END:VEVENT
BEGIN:VEVENT
DTSTART;TZID=Europe/London:20251029T104500
DTEND;TZID=Europe/London:20251029T120000
DTSTAMP:20260419T202115
CREATED:20250613T121411Z
LAST-MODIFIED:20250905T143735Z
UID:10005890-1761734700-1761739200@happydaysnurseries.com
SUMMARY:Open House! Explore Happy Days Nursery & Pre-School\, Playbox\, Truro
DESCRIPTION:Discover our inspiring new spaces\, including the beautifully designed Baby Cabin in the Orchard – a calm and nurturing environment created especially for our youngest children. \nExplore our setting and grounds:⭐ Tour our purpose-built nursery\, thoughtfully designed for your child’s learning and development⭐ Visit the brand-new Baby Cabin in the Orchard⭐ Meet our friendly and dedicated nursery team \nLearn everything you need to know:✅  Early years funding options and fees✅  Nursery opening hours and tour availability✅  Nutritious meal plans and delicious menus✅  Engaging early years curriculum✅  …and much more! \nThis is a fantastic opportunity to see our new nursery\, explore the Baby Cabin\, and ask any questions you may have. We look forward to welcoming you and your family to Happy Days! \n📍 Where: Happy Days Nursery\, 9a Treyew Road\, Truro\, TR1 3AN📞 Call: 01872 222 571📧 Email: playbox@happydaysnurseries.com \n\n\n\n \n \n 
URL:https://happydaysnurseries.com/event/open-house-happy-days-nursery-playbox/2025-10-29/
LOCATION:Happy Days Nursery & Pre-School\, Playbox\, Truro\, 9a Treyew Road\, Truro\, TR1 3AN
CATEGORIES:Open Day
ATTACH;FMTTYPE=image/jpeg:https://happydaysnurseries.com/wp-content/uploads/2025/06/open-house-Playbox-scaled.jpg
END:VEVENT
BEGIN:VEVENT
DTSTART;TZID=Europe/London:20251029T140000
DTEND;TZID=Europe/London:20251029T150000
DTSTAMP:20260419T202115
CREATED:20250904T100451Z
LAST-MODIFIED:20250904T135309Z
UID:10005851-1761746400-1761750000@happydaysnurseries.com
SUMMARY:FREE Woodland Wonders Stay and Play- Penair
DESCRIPTION:Happy Days Penair are hosting FREE  Wednesday Woodland Wonders Stay and Play sessions! \n🗓 Starting-Wednesday 15th October⏰ Every- Wednesday for 4 weeks | 14:00 – 15:00📍 Where- Happy Days Nursery\, Penair School\, St Clements Hill\, Truro\, TR1 1TN \nLooking for a fun\, nature-inspired space to connect with other local parents while your baby explores and plays? Join us for our FREE Woodland Wonders Stay and Play sessions – designed especially for children aged 3-5! \n✨ What to expect: \nWoodland-themed activities for your little one \nA welcoming space to meet other parents \nExpert guidance from our experienced nursery team \nThese sessions are completely free\, but spaces are limited\, so book early to avoid disappointment! \n📞 Call us: 01872 264 568📧 Email: penair@happydaysnurseries.com \nCome along\, have fun\, and build connections in your local community. We can’t wait to meet you and your little one! 🌳💚 \n  \n\n 
URL:https://happydaysnurseries.com/event/free-woodland-wonders-stay-and-play-penair/2025-10-29/
LOCATION:Happy Days Nursery & Pre-School\, Penair\, Truro\, St Clements Hill\, Truro\, TR1 1TN
CATEGORIES:Stay & Play
ATTACH;FMTTYPE=image/jpeg:https://happydaysnurseries.com/wp-content/uploads/2025/09/Website-woodland-stay-and-play-penair-.jpg
END:VEVENT
END:VCALENDAR