BEGIN:VCALENDAR
VERSION:2.0
PRODID:-//Happy Days Nursery - ECPv6.15.20//NONSGML v1.0//EN
CALSCALE:GREGORIAN
METHOD:PUBLISH
X-ORIGINAL-URL:https://happydaysnurseries.com
X-WR-CALDESC:Events for Happy Days Nursery
REFRESH-INTERVAL;VALUE=DURATION:PT1H
X-Robots-Tag:noindex
X-PUBLISHED-TTL:PT1H
BEGIN:VTIMEZONE
TZID:Europe/London
BEGIN:DAYLIGHT
TZOFFSETFROM:+0000
TZOFFSETTO:+0100
TZNAME:BST
DTSTART:20240331T010000
END:DAYLIGHT
BEGIN:STANDARD
TZOFFSETFROM:+0100
TZOFFSETTO:+0000
TZNAME:GMT
DTSTART:20241027T010000
END:STANDARD
BEGIN:DAYLIGHT
TZOFFSETFROM:+0000
TZOFFSETTO:+0100
TZNAME:BST
DTSTART:20250330T010000
END:DAYLIGHT
BEGIN:STANDARD
TZOFFSETFROM:+0100
TZOFFSETTO:+0000
TZNAME:GMT
DTSTART:20251026T010000
END:STANDARD
BEGIN:DAYLIGHT
TZOFFSETFROM:+0000
TZOFFSETTO:+0100
TZNAME:BST
DTSTART:20260329T010000
END:DAYLIGHT
BEGIN:STANDARD
TZOFFSETFROM:+0100
TZOFFSETTO:+0000
TZNAME:GMT
DTSTART:20261025T010000
END:STANDARD
END:VTIMEZONE
BEGIN:VEVENT
DTSTART;TZID=Europe/London:20251106T143000
DTEND;TZID=Europe/London:20251218T153000
DTSTAMP:20260420T035213
CREATED:20250917T074451Z
LAST-MODIFIED:20250917T074706Z
UID:10005940-1762439400-1766071800@happydaysnurseries.com
SUMMARY:Free Baby Massage Course with Happy Days Truro City
DESCRIPTION:Join us at Happy Days Truro City for our Free Baby Massage Classes for babies aged 12 weeks to 12 months (non-mobile). \nThis is a 6 week course\, feel free to join us! \nSession theme: Baby Massage –  6 week courseWhen: Thursday 6th November from 2:30 pm to 3:30 pmWhere: Happy Days Nursery & Pre-School\, College Road\, Truro\, TR1 3XX \nThe benefits of Baby Massage can include: \n⭐ Improved communication between parents and baby⭐ Help to calm baby’s emotions and relieve stress⭐ Help babies develop an awareness of their body⭐ Enhance parent’s ability to develop and understand their baby’s needs⭐ Aid digestion and help relieve colic\, wind\, and constipation⭐ Strengthen the immune system⭐ Support bonding and attachment⭐ A great chance to meet other new parents in the area! \nBook early as places are limited  Where: Happy Days Nursery & Pre-School\, College Road\, Truro\, TR1 3XX  Call: 01872 261 519  Email: trurocity@happydaysnurseries.com \n\n\n \n \n 
URL:https://happydaysnurseries.com/event/free-baby-massage-classes-2/2025-11-06/
LOCATION:Happy Days Nursery & Pre-School\, Truro City\, College Road\, Truro\, TR1 3XX
CATEGORIES:Baby Massage
ATTACH;FMTTYPE=image/jpeg:https://happydaysnurseries.com/wp-content/uploads/2024/04/baby-massage-truro-city.jpg
END:VEVENT
BEGIN:VEVENT
DTSTART;TZID=Europe/London:20251218T093000
DTEND;TZID=Europe/London:20251218T123000
DTSTAMP:20260420T035213
CREATED:20251124T151841Z
LAST-MODIFIED:20251124T161014Z
UID:10006040-1766050200-1766061000@happydaysnurseries.com
SUMMARY:Book Your Boorley Green Nursery Tour Today!
DESCRIPTION:We are delighted to share that the build of our brand-new Happy Days Nursery & Pre-School in Boorley Green is progressing right on schedule. For the first time since construction began earlier this year\, we are able to open our doors and welcome families inside for an exclusive preview. \nThroughout December\, we will be hosting small-group tours of our fully furnished nursery\, including all age-group rooms and shared spaces. There are limited dates and times available\, so please book early to secure your place. \nThis is a wonderful opportunity to see the nursery nearing completion\, meet more of our dedicated team\, and have any questions you may have answered ahead of our official opening in January. \nSimply click the link below to choose your preferred tour slot. We can’t wait to welcome you! \n⭐ CLICK HERE TO BOOK YOUR DECEMBER TOUR TODAY  ⭐  \n 
URL:https://happydaysnurseries.com/event/nursery-tour-boorley-green/2025-12-18/
LOCATION:Happy Days Nursery & Pre-School\, Boorley Green\, Happy Days Nursery & Preschool\, Nairn Road\, Boorley Green\, Hampshire\, SO32 2SH\, United Kingdom
CATEGORIES:New Nursery Info Event
ATTACH;FMTTYPE=image/jpeg:https://happydaysnurseries.com/wp-content/uploads/2025/11/BG-nursery-tours-scaled.jpg
END:VEVENT
BEGIN:VEVENT
DTSTART;TZID=Europe/London:20251218T140000
DTEND;TZID=Europe/London:20251218T153000
DTSTAMP:20260420T035213
CREATED:20251117T154714Z
LAST-MODIFIED:20251118T163200Z
UID:10006004-1766066400-1766071800@happydaysnurseries.com
SUMMARY:FREE Christmas Card Making at Happy Days Yeovil!
DESCRIPTION:🎄 Join us for our FREE Christmas Card Making at Happy Days Yeovil! 🎄 \nNeed the prefect Christmas card? Why not make it with us at Happy Days Yeovil! \nAllow your little artists to showcase their skills and make the best gift for their friends and family. We look forward to seeing you there. \n📍 Where: Happy Days Nursery\, Yeovil\, BA20 2PG\n🗓 When: 2 pm – 3.30 pm Thursday 18th December \n👶 Ages: Under 5s\n📞 Call: 01935 471717\n📧 Email: yeovil@happydaysnurseries.com \nCome and enjoy some festive fun\, make new connections\, and see how children truly shine at Happy Days Yeovil!
URL:https://happydaysnurseries.com/event/free-christmas-card-making-at-happy-days-yeovil/
LOCATION:Happy Days Nursery & Pre-School\, Yeovil\, Happy Days Nursery & Pre-School\, 25 Forest Hill\, Yeovil\, BA20 2\, United Kingdom\, YEOVIL\, Please select a region\, state or province.\, BA20 2\, United Kingdom
CATEGORIES:Stay & Play
ATTACH;FMTTYPE=image/png:https://happydaysnurseries.com/wp-content/uploads/2025/11/Christmas-card-making-Yeovil.png
END:VEVENT
END:VCALENDAR