BEGIN:VCALENDAR
VERSION:2.0
PRODID:-//Happy Days Nursery - ECPv6.15.20//NONSGML v1.0//EN
CALSCALE:GREGORIAN
METHOD:PUBLISH
X-WR-CALNAME:Happy Days Nursery
X-ORIGINAL-URL:https://happydaysnurseries.com
X-WR-CALDESC:Events for Happy Days Nursery
REFRESH-INTERVAL;VALUE=DURATION:PT1H
X-Robots-Tag:noindex
X-PUBLISHED-TTL:PT1H
BEGIN:VTIMEZONE
TZID:Europe/London
BEGIN:DAYLIGHT
TZOFFSETFROM:+0000
TZOFFSETTO:+0100
TZNAME:BST
DTSTART:20230326T010000
END:DAYLIGHT
BEGIN:STANDARD
TZOFFSETFROM:+0100
TZOFFSETTO:+0000
TZNAME:GMT
DTSTART:20231029T010000
END:STANDARD
BEGIN:DAYLIGHT
TZOFFSETFROM:+0000
TZOFFSETTO:+0100
TZNAME:BST
DTSTART:20240331T010000
END:DAYLIGHT
BEGIN:STANDARD
TZOFFSETFROM:+0100
TZOFFSETTO:+0000
TZNAME:GMT
DTSTART:20241027T010000
END:STANDARD
BEGIN:DAYLIGHT
TZOFFSETFROM:+0000
TZOFFSETTO:+0100
TZNAME:BST
DTSTART:20250330T010000
END:DAYLIGHT
BEGIN:STANDARD
TZOFFSETFROM:+0100
TZOFFSETTO:+0000
TZNAME:GMT
DTSTART:20251026T010000
END:STANDARD
END:VTIMEZONE
BEGIN:VEVENT
DTSTART;TZID=Europe/London:20241001T100000
DTEND;TZID=Europe/London:20241001T110000
DTSTAMP:20260425T201132
CREATED:20240412T103903Z
LAST-MODIFIED:20240725T114805Z
UID:10003036-1727776800-1727780400@happydaysnurseries.com
SUMMARY:Free Baby Massage Course with Happy Days Truro City
DESCRIPTION:Join us at Happy Days Truro City for our Free Baby Massage Classes for babies up to the age of 12 months. This is a 6 week course\, feel free to join us! \nSession theme: Baby Massage –  6 week courseWhen: Tuesday 10 September from 2:00 pm to 3:00 pmWhere: Happy Days Nursery & Pre-School\, College Road\, Truro\, TR1 3XX \nThe benefits of Baby Massage can include: \n⭐ Improved communication between parents and baby⭐ Help to calm baby’s emotions and relieve stress⭐ Help babies develop an awareness of their body⭐ Enhance parent’s ability to develop and understand their baby’s needs⭐ Aid digestion and help relieve colic\, wind\, and constipation⭐ Strengthen the immune system⭐ Support bonding and attachment⭐ A great chance to meet other new parents in the area! \nBook early as places are limited  Where: Happy Days Nursery & Pre-School\, College Road\, Truro\, TR1 3XX  Call: 01872 261 519  Email: trurocity@happydaysnurseries.com \n\n\n \n \n 
URL:https://happydaysnurseries.com/event/free-baby-massage-course-truro-city/2024-10-01/
LOCATION:Happy Days Nursery & Pre-School\, Truro City\, College Road\, Truro\, TR1 3XX
CATEGORIES:Baby Massage
ATTACH;FMTTYPE=image/jpeg:https://happydaysnurseries.com/wp-content/uploads/2024/04/baby-massage-truro-city.jpg
END:VEVENT
BEGIN:VEVENT
DTSTART;TZID=Europe/London:20241007T100000
DTEND;TZID=Europe/London:20241007T110000
DTSTAMP:20260425T201132
CREATED:20240917T104543Z
LAST-MODIFIED:20240930T132601Z
UID:10003394-1728295200-1728298800@happydaysnurseries.com
SUMMARY:FULLY BOOKED: Free Baby Massage Course at Happy Days St Austell
DESCRIPTION:SORRY – THIS EVENT IS NOW FULLY BOOK – PLEASE LOOK OUT FOR FUTURE DATES \nJoin us at Happy Days Penrice\, St Austell for our Free Baby Massage Classes for babies up to the age of 12 months.  \nThis is a 6 week course taking place every Monday* from September 30\, feel free to join us on any/all sessions! *Please note\, there will be no session on Monday 28 October. \nSession theme: Baby MassageStart Date: Monday 30 September | 10am-11amWhere: Happy Days Nursery & Pre-School\, Penrice Hospital\, Porthpean Road\, St Austell\, PL26 6AA \nThe benefits of Baby Massage can include: \n⭐ Improved communication between parents and baby⭐ Help to calm baby’s emotions and relieve stress⭐ Help babies develop an awareness of their body⭐ Enhance parent’s ability to develop and understand their baby’s needs⭐ Aid digestion and help relieve colic\, wind\, and constipation⭐ Strengthen the immune system⭐ Support bonding and attachment⭐ A great chance to meet other new parents in the area! \nBook early as places are limited  Where: Happy Days Nursery & Pre-School\, Penrice Hospital\, Porthpean Road\, St Austell\, PL26 6AA  Call: 01726 711 88  Email: penrice@happydaysnurseries.com
URL:https://happydaysnurseries.com/event/free-baby-massage-course-happy-days-st-austell/2024-10-07/
LOCATION:Happy Days Nursery Penrice\, Happy Days Nursery Penrice Hospital Porthpean Road\, St Austell\, Cornwall\, PL26 6AA\, United Kingdom
CATEGORIES:Baby Massage
ATTACH;FMTTYPE=image/jpeg:https://happydaysnurseries.com/wp-content/uploads/2024/07/baby-massage-Penrice.jpg
END:VEVENT
BEGIN:VEVENT
DTSTART;TZID=Europe/London:20241008T100000
DTEND;TZID=Europe/London:20241008T110000
DTSTAMP:20260425T201132
CREATED:20240412T103903Z
LAST-MODIFIED:20240725T114805Z
UID:10003037-1728381600-1728385200@happydaysnurseries.com
SUMMARY:Free Baby Massage Course with Happy Days Truro City
DESCRIPTION:Join us at Happy Days Truro City for our Free Baby Massage Classes for babies up to the age of 12 months. This is a 6 week course\, feel free to join us! \nSession theme: Baby Massage –  6 week courseWhen: Tuesday 10 September from 2:00 pm to 3:00 pmWhere: Happy Days Nursery & Pre-School\, College Road\, Truro\, TR1 3XX \nThe benefits of Baby Massage can include: \n⭐ Improved communication between parents and baby⭐ Help to calm baby’s emotions and relieve stress⭐ Help babies develop an awareness of their body⭐ Enhance parent’s ability to develop and understand their baby’s needs⭐ Aid digestion and help relieve colic\, wind\, and constipation⭐ Strengthen the immune system⭐ Support bonding and attachment⭐ A great chance to meet other new parents in the area! \nBook early as places are limited  Where: Happy Days Nursery & Pre-School\, College Road\, Truro\, TR1 3XX  Call: 01872 261 519  Email: trurocity@happydaysnurseries.com \n\n\n \n \n 
URL:https://happydaysnurseries.com/event/free-baby-massage-course-truro-city/2024-10-08/
LOCATION:Happy Days Nursery & Pre-School\, Truro City\, College Road\, Truro\, TR1 3XX
CATEGORIES:Baby Massage
ATTACH;FMTTYPE=image/jpeg:https://happydaysnurseries.com/wp-content/uploads/2024/04/baby-massage-truro-city.jpg
END:VEVENT
BEGIN:VEVENT
DTSTART;TZID=Europe/London:20241011T140000
DTEND;TZID=Europe/London:20241011T150000
DTSTAMP:20260425T201132
CREATED:20241002T130123Z
LAST-MODIFIED:20241002T130124Z
UID:10003383-1728655200-1728658800@happydaysnurseries.com
SUMMARY:Free Baby Massage Course
DESCRIPTION:Join us at Happy Days Penair for our Free Baby Massage Classes for babies up to the age of 12 months. This is a 6 week course\, feel free to join us! \nSession theme: Baby MassageWhen: Friday 11\, 18\, 25 October 1\, 8\, 15 November from 2:00pm to 3:00pmWhere: Happy Days Nursery & Pre-School\, St Clements Hill\, Truro\, TR1 1TN \nThe benefits of Baby Massage can include: \n⭐ Improved communication between parents and baby⭐ Help to calm baby’s emotions and relieve stress⭐ Help babies develop an awareness of their body⭐ Enhance parent’s ability to develop and understand their baby’s needs⭐ Aid digestion and help relieve colic\, wind\, and constipation⭐ Strengthen the immune system⭐ Support bonding and attachment⭐ A great chance to meet other new parents in the area! \nBook early as places are limited  Where: Happy Days Nursery & Pre-School\, St Clements Hill\, Truro\, TR1 1TN  Call: 01872 510 247  Email: penair@happydaysnurseries.com \n\n\n \n \n 
URL:https://happydaysnurseries.com/event/free-baby-massage-course-penair-autumn-2/2024-10-11/
LOCATION:Happy Days Nursery & Pre-School\, Penair\, Truro\, St Clements Hill\, Truro\, TR1 1TN
CATEGORIES:Baby Massage
ATTACH;FMTTYPE=image/jpeg:https://happydaysnurseries.com/wp-content/uploads/2024/02/baby-massage-penair.jpg
END:VEVENT
BEGIN:VEVENT
DTSTART;TZID=Europe/London:20241014T100000
DTEND;TZID=Europe/London:20241014T110000
DTSTAMP:20260425T201132
CREATED:20240917T104543Z
LAST-MODIFIED:20240930T132601Z
UID:10003395-1728900000-1728903600@happydaysnurseries.com
SUMMARY:FULLY BOOKED: Free Baby Massage Course at Happy Days St Austell
DESCRIPTION:SORRY – THIS EVENT IS NOW FULLY BOOK – PLEASE LOOK OUT FOR FUTURE DATES \nJoin us at Happy Days Penrice\, St Austell for our Free Baby Massage Classes for babies up to the age of 12 months.  \nThis is a 6 week course taking place every Monday* from September 30\, feel free to join us on any/all sessions! *Please note\, there will be no session on Monday 28 October. \nSession theme: Baby MassageStart Date: Monday 30 September | 10am-11amWhere: Happy Days Nursery & Pre-School\, Penrice Hospital\, Porthpean Road\, St Austell\, PL26 6AA \nThe benefits of Baby Massage can include: \n⭐ Improved communication between parents and baby⭐ Help to calm baby’s emotions and relieve stress⭐ Help babies develop an awareness of their body⭐ Enhance parent’s ability to develop and understand their baby’s needs⭐ Aid digestion and help relieve colic\, wind\, and constipation⭐ Strengthen the immune system⭐ Support bonding and attachment⭐ A great chance to meet other new parents in the area! \nBook early as places are limited  Where: Happy Days Nursery & Pre-School\, Penrice Hospital\, Porthpean Road\, St Austell\, PL26 6AA  Call: 01726 711 88  Email: penrice@happydaysnurseries.com
URL:https://happydaysnurseries.com/event/free-baby-massage-course-happy-days-st-austell/2024-10-14/
LOCATION:Happy Days Nursery Penrice\, Happy Days Nursery Penrice Hospital Porthpean Road\, St Austell\, Cornwall\, PL26 6AA\, United Kingdom
CATEGORIES:Baby Massage
ATTACH;FMTTYPE=image/jpeg:https://happydaysnurseries.com/wp-content/uploads/2024/07/baby-massage-Penrice.jpg
END:VEVENT
BEGIN:VEVENT
DTSTART;TZID=Europe/London:20241015T100000
DTEND;TZID=Europe/London:20241015T110000
DTSTAMP:20260425T201132
CREATED:20240412T103903Z
LAST-MODIFIED:20240725T114805Z
UID:10003038-1728986400-1728990000@happydaysnurseries.com
SUMMARY:Free Baby Massage Course with Happy Days Truro City
DESCRIPTION:Join us at Happy Days Truro City for our Free Baby Massage Classes for babies up to the age of 12 months. This is a 6 week course\, feel free to join us! \nSession theme: Baby Massage –  6 week courseWhen: Tuesday 10 September from 2:00 pm to 3:00 pmWhere: Happy Days Nursery & Pre-School\, College Road\, Truro\, TR1 3XX \nThe benefits of Baby Massage can include: \n⭐ Improved communication between parents and baby⭐ Help to calm baby’s emotions and relieve stress⭐ Help babies develop an awareness of their body⭐ Enhance parent’s ability to develop and understand their baby’s needs⭐ Aid digestion and help relieve colic\, wind\, and constipation⭐ Strengthen the immune system⭐ Support bonding and attachment⭐ A great chance to meet other new parents in the area! \nBook early as places are limited  Where: Happy Days Nursery & Pre-School\, College Road\, Truro\, TR1 3XX  Call: 01872 261 519  Email: trurocity@happydaysnurseries.com \n\n\n \n \n 
URL:https://happydaysnurseries.com/event/free-baby-massage-course-truro-city/2024-10-15/
LOCATION:Happy Days Nursery & Pre-School\, Truro City\, College Road\, Truro\, TR1 3XX
CATEGORIES:Baby Massage
ATTACH;FMTTYPE=image/jpeg:https://happydaysnurseries.com/wp-content/uploads/2024/04/baby-massage-truro-city.jpg
END:VEVENT
BEGIN:VEVENT
DTSTART;TZID=Europe/London:20241015T101500
DTEND;TZID=Europe/London:20241015T111500
DTSTAMP:20260425T201132
CREATED:20240920T104359Z
LAST-MODIFIED:20240920T105507Z
UID:10003416-1728987300-1728990900@happydaysnurseries.com
SUMMARY:Free Baby Massage Course at Happy Days Playbox\, Truro
DESCRIPTION:Join us at Happy Days Playbox\, Truro for our Free Baby Massage Classes for babies up to the age of 12 months.  \nThis is a 5 week course taking place every Tuesday\, starting 15 October\, feel free to join us on any/all sessions!  \nSession theme: Baby MassageStart Date: Tuesday 15 October | 10:15am-11:15amWhere: Happy Days Nursery & Pre-School\, 9a Treyew Road\, Truro\, TR1 3AN \nThe benefits of Baby Massage can include: \n⭐ Improved communication between parents and baby⭐ Help to calm baby’s emotions and relieve stress⭐ Help babies develop an awareness of their body⭐ Enhance parent’s ability to develop and understand their baby’s needs⭐ Aid digestion and help relieve colic\, wind\, and constipation⭐ Strengthen the immune system⭐ Support bonding and attachment⭐ A great chance to meet other new parents in the area! \nBook early as places are limited  Where: Happy Days Nursery & Pre-School\, 9a Treyew Road\, Truro\, TR1 3AN  Call: 01872 222 571  Email: playbox@happydaysnurseries.com
URL:https://happydaysnurseries.com/event/free-baby-massage-course-happy-days-playbox-truro/2024-10-15/
LOCATION:Happy Days Nursery & Pre-School\, Playbox\, Truro\, 9a Treyew Road\, Truro\, TR1 3AN
CATEGORIES:Baby Massage
ATTACH;FMTTYPE=image/jpeg:https://happydaysnurseries.com/wp-content/uploads/2024/09/baby-massage-Playbox-scaled.jpg
END:VEVENT
BEGIN:VEVENT
DTSTART;TZID=Europe/London:20241018T140000
DTEND;TZID=Europe/London:20241018T150000
DTSTAMP:20260425T201132
CREATED:20241002T130123Z
LAST-MODIFIED:20241002T130124Z
UID:10003385-1729260000-1729263600@happydaysnurseries.com
SUMMARY:Free Baby Massage Course
DESCRIPTION:Join us at Happy Days Penair for our Free Baby Massage Classes for babies up to the age of 12 months. This is a 6 week course\, feel free to join us! \nSession theme: Baby MassageWhen: Friday 11\, 18\, 25 October 1\, 8\, 15 November from 2:00pm to 3:00pmWhere: Happy Days Nursery & Pre-School\, St Clements Hill\, Truro\, TR1 1TN \nThe benefits of Baby Massage can include: \n⭐ Improved communication between parents and baby⭐ Help to calm baby’s emotions and relieve stress⭐ Help babies develop an awareness of their body⭐ Enhance parent’s ability to develop and understand their baby’s needs⭐ Aid digestion and help relieve colic\, wind\, and constipation⭐ Strengthen the immune system⭐ Support bonding and attachment⭐ A great chance to meet other new parents in the area! \nBook early as places are limited  Where: Happy Days Nursery & Pre-School\, St Clements Hill\, Truro\, TR1 1TN  Call: 01872 510 247  Email: penair@happydaysnurseries.com \n\n\n \n \n 
URL:https://happydaysnurseries.com/event/free-baby-massage-course-penair-autumn-2/2024-10-18/
LOCATION:Happy Days Nursery & Pre-School\, Penair\, Truro\, St Clements Hill\, Truro\, TR1 1TN
CATEGORIES:Baby Massage
ATTACH;FMTTYPE=image/jpeg:https://happydaysnurseries.com/wp-content/uploads/2024/02/baby-massage-penair.jpg
END:VEVENT
BEGIN:VEVENT
DTSTART;TZID=Europe/London:20241021T100000
DTEND;TZID=Europe/London:20241021T110000
DTSTAMP:20260425T201132
CREATED:20240917T104543Z
LAST-MODIFIED:20240930T132601Z
UID:10003396-1729504800-1729508400@happydaysnurseries.com
SUMMARY:FULLY BOOKED: Free Baby Massage Course at Happy Days St Austell
DESCRIPTION:SORRY – THIS EVENT IS NOW FULLY BOOK – PLEASE LOOK OUT FOR FUTURE DATES \nJoin us at Happy Days Penrice\, St Austell for our Free Baby Massage Classes for babies up to the age of 12 months.  \nThis is a 6 week course taking place every Monday* from September 30\, feel free to join us on any/all sessions! *Please note\, there will be no session on Monday 28 October. \nSession theme: Baby MassageStart Date: Monday 30 September | 10am-11amWhere: Happy Days Nursery & Pre-School\, Penrice Hospital\, Porthpean Road\, St Austell\, PL26 6AA \nThe benefits of Baby Massage can include: \n⭐ Improved communication between parents and baby⭐ Help to calm baby’s emotions and relieve stress⭐ Help babies develop an awareness of their body⭐ Enhance parent’s ability to develop and understand their baby’s needs⭐ Aid digestion and help relieve colic\, wind\, and constipation⭐ Strengthen the immune system⭐ Support bonding and attachment⭐ A great chance to meet other new parents in the area! \nBook early as places are limited  Where: Happy Days Nursery & Pre-School\, Penrice Hospital\, Porthpean Road\, St Austell\, PL26 6AA  Call: 01726 711 88  Email: penrice@happydaysnurseries.com
URL:https://happydaysnurseries.com/event/free-baby-massage-course-happy-days-st-austell/2024-10-21/
LOCATION:Happy Days Nursery Penrice\, Happy Days Nursery Penrice Hospital Porthpean Road\, St Austell\, Cornwall\, PL26 6AA\, United Kingdom
CATEGORIES:Baby Massage
ATTACH;FMTTYPE=image/jpeg:https://happydaysnurseries.com/wp-content/uploads/2024/07/baby-massage-Penrice.jpg
END:VEVENT
BEGIN:VEVENT
DTSTART;TZID=Europe/London:20241022T101500
DTEND;TZID=Europe/London:20241022T111500
DTSTAMP:20260425T201132
CREATED:20240920T104359Z
LAST-MODIFIED:20240920T105507Z
UID:10003417-1729592100-1729595700@happydaysnurseries.com
SUMMARY:Free Baby Massage Course at Happy Days Playbox\, Truro
DESCRIPTION:Join us at Happy Days Playbox\, Truro for our Free Baby Massage Classes for babies up to the age of 12 months.  \nThis is a 5 week course taking place every Tuesday\, starting 15 October\, feel free to join us on any/all sessions!  \nSession theme: Baby MassageStart Date: Tuesday 15 October | 10:15am-11:15amWhere: Happy Days Nursery & Pre-School\, 9a Treyew Road\, Truro\, TR1 3AN \nThe benefits of Baby Massage can include: \n⭐ Improved communication between parents and baby⭐ Help to calm baby’s emotions and relieve stress⭐ Help babies develop an awareness of their body⭐ Enhance parent’s ability to develop and understand their baby’s needs⭐ Aid digestion and help relieve colic\, wind\, and constipation⭐ Strengthen the immune system⭐ Support bonding and attachment⭐ A great chance to meet other new parents in the area! \nBook early as places are limited  Where: Happy Days Nursery & Pre-School\, 9a Treyew Road\, Truro\, TR1 3AN  Call: 01872 222 571  Email: playbox@happydaysnurseries.com
URL:https://happydaysnurseries.com/event/free-baby-massage-course-happy-days-playbox-truro/2024-10-22/
LOCATION:Happy Days Nursery & Pre-School\, Playbox\, Truro\, 9a Treyew Road\, Truro\, TR1 3AN
CATEGORIES:Baby Massage
ATTACH;FMTTYPE=image/jpeg:https://happydaysnurseries.com/wp-content/uploads/2024/09/baby-massage-Playbox-scaled.jpg
END:VEVENT
BEGIN:VEVENT
DTSTART;TZID=Europe/London:20241025T140000
DTEND;TZID=Europe/London:20241025T150000
DTSTAMP:20260425T201132
CREATED:20241002T130123Z
LAST-MODIFIED:20241002T130124Z
UID:10003386-1729864800-1729868400@happydaysnurseries.com
SUMMARY:Free Baby Massage Course
DESCRIPTION:Join us at Happy Days Penair for our Free Baby Massage Classes for babies up to the age of 12 months. This is a 6 week course\, feel free to join us! \nSession theme: Baby MassageWhen: Friday 11\, 18\, 25 October 1\, 8\, 15 November from 2:00pm to 3:00pmWhere: Happy Days Nursery & Pre-School\, St Clements Hill\, Truro\, TR1 1TN \nThe benefits of Baby Massage can include: \n⭐ Improved communication between parents and baby⭐ Help to calm baby’s emotions and relieve stress⭐ Help babies develop an awareness of their body⭐ Enhance parent’s ability to develop and understand their baby’s needs⭐ Aid digestion and help relieve colic\, wind\, and constipation⭐ Strengthen the immune system⭐ Support bonding and attachment⭐ A great chance to meet other new parents in the area! \nBook early as places are limited  Where: Happy Days Nursery & Pre-School\, St Clements Hill\, Truro\, TR1 1TN  Call: 01872 510 247  Email: penair@happydaysnurseries.com \n\n\n \n \n 
URL:https://happydaysnurseries.com/event/free-baby-massage-course-penair-autumn-2/2024-10-25/
LOCATION:Happy Days Nursery & Pre-School\, Penair\, Truro\, St Clements Hill\, Truro\, TR1 1TN
CATEGORIES:Baby Massage
ATTACH;FMTTYPE=image/jpeg:https://happydaysnurseries.com/wp-content/uploads/2024/02/baby-massage-penair.jpg
END:VEVENT
BEGIN:VEVENT
DTSTART;TZID=Europe/London:20241029T101500
DTEND;TZID=Europe/London:20241029T111500
DTSTAMP:20260425T201132
CREATED:20240920T104359Z
LAST-MODIFIED:20240920T105507Z
UID:10003418-1730196900-1730200500@happydaysnurseries.com
SUMMARY:Free Baby Massage Course at Happy Days Playbox\, Truro
DESCRIPTION:Join us at Happy Days Playbox\, Truro for our Free Baby Massage Classes for babies up to the age of 12 months.  \nThis is a 5 week course taking place every Tuesday\, starting 15 October\, feel free to join us on any/all sessions!  \nSession theme: Baby MassageStart Date: Tuesday 15 October | 10:15am-11:15amWhere: Happy Days Nursery & Pre-School\, 9a Treyew Road\, Truro\, TR1 3AN \nThe benefits of Baby Massage can include: \n⭐ Improved communication between parents and baby⭐ Help to calm baby’s emotions and relieve stress⭐ Help babies develop an awareness of their body⭐ Enhance parent’s ability to develop and understand their baby’s needs⭐ Aid digestion and help relieve colic\, wind\, and constipation⭐ Strengthen the immune system⭐ Support bonding and attachment⭐ A great chance to meet other new parents in the area! \nBook early as places are limited  Where: Happy Days Nursery & Pre-School\, 9a Treyew Road\, Truro\, TR1 3AN  Call: 01872 222 571  Email: playbox@happydaysnurseries.com
URL:https://happydaysnurseries.com/event/free-baby-massage-course-happy-days-playbox-truro/2024-10-29/
LOCATION:Happy Days Nursery & Pre-School\, Playbox\, Truro\, 9a Treyew Road\, Truro\, TR1 3AN
CATEGORIES:Baby Massage
ATTACH;FMTTYPE=image/jpeg:https://happydaysnurseries.com/wp-content/uploads/2024/09/baby-massage-Playbox-scaled.jpg
END:VEVENT
END:VCALENDAR