BEGIN:VCALENDAR
VERSION:2.0
PRODID:-//Happy Days Nursery - ECPv6.15.20//NONSGML v1.0//EN
CALSCALE:GREGORIAN
METHOD:PUBLISH
X-ORIGINAL-URL:https://happydaysnurseries.com
X-WR-CALDESC:Events for Happy Days Nursery
REFRESH-INTERVAL;VALUE=DURATION:PT1H
X-Robots-Tag:noindex
X-PUBLISHED-TTL:PT1H
BEGIN:VTIMEZONE
TZID:Europe/London
BEGIN:DAYLIGHT
TZOFFSETFROM:+0000
TZOFFSETTO:+0100
TZNAME:BST
DTSTART:20230326T010000
END:DAYLIGHT
BEGIN:STANDARD
TZOFFSETFROM:+0100
TZOFFSETTO:+0000
TZNAME:GMT
DTSTART:20231029T010000
END:STANDARD
BEGIN:DAYLIGHT
TZOFFSETFROM:+0000
TZOFFSETTO:+0100
TZNAME:BST
DTSTART:20240331T010000
END:DAYLIGHT
BEGIN:STANDARD
TZOFFSETFROM:+0100
TZOFFSETTO:+0000
TZNAME:GMT
DTSTART:20241027T010000
END:STANDARD
BEGIN:DAYLIGHT
TZOFFSETFROM:+0000
TZOFFSETTO:+0100
TZNAME:BST
DTSTART:20250330T010000
END:DAYLIGHT
BEGIN:STANDARD
TZOFFSETFROM:+0100
TZOFFSETTO:+0000
TZNAME:GMT
DTSTART:20251026T010000
END:STANDARD
END:VTIMEZONE
BEGIN:VEVENT
DTSTART;TZID=Europe/London:20240904T101500
DTEND;TZID=Europe/London:20240904T111500
DTSTAMP:20260423T030408
CREATED:20240821T153248Z
LAST-MODIFIED:20240821T153605Z
UID:10003219-1725444900-1725448500@happydaysnurseries.com
SUMMARY:FREE 1 Hour First Aid Session for parents of babies
DESCRIPTION:Join us at The Hollies\, Cardiff for a FREE 1 Hour First Aid Session for parents of babies! \n\nWhen: Wednesday  4 September | 10.15am – 11.15am\nWhere: The Hollies\, 9 Sanatorium Road\, Canton\, Cardiff\, CF11 8DG\n \nThe class will be led by Nicky from Daisy First Aid and will cover:\n– Recovery position for a baby \n– CPR for a baby\n– Choking for a baby \n– Anaphylaxis \n– Febrile Convulsions (seizures)\n–  Spotting Meningitis and Sepsis\n \nPlease note this is an introductory course only and NOT a formal qualification\n \nBabies under the age of 12 months are welcome to attend classes with parent(s) as we are breastfeeding-friendly.\n \nPlease email to confirm your place as spaces are limited!\n \n Where: The Hollies\, 9 Sanatorium Road\, Canton\, Cardiff\, CF11 8DG\n\n Call: 02920 378 177 \n Email: hollies@happydaysnurseries.com
URL:https://happydaysnurseries.com/event/cardiff-baby-first-aid-class-2/
LOCATION:The Hollies Daycare Nursery\, 9 Sanatorium\, Canton\, Cardiff\, CF11 8DG
CATEGORIES:First Aid Session
ATTACH;FMTTYPE=image/jpeg:https://happydaysnurseries.com/wp-content/uploads/2024/08/Daisy-First-Aid-Hollies-1-scaled.jpg
END:VEVENT
BEGIN:VEVENT
DTSTART;TZID=Europe/London:20240819T100000
DTEND;TZID=Europe/London:20240819T110000
DTSTAMP:20260423T030408
CREATED:20240620T154832Z
LAST-MODIFIED:20240620T155401Z
UID:10002586-1724061600-1724065200@happydaysnurseries.com
SUMMARY:Free Baby First Aid Class: Build Confidence Caring for Your Little One (Over 1 Year) with Daisy First Aid
DESCRIPTION:Join us at Happy Days Nursery\, Poole for a FREE 1 Hour Session for parents of children aged 1 years and above.\n \n\n\nWhen: Monday 19 August | 10.00am – 11.00am\nWhere: Happy Days Nursery & Pre-School\, Beechbank Avenue\, Creekmoor\, Poole\, BH17 7FF\n \n\n\nThe class will be led by Kerry from Daisy First Aid and will cover:\n\nRecovery position for a one year old and above\nCPR for a one year old and above\nChoking for a one year old and above\nSpotting Meningitis and Sepsis\n\nPlease note this is an introductory course only and NOT a formal qualification\n \n\n\nBabies under the age of 12 months are welcome to attend classes with parent(s) as we are breastfeeding friendly.\n \n\n\nPlease email to confirm your place as spaces are limited!\n \n\n\n Where: Happy Days Nursery & Pre-School\, Beechbank Avenue\, Creekmoor\, Poole\, BH17 7FF\n Call: 01202 698 427\n Email: poole@happydaysnurseries.com
URL:https://happydaysnurseries.com/event/toddler-first-aid-class-poole/
LOCATION:Happy Days Nursery & Pre-School\, Poole\, Beechbank Avenue\, Creekmoor\, Poole\, BH17 7FF
CATEGORIES:First Aid Session
ATTACH;FMTTYPE=image/jpeg:https://happydaysnurseries.com/wp-content/uploads/2024/06/first-aid-Poole.jpg
END:VEVENT
BEGIN:VEVENT
DTSTART;TZID=Europe/London:20240812T100000
DTEND;TZID=Europe/London:20240812T110000
DTSTAMP:20260423T030408
CREATED:20240620T153658Z
LAST-MODIFIED:20240620T154630Z
UID:10002585-1723456800-1723460400@happydaysnurseries.com
SUMMARY:Free Baby First Aid Class: Build Confidence Caring for Your Little One (Under 1 Year) with Daisy First Aid
DESCRIPTION:Join us at Happy Days Nursery\, Poole for a FREE 1 Hour Session for parents of children aged 0-1 years.\n \n\n\nWhen: Monday 12 August | 10.00am – 11.00am\nWhere: Happy Days Nursery & Pre-School\, Beechbank Avenue\, Creekmoor\, Poole\, BH17 7FF\n \n\n\nThe class will be led by Kerry from Daisy First Aid and will cover:\n\nRecovery position for a baby \nCPR for a baby \nChoking for a baby \nSpotting Meningitis and Sepsis\n\nPlease note this is an introductory course only and NOT a formal qualification\n \n\n\nBabies under the age of 12 months are welcome to attend classes with parent(s) as we are breastfeeding friendly.\n \n\n\nPlease email to confirm your place as spaces are limited!\n \n\n\n Where: Happy Days Nursery & Pre-School\, Beechbank Avenue\, Creekmoor\, Poole\, BH17 7FF\n Call: 01202 698 427\n Email: poole@happydaysnurseries.com
URL:https://happydaysnurseries.com/event/baby-first-aid-class-poole/
LOCATION:Happy Days Nursery & Pre-School\, Poole\, Beechbank Avenue\, Creekmoor\, Poole\, BH17 7FF
CATEGORIES:First Aid Session
ATTACH;FMTTYPE=image/jpeg:https://happydaysnurseries.com/wp-content/uploads/2024/06/first-aid-Poole.jpg
END:VEVENT
BEGIN:VEVENT
DTSTART;TZID=Europe/London:20240719T140000
DTEND;TZID=Europe/London:20240719T150000
DTSTAMP:20260423T030408
CREATED:20240617T143509Z
LAST-MODIFIED:20240617T144630Z
UID:10002582-1721397600-1721401200@happydaysnurseries.com
SUMMARY:FREE Parent / Carer First Aid Class
DESCRIPTION:Join us at Happy Days Nursery\, Truro City for a FREE 1 Hour Session for parents of children aged 0-5 years.\n \n\n\nWhen: Friday 19 July | 2.00pm – 3.00pm\nWhere: Happy Days Nursery & Pre-School\, College Road\, Truro\, TR1 3XX\n \n\n\nThe class will be led by Jemma from Daisy First Aid and will cover:\n\nRecovery position for a baby & child\nCPR for a baby & child\nChoking for a baby & child\nSpotting Meningitis and Sepsis\n\n \nPlease note this is an introductory course only and NOT a formal qualification\n \n\n\nBabies under the age of 12 months are welcome to attend classes with parent(s) as we are breastfeeding friendly.\n \n\n\nPlease email to confirm your place as spaces are limited!\n \n\n\n Where: Happy Days Nursery & Pre-School\, College Road\, Truro\, TR1 3XX\n Call: 01872 261 519\n Email: trurocity@happydaysnurseries.com
URL:https://happydaysnurseries.com/event/truro-baby-first-aid-class-june/
LOCATION:Happy Days Nursery & Pre-School\, Truro City\, College Road\, Truro\, TR1 3XX
CATEGORIES:First Aid Session
ATTACH;FMTTYPE=image/jpeg:https://happydaysnurseries.com/wp-content/uploads/2024/05/first-aid-City.jpg
END:VEVENT
BEGIN:VEVENT
DTSTART;TZID=Europe/London:20240606T140000
DTEND;TZID=Europe/London:20240606T150000
DTSTAMP:20260423T030408
CREATED:20240509T095448Z
LAST-MODIFIED:20240509T112001Z
UID:10002387-1717682400-1717686000@happydaysnurseries.com
SUMMARY:FREE Parent / Carer First Aid Class
DESCRIPTION:Join us at Happy Days Nursery\, Truro City for a FREE 1 Hour Session for parents of children aged 0-5 years.\n \n\n\nWhen: Thursday  6 June | 2.00pm – 3.00pm\nWhere: Happy Days Nursery & Pre-School\, College Road\, Truro\, TR1 3XX\n \n\n\nThe class will be led by Jemma from Daisy First Aid and will cover:\n– Recovery position for a baby & child\n– CPR for a baby & child\n– Choking for a baby & child\n–  Spotting Meningitis and Sepsis\n \nPlease note this is an introductory course only and NOT a formal qualification\n \n\n\nBabies under the age of 12 months are welcome to attend classes with parent(s) as we are breastfeeding friendly.\n \n\n\nPlease email to confirm your place as spaces are limited!\n \n\n\n Where: Happy Days Nursery & Pre-School\, College Road\, Truro\, TR1 3XX\n Call: 01872 261 519\n Email: trurocity@happydaysnurseries.com
URL:https://happydaysnurseries.com/event/truro-baby-first-aid-class/
LOCATION:Happy Days Nursery & Pre-School\, Truro City\, College Road\, Truro\, TR1 3XX
CATEGORIES:First Aid Session
ATTACH;FMTTYPE=image/jpeg:https://happydaysnurseries.com/wp-content/uploads/2024/05/first-aid-City.jpg
END:VEVENT
END:VCALENDAR