BEGIN:VCALENDAR
VERSION:2.0
PRODID:-//Happy Days Nursery - ECPv6.15.20//NONSGML v1.0//EN
CALSCALE:GREGORIAN
METHOD:PUBLISH
X-WR-CALNAME:Happy Days Nursery
X-ORIGINAL-URL:https://happydaysnurseries.com
X-WR-CALDESC:Events for Happy Days Nursery
REFRESH-INTERVAL;VALUE=DURATION:PT1H
X-Robots-Tag:noindex
X-PUBLISHED-TTL:PT1H
BEGIN:VTIMEZONE
TZID:Europe/London
BEGIN:DAYLIGHT
TZOFFSETFROM:+0000
TZOFFSETTO:+0100
TZNAME:BST
DTSTART:20230326T010000
END:DAYLIGHT
BEGIN:STANDARD
TZOFFSETFROM:+0100
TZOFFSETTO:+0000
TZNAME:GMT
DTSTART:20231029T010000
END:STANDARD
BEGIN:DAYLIGHT
TZOFFSETFROM:+0000
TZOFFSETTO:+0100
TZNAME:BST
DTSTART:20240331T010000
END:DAYLIGHT
BEGIN:STANDARD
TZOFFSETFROM:+0100
TZOFFSETTO:+0000
TZNAME:GMT
DTSTART:20241027T010000
END:STANDARD
BEGIN:DAYLIGHT
TZOFFSETFROM:+0000
TZOFFSETTO:+0100
TZNAME:BST
DTSTART:20250330T010000
END:DAYLIGHT
BEGIN:STANDARD
TZOFFSETFROM:+0100
TZOFFSETTO:+0000
TZNAME:GMT
DTSTART:20251026T010000
END:STANDARD
END:VTIMEZONE
BEGIN:VEVENT
DTSTART;TZID=Europe/London:20240205T100000
DTEND;TZID=Europe/London:20240205T110000
DTSTAMP:20260424T063649
CREATED:20240131T141201Z
LAST-MODIFIED:20240214T112658Z
UID:10000006-1707127200-1707130800@happydaysnurseries.com
SUMMARY:Free Baby Stay & Play Sessions
DESCRIPTION:Join us every Monday from 10am to 11am for Baby Stay & Play\, there’s a different theme each week! \nThis week’s theme: The Great Outdoors!When: Monday 5 February from 10:00am to 11:00amWhere: Happy Days Nursery & Pre-School\, Woodland Way\, Yew Tree Village\, Droitwich WR9 7GP \nUp coming sessions and themes:Monday 12 February: Musical MadnessMonday 19 February: Animal AdventuresMonday 26 February: Space ExplorationBook early as places are limited  Where: Happy Days Nursery & Pre-School\, 9 Woodland Way\, Yew Tree Village\, Droitwich WR9 7GP  Call: 01905 590 500  Email: droitwich@happydaysnurseries.com \n\n\n \n \n 
URL:https://happydaysnurseries.com/event/free-stay-and-play-great-outdoors/
LOCATION:Happy Days Nursery & Pre-School\, Droitwich Spa\, 9 Woodland Way\, Yew Tree Village\, WR9 7GP
CATEGORIES:Stay & Play
ATTACH;FMTTYPE=image/jpeg:https://happydaysnurseries.com/wp-content/uploads/2024/01/Stay-and-Play-Droitwich-Event-scaled-e1706711156383.jpg
END:VEVENT
BEGIN:VEVENT
DTSTART;TZID=Europe/London:20240212T100000
DTEND;TZID=Europe/London:20240212T110000
DTSTAMP:20260424T063649
CREATED:20240131T142912Z
LAST-MODIFIED:20240209T100251Z
UID:10000007-1707732000-1707735600@happydaysnurseries.com
SUMMARY:Free Baby Stay & Play Sessions
DESCRIPTION:Join us every Monday from 10am to 11am for Baby Stay & Play\, there’s a different theme each week! \nThis week’s theme: Musical MadnessWhen: Monday 12 February from 10:00am to 11:00amWhere: Happy Days Nursery & Pre-School\, Woodland Way\, Yew Tree Village\, Droitwich WR9 7GP \nUp coming sessions and themes:Monday 19 February: Animal AdventuresMonday 26 February: Space ExplorationBook early as places are limited  Where: Happy Days Nursery & Pre-School\, 9 Woodland Way\, Yew Tree Village\, Droitwich WR9 7GP  Call: 01905 590 500  Email: droitwich@happydaysnurseries.com \n\n\n \n \n 
URL:https://happydaysnurseries.com/event/free-stay-play-muscial-madness/
LOCATION:Happy Days Nursery & Pre-School\, Droitwich Spa\, 9 Woodland Way\, Yew Tree Village\, WR9 7GP
CATEGORIES:Stay & Play
ATTACH;FMTTYPE=image/jpeg:https://happydaysnurseries.com/wp-content/uploads/2024/01/Stay-and-Play-Droitwich-Event-scaled-e1706711156383.jpg
END:VEVENT
BEGIN:VEVENT
DTSTART;TZID=Europe/London:20240213T100000
DTEND;TZID=Europe/London:20240213T130000
DTSTAMP:20260424T063649
CREATED:20240209T103646Z
LAST-MODIFIED:20240209T104937Z
UID:10000028-1707818400-1707829200@happydaysnurseries.com
SUMMARY:Pancake Pop Up Fun
DESCRIPTION:Calling all families in St Austell! \nJoin us at White River Place in St Austell for some pancake-tastic fun on Tuesday\, February 13th from 10am to 1pm. \nThe Happy Days team from Penrice will be there with fun activities for children under 5\, including some “flipping” awesome pancake making. \nThey’ll also be happy to chat about all things early years\, from the latest government funding to their innovative curriculum. \nSo why not head over and join the fun? \nWe hope to see you there! \n📅 When: Tuesday 13 February from 10:00am to 1:00pm  Where: White River Place\, St Austell\, Saint Austell PL25 5AZ  Call: 0800 783 3431   Email: penrice@happydaysnurseries.com \n\n\n \n \n 
URL:https://happydaysnurseries.com/event/pancake-pop-up-fun/
LOCATION:White River Place\, St Austell\, Cornwall\, PL25 5AZ
CATEGORIES:Stay & Play
ATTACH;FMTTYPE=image/jpeg:https://happydaysnurseries.com/wp-content/uploads/2024/02/Penrice-pop-up.jpg
END:VEVENT
BEGIN:VEVENT
DTSTART;TZID=Europe/London:20240213T140000
DTEND;TZID=Europe/London:20240213T150000
DTSTAMP:20260424T063649
CREATED:20240207T163312Z
LAST-MODIFIED:20240214T112629Z
UID:10000017-1707832800-1707836400@happydaysnurseries.com
SUMMARY:Free Baby Stay & Play Sessions
DESCRIPTION:Join us this Tuesday from 2pm to 3pm for Baby Stay & Play\, this week we’re all about Valentines Day! \nSession theme: Valentines FunWhen: Tuesday 13 February from 2:00pm to 3:00pmWhere: Happy Days Nursery & Pre-School\, Happy Days Nursery\, Elstree Way\, Swindon SN25 4YX \nThis is our last session\, but keep an eye out for more coming soon!Book early as places are limited  Where: Happy Days Nursery & Pre-School\, Abbeymeads Village Centre\, Elstree Way\, Swindon SN25 4YX  Call: 01793 748 315  Email: swindon@happydaysnurseries.com \n\n\n \n \n 
URL:https://happydaysnurseries.com/event/free-stay-play-valentines-fun/
LOCATION:Happy Days Nursery & Pre-School\, Thornbury\, 2 Cooper Road\, Thornbury\, Bristol\, BS35 3UP
CATEGORIES:Stay & Play
ATTACH;FMTTYPE=image/jpeg:https://happydaysnurseries.com/wp-content/uploads/2024/02/Stay-and-Play-Swindon-1.jpg
END:VEVENT
BEGIN:VEVENT
DTSTART;TZID=Europe/London:20240213T181500
DTEND;TZID=Europe/London:20240213T191500
DTSTAMP:20260424T063649
CREATED:20240131T135910Z
LAST-MODIFIED:20240214T112618Z
UID:10000005-1707848100-1707851700@happydaysnurseries.com
SUMMARY:Free Mindfulness Session for Happy Days Friends & Family
DESCRIPTION:Want some time out to unwind? Come along and experience free Mindfulness Session plus a cup of tea! \n\n\n \nWhen: Tuesday 13 February from 6:15pm to 7:15pmWhere: Happy Days Nursery & Pre-School 9a Treyew Road\, Truro\, TR1 3AN \nWhat are the benefits of Mindfulness? \n\n\n \nBeing mindful helps you: \n\n\n \n\npay attention better\n\n\n\nbe less distractible\n\n\n\nlearn more\n\n\n\nstay calm under stress\n\n\n\navoid getting too upset about things\n\n\n\nslow down instead of rush     \n\n\n\nlisten better to others·       \n\n\n\nbe more patient       \n\n\n\nget along better       \n\n\n\nfeel happier and enjoy things more\n\n \nPlease confirm your attendance to: playbox@happydaysnurseries.com \n  Where: Happy Days Nursery & Pre-School\, 9a Treyew\, Truro\, TR1 3AN  Call: 01872 222 571  Email: playbox@happydaysnurseries.com \n 
URL:https://happydaysnurseries.com/event/free-mindfulness-session-friends-family/
LOCATION:Happy Days Nursery & Pre-School\, Playbox\, Truro\, 9a Treyew Road\, Truro\, TR1 3AN
CATEGORIES:Stay & Play
ATTACH;FMTTYPE=image/jpeg:https://happydaysnurseries.com/wp-content/uploads/2024/01/Website-Mindfulness-Event-1-scaled-e1706709793735.jpg
END:VEVENT
BEGIN:VEVENT
DTSTART;TZID=Europe/London:20240216T100000
DTEND;TZID=Europe/London:20240216T110000
DTSTAMP:20260424T063649
CREATED:20240206T164236Z
LAST-MODIFIED:20240214T111910Z
UID:10000015-1708077600-1708081200@happydaysnurseries.com
SUMMARY:Free Stay & Play Sessions
DESCRIPTION:Join us for FREE Stay and Play for over 3’s at Happy Days\, Droitwich for 6 weeks!\n \nWhen: 16th February 10am-11amWhere: Happy Days\, Droitwich Spa\, Worcestershire\n \nThey’ll be a new and exciting theme each week…16 Feb | Let’s Get Messy23 Feb | Let’s Cook1 March | Let‘s Build8 March | Animals & Insects15 March | Storytime22 March | Let‘s Get Active\n \nThese sessions get booked up super fast so get in touch to confirm your place as quick as possible. Booking is essential!\n \n Where: Happy Days Nursery & Pre-School\, Woodland Way\, Yew Tree Village\, Droitwich Spa\, Worcestershire\, WR9 7GP Call: 01905 590500 Email: droitwich@happydaysnurseries.com\n\n\n \n \n 
URL:https://happydaysnurseries.com/event/free-stay-and-play-droitwich-nursery-1/
LOCATION:Happy Days Nursery & Pre-School\, Droitwich Spa\, 9 Woodland Way\, Yew Tree Village\, WR9 7GP
CATEGORIES:Stay & Play
ATTACH;FMTTYPE=image/jpeg:https://happydaysnurseries.com/wp-content/uploads/2024/02/Stay-and-Play-Droitwich-Event.jpg
END:VEVENT
BEGIN:VEVENT
DTSTART;TZID=Europe/London:20240219T100000
DTEND;TZID=Europe/London:20240219T110000
DTSTAMP:20260424T063649
CREATED:20240131T143515Z
LAST-MODIFIED:20240214T112045Z
UID:10000008-1708336800-1708340400@happydaysnurseries.com
SUMMARY:Free Baby Stay & Play Sessions
DESCRIPTION:Join us every Monday from 10am to 11am for Baby Stay & Play\, there’s a different theme each week! \nThis week’s theme: Animal AdventuresWhen: Monday 19 February from 10:00am to 11:00amWhere: Happy Days Nursery & Pre-School\, Woodland Way\, Yew Tree Village\, Droitwich WR9 7GP \nUp coming sessions and themes:Monday 26 February: Space ExplorationBook early as places are limited  Where: Happy Days Nursery & Pre-School\, 9 Woodland Way\, Yew Tree Village\, Droitwich WR9 7GP  Call: 01905 590 500  Email: droitwich@happydaysnurseries.com \n\n\n \n \n 
URL:https://happydaysnurseries.com/event/free-stay-and-play-animal-adventures/
LOCATION:Happy Days Nursery & Pre-School\, Droitwich Spa\, 9 Woodland Way\, Yew Tree Village\, WR9 7GP
CATEGORIES:Stay & Play
ATTACH;FMTTYPE=image/jpeg:https://happydaysnurseries.com/wp-content/uploads/2024/01/Stay-and-Play-Droitwich-Event-scaled-e1706711156383.jpg
END:VEVENT
BEGIN:VEVENT
DTSTART;TZID=Europe/London:20240220T100000
DTEND;TZID=Europe/London:20240220T110000
DTSTAMP:20260424T063649
CREATED:20240208T154312Z
LAST-MODIFIED:20240214T112056Z
UID:10000020-1708423200-1708426800@happydaysnurseries.com
SUMMARY:Free Baby Stay & Play Sessions
DESCRIPTION:Join us at The Verwood Hub on Tuesday  20 February from 10am to 11am for Baby Stay & Play. \nJoin our team for a free stay and play session for under 2’s.  \nThis week’s theme: Treasure BasketsWhen: Tuesday 20 February from 10:00am to 11:00amWhere: The Verwood Hub\, Brockway\, Verwood\, BH31 7QE \nUp coming sessions and themes:Tuesday 27 February: Sensory & Messy PlayTuesday 12 March: Singing & Rhyme Time!Tuesday 19 March: Let’s Move!  \nBook early as places are limited  Where: The Verwood Hub\, Brockway\, Verwood\, BH31 7QE  Call: 0800 783 3431   Email: verwood@happydaysnurseries.com \n\n\n \n \n 
URL:https://happydaysnurseries.com/event/free-stay-play-verwood-hub/
LOCATION:Happy Days Nursery & Pre-School\, c/o The Verwood Hub\, Brockway\, Verwood\, Dorset\, BH31 7QE
CATEGORIES:Stay & Play
ATTACH;FMTTYPE=image/jpeg:https://happydaysnurseries.com/wp-content/uploads/2024/02/Stay-and-Play-Swindon-3.jpg
END:VEVENT
BEGIN:VEVENT
DTSTART;TZID=Europe/London:20240220T181500
DTEND;TZID=Europe/London:20240220T191500
DTSTAMP:20260424T063649
CREATED:20240131T123042Z
LAST-MODIFIED:20240214T112303Z
UID:10000003-1708452900-1708456500@happydaysnurseries.com
SUMMARY:Free Mindfulness Session
DESCRIPTION:Want some time out to unwind? Come along and experience free Mindfulness Session plus a cup of tea! \n\n\n \nWhen: Tuesday 20 February from 6:15pm to 7:15pmWhere: Happy Days Nursery & Pre-School 9a Treyew Road\, Truro\, TR1 3AN \nWhat are the benefits of Mindfulness? \n\n\n \nBeing mindful helps you: \n\n\n \n\npay attention better\n\n\n\nbe less distractible\n\n\n\nlearn more\n\n\n\nstay calm under stress\n\n\n\navoid getting too upset about things\n\n\n\nslow down instead of rush     \n\n\n\nlisten better to others·       \n\n\n\nbe more patient       \n\n\n\nget along better       \n\n\n\nfeel happier and enjoy things more\n\n \nPlease confirm your attendance to: playbox@happydaysnurseries.com \n  Where: Happy Days Nursery & Pre-School\, 9a Treyew\, Truro\, TR1 3AN  Call: 01872 222 571  Email: playbox@happydaysnurseries.com \n 
URL:https://happydaysnurseries.com/event/free-mindfulness-session/
LOCATION:Happy Days Nursery & Pre-School\, Playbox\, Truro\, 9a Treyew Road\, Truro\, TR1 3AN
CATEGORIES:Stay & Play
ATTACH;FMTTYPE=image/jpeg:https://happydaysnurseries.com/wp-content/uploads/2024/01/Website-Mindfulness-Event-scaled-e1706704944884.jpg
END:VEVENT
BEGIN:VEVENT
DTSTART;TZID=Europe/London:20240223T100000
DTEND;TZID=Europe/London:20240223T110000
DTSTAMP:20260424T063649
CREATED:20240206T164327Z
LAST-MODIFIED:20240214T112316Z
UID:10000016-1708682400-1708686000@happydaysnurseries.com
SUMMARY:Free Stay & Play Sessions
DESCRIPTION:Join us for FREE Stay and Play for over 3’s at Happy Days\, Droitwich for 6 weeks!\n \nWhen: 16th February 10am-11amWhere: Happy Days\, Droitwich Spa\, Worcestershire\n \nThey’ll be a new and exciting theme each week…16 Feb | Let’s Get Messy23 Feb | Let’s Cook1 March | Let‘s Build8 March | Animals & Insects15 March | Storytime22 March | Let‘s Get Active\n \nThese sessions get booked up super fast so get in touch to confirm your place as quick as possible. Booking is essential!\n \n Where: Happy Days Nursery & Pre-School\, Woodland Way\, Yew Tree Village\, Droitwich Spa\, Worcestershire\, WR9 7GP Call: 01905 590500 Email: droitwich@happydaysnurseries.com\n\n\n \n \n 
URL:https://happydaysnurseries.com/event/free-stay-and-play-droitwich-nursery-4-copy/
LOCATION:Happy Days Nursery & Pre-School\, Droitwich Spa\, 9 Woodland Way\, Yew Tree Village\, WR9 7GP
CATEGORIES:Stay & Play
ATTACH;FMTTYPE=image/jpeg:https://happydaysnurseries.com/wp-content/uploads/2024/02/Stay-and-Play-Droitwich-Event.jpg
END:VEVENT
BEGIN:VEVENT
DTSTART;TZID=Europe/London:20240223T100000
DTEND;TZID=Europe/London:20240223T110000
DTSTAMP:20260424T063649
CREATED:20240219T111205Z
LAST-MODIFIED:20240219T113108Z
UID:10000031-1708682400-1708686000@happydaysnurseries.com
SUMMARY:Free Baby Stay & Play Session
DESCRIPTION:Join us at Happy Days Nursery\, Charlton Heights on the 23rd February from 10am to 11am for Arty Stay & Play. \nThis free Stay & Play for 2-3 year olds is the perfect bit of creative fun for you and your mini artist to enjoy. \nThese events are extremely popular so get booked in quick\, using the contact information below! \nStay & Play Theme: Mini ArtistsWhen: Friday 23 February from 10:00am to 11:00amWhere: Happy Days Nursery & Pre-School\, Chessel Drive\, Patchway\, Bristol\, BS34 5UZ \nBook early as places are limited  Where: Happy Days Nursery & Pre-School\, Chessel Drive\, Patchway\, Bristol\, BS34 5UZ  Call: 0117 379 0360  Email: charltonheights@happydaysnurseries.com \n\n\n \n \n 
URL:https://happydaysnurseries.com/event/free-stay-play-mini-artists-session/
LOCATION:Happy Days Nursery & Pre-School\, Charlton Heights\, Bristol\, BS34 5UZ\, Chessel Drive\, Patchway\, Bristol\, BS34 5UZ\, United Kingdom
CATEGORIES:Stay & Play
ATTACH;FMTTYPE=image/jpeg:https://happydaysnurseries.com/wp-content/uploads/2024/02/stay-and-play-charlton-1.jpg
END:VEVENT
BEGIN:VEVENT
DTSTART;TZID=Europe/London:20240226T100000
DTEND;TZID=Europe/London:20240226T110000
DTSTAMP:20260424T063649
CREATED:20240131T143758Z
LAST-MODIFIED:20240214T112327Z
UID:10000009-1708941600-1708945200@happydaysnurseries.com
SUMMARY:Free Baby Stay & Play Sessions
DESCRIPTION:Join us every Monday from 10am to 11am for Baby Stay & Play\, there’s a different theme each week! \nThis week’s theme: Space ExplorationWhen: Monday 26 February from 10:00am to 11:00amWhere: Happy Days Nursery & Pre-School\, Woodland Way\, Yew Tree Village\, Droitwich WR9 7GP \nUp coming sessions and themes:There are currently no more sessions planned – check back soon!Book early as places are limited  Where: Happy Days Nursery & Pre-School\, 9 Woodland Way\, Yew Tree Village\, Droitwich WR9 7GP  Call: 01905 590 500  Email: droitwich@happydaysnurseries.com \n\n\n \n \n 
URL:https://happydaysnurseries.com/event/free-stay-and-play-space-exploration/
LOCATION:Happy Days Nursery & Pre-School\, Droitwich Spa\, 9 Woodland Way\, Yew Tree Village\, WR9 7GP
CATEGORIES:Stay & Play
ATTACH;FMTTYPE=image/jpeg:https://happydaysnurseries.com/wp-content/uploads/2024/01/Stay-and-Play-Droitwich-Event-scaled-e1706711156383.jpg
END:VEVENT
BEGIN:VEVENT
DTSTART;TZID=Europe/London:20240226T143000
DTEND;TZID=Europe/London:20240226T153000
DTSTAMP:20260424T063649
CREATED:20240306T165122Z
LAST-MODIFIED:20240306T165440Z
UID:10002259-1708957800-1708961400@happydaysnurseries.com
SUMMARY:Free Baby Fun Sessions
DESCRIPTION:Bring your little one (up to 2 years) to Happy Days Summercourt for our weekly FREE Baby Fun sessions! \nCome along…. \n\nEngaging activities that stimulate your baby’s senses and development\nA chance to connect with other parents\nA fun and nurturing environment for your little one to thrive\n\nBook early as places are limited  Where: Happy Days Nursery & Pre-School\, Summercourt\, Near Newquay\, TR8 5YA  Call: 01872 510 247  Email: summercourt@happydaysnurseries.com \n\n\n \n \n 
URL:https://happydaysnurseries.com/event/free-baby-fun-session/
LOCATION:Happy Days Nursery & Pre-School\, Summercourt\, Chapel Town\, Summercourt\, TR8 5YA
CATEGORIES:Stay & Play
ATTACH;FMTTYPE=image/jpeg:https://happydaysnurseries.com/wp-content/uploads/2024/03/baby-fun-summercourt-1.jpg
END:VEVENT
BEGIN:VEVENT
DTSTART;TZID=Europe/London:20240227T100000
DTEND;TZID=Europe/London:20240227T110000
DTSTAMP:20260424T063649
CREATED:20240208T161947Z
LAST-MODIFIED:20240214T112927Z
UID:10000021-1709028000-1709031600@happydaysnurseries.com
SUMMARY:Free Baby Stay & Play Session
DESCRIPTION:Join us at The Verwood Hub on Tuesday  27 February from 10am to 11am for Baby Stay & Play. \nJoin our team for a free stay and play session for under 2’s.  \nThis week’s theme: Sensory and Messy PplayWhen: Tuesday 27 February from 10:00am to 11:00amWhere: The Verwood Hub\, Brockway\, Verwood\, BH31 7QE \nUp coming sessions and themes:Tuesday 12 March: Singing & Rhyme Time!Tuesday 19 March: Let’s Move!  \nBook early as places are limited  Where: The Verwood Hub\, Brockway\, Verwood\, BH31 7QE  Call: 0800 783 3431   Email: verwood@happydaysnurseries.com \n\n\n \n \n 
URL:https://happydaysnurseries.com/event/free-sensory-stay-play-verwood-hub/
LOCATION:Happy Days Nursery & Pre-School\, c/o The Verwood Hub\, Brockway\, Verwood\, Dorset\, BH31 7QE
CATEGORIES:Stay & Play
ATTACH;FMTTYPE=image/jpeg:https://happydaysnurseries.com/wp-content/uploads/2024/02/Stay-and-Play-Swindon-3.jpg
END:VEVENT
END:VCALENDAR