BEGIN:VCALENDAR
VERSION:2.0
PRODID:-//Happy Days Nursery - ECPv6.15.20//NONSGML v1.0//EN
CALSCALE:GREGORIAN
METHOD:PUBLISH
X-ORIGINAL-URL:https://happydaysnurseries.com
X-WR-CALDESC:Events for Happy Days Nursery
REFRESH-INTERVAL;VALUE=DURATION:PT1H
X-Robots-Tag:noindex
X-PUBLISHED-TTL:PT1H
BEGIN:VTIMEZONE
TZID:Europe/London
BEGIN:DAYLIGHT
TZOFFSETFROM:+0000
TZOFFSETTO:+0100
TZNAME:BST
DTSTART:20230326T010000
END:DAYLIGHT
BEGIN:STANDARD
TZOFFSETFROM:+0100
TZOFFSETTO:+0000
TZNAME:GMT
DTSTART:20231029T010000
END:STANDARD
BEGIN:DAYLIGHT
TZOFFSETFROM:+0000
TZOFFSETTO:+0100
TZNAME:BST
DTSTART:20240331T010000
END:DAYLIGHT
BEGIN:STANDARD
TZOFFSETFROM:+0100
TZOFFSETTO:+0000
TZNAME:GMT
DTSTART:20241027T010000
END:STANDARD
BEGIN:DAYLIGHT
TZOFFSETFROM:+0000
TZOFFSETTO:+0100
TZNAME:BST
DTSTART:20250330T010000
END:DAYLIGHT
BEGIN:STANDARD
TZOFFSETFROM:+0100
TZOFFSETTO:+0000
TZNAME:GMT
DTSTART:20251026T010000
END:STANDARD
END:VTIMEZONE
BEGIN:VEVENT
DTSTART;TZID=Europe/London:20240820T100000
DTEND;TZID=Europe/London:20240820T110000
DTSTAMP:20260426T045000
CREATED:20240725T114202Z
LAST-MODIFIED:20240730T094333Z
UID:10003103-1724148000-1724151600@happydaysnurseries.com
SUMMARY:Discover the Joy of Play at Our Free Under 2s Event
DESCRIPTION:Join us for a fun-filled morning at The Hollies Day Nursery\, Canton\, Cardiff. \nJoin us every Tuesday throughout August. \nDate: Tuesday\, 6\, 13\, 20 and 27 AugustTime: 10:00 am – 11:00 am \nLooking for fun activities to do with your under-2? Join us for a free Stay and Play at The Hollies! Parents\, carers\, and grandparents are welcome to join in the fun. \n\nThis is a fantastic opportunity for you to see our nursery and ask any questions you may have. We look forward to welcoming you and your family to The Hollies! Rydym yn edrych ymlaen i groesawu chi a’ch teulu yn y Hollies! \n📍 Where: The Hollies\, 9 Sanatorium Road\, Canton\, Cardiff\, CF11 8DG📞 Call: 02920 378 177📧 Email: hollies@happydaysnurseries.com \n\n\n \n \n 
URL:https://happydaysnurseries.com/event/creative-stay-play-u2-cardiff/2024-08-20/
LOCATION:The Hollies Daycare Nursery\, 9 Sanatorium\, Canton\, Cardiff\, CF11 8DG
CATEGORIES:Stay & Play
ATTACH;FMTTYPE=image/jpeg:https://happydaysnurseries.com/wp-content/uploads/2024/07/sensory-city-1.jpg
END:VEVENT
BEGIN:VEVENT
DTSTART;TZID=Europe/London:20240820T143000
DTEND;TZID=Europe/London:20240820T153000
DTSTAMP:20260426T045000
CREATED:20240724T115026Z
LAST-MODIFIED:20240813T132233Z
UID:10002956-1724164200-1724167800@happydaysnurseries.com
SUMMARY:STEM Fun with Happy Days Nursery & Pre-School\, Verwood!
DESCRIPTION:STEM = Science\, Technology\, Engineering\, Maths \nJoin us for an afternoon of hands-on STEM learning! Our Stay and Play session is designed to spark your child’s curiosity and creativity. With exciting experiments and interactive activities\, your child (and you!) will have a blast while developing essential skills. \nDate: Tuesday\, 20 AugustTime: 02:30 pm – 03:30 pm \nChildren think like scientists and learn by exploring\, observing\, and figuring out the way things work by experimenting with the world around them. At Happy Days we encourage the children to be inquisitive and ambitions thinkers by having fun exploring and investigating. \nThis is a fantastic opportunity for you to see our new nursery and ask any questions you may have. We look forward to welcoming you and your family to Happy Days! \n\n  Where: Happy Days Nursery & Pre-School\, 19 Church Hill\, Verwood\, BH31 6HT  Call: 01202 806004  Email: verwood@happydaysnurseries.com \n\n\n \n \n 
URL:https://happydaysnurseries.com/event/stem-fun-happy-days-nursery-verwood/
LOCATION:Happy Days Nursery & Pre-School\, Verwood\, 19 Church Hill\, Verwood\, Dorset\, BH31 6HT
CATEGORIES:Stay & Play
ATTACH;FMTTYPE=image/jpeg:https://happydaysnurseries.com/wp-content/uploads/2024/07/Verwood-STEM-o2s-1-scaled.jpg
END:VEVENT
END:VCALENDAR