BEGIN:VCALENDAR
VERSION:2.0
PRODID:-//Happy Days Nursery - ECPv6.15.20//NONSGML v1.0//EN
CALSCALE:GREGORIAN
METHOD:PUBLISH
X-WR-CALNAME:Happy Days Nursery
X-ORIGINAL-URL:https://happydaysnurseries.com
X-WR-CALDESC:Events for Happy Days Nursery
REFRESH-INTERVAL;VALUE=DURATION:PT1H
X-Robots-Tag:noindex
X-PUBLISHED-TTL:PT1H
BEGIN:VTIMEZONE
TZID:Europe/London
BEGIN:DAYLIGHT
TZOFFSETFROM:+0000
TZOFFSETTO:+0100
TZNAME:BST
DTSTART:20230326T010000
END:DAYLIGHT
BEGIN:STANDARD
TZOFFSETFROM:+0100
TZOFFSETTO:+0000
TZNAME:GMT
DTSTART:20231029T010000
END:STANDARD
BEGIN:DAYLIGHT
TZOFFSETFROM:+0000
TZOFFSETTO:+0100
TZNAME:BST
DTSTART:20240331T010000
END:DAYLIGHT
BEGIN:STANDARD
TZOFFSETFROM:+0100
TZOFFSETTO:+0000
TZNAME:GMT
DTSTART:20241027T010000
END:STANDARD
BEGIN:DAYLIGHT
TZOFFSETFROM:+0000
TZOFFSETTO:+0100
TZNAME:BST
DTSTART:20250330T010000
END:DAYLIGHT
BEGIN:STANDARD
TZOFFSETFROM:+0100
TZOFFSETTO:+0000
TZNAME:GMT
DTSTART:20251026T010000
END:STANDARD
END:VTIMEZONE
BEGIN:VEVENT
DTSTART;TZID=Europe/London:20241212T140000
DTEND;TZID=Europe/London:20241212T173000
DTSTAMP:20260425T185313
CREATED:20240919T153723Z
LAST-MODIFIED:20240919T154901Z
UID:10003407-1734012000-1734024600@happydaysnurseries.com
SUMMARY:Ho Ho Ho! Join the Christmas Fun at Happy Days Truro City
DESCRIPTION:We’re spreading festive cheer with a fun-filled Christmas event open to children aged 3 months to 4 years! Enjoy a fun-filled afternoon packed with festive activities\, delicious treats\, and a special guest! \nWhen: Thursday\, 12 December 2024Time: 2.00pm till 5.30pm \nHere’s what’s in store: \n\nFestive Fun: Games\, crafts\, and activities to get everyone in the Christmas spirit!\nTea Party with Parents at 3pm: Parents are welcome to join us for a delightful tea party at 3pm\, a chance to relax and mingle while the children play.\nMeet Father Christmas from 4pm! The jolly man himself will be dropping by between 4pm and 5pm for photos and Christmas cheer!\n\nThis event is open to everyone! Whether your child attends Happy Days or not\, come celebrate with us.  \n 📍  Where: Happy Days Nursery & Pre-School\, College Road\, Truro\, TR1 3XX ☎  Call: 01872 261 519📩 Email: trurocity@happydaysnurseries.com \n\n\n \n \n 
URL:https://happydaysnurseries.com/event/christmas-open-afternoon-truro-city/
LOCATION:Happy Days Nursery & Pre-School\, Truro City\, College Road\, Truro\, TR1 3XX
CATEGORIES:Stay & Play
ATTACH;FMTTYPE=image/jpeg:https://happydaysnurseries.com/wp-content/uploads/2024/09/Stay-and-Play-Truro-City-1-1.jpg
END:VEVENT
BEGIN:VEVENT
DTSTART;TZID=Europe/London:20241212T143000
DTEND;TZID=Europe/London:20241212T153000
DTSTAMP:20260425T185313
CREATED:20240917T111620Z
LAST-MODIFIED:20240917T111834Z
UID:10003399-1734013800-1734017400@happydaysnurseries.com
SUMMARY:FREE Festive Stay & Play
DESCRIPTION:Happy Days at Longhedge\, Salisbury are hosting a FREE Festive Craft Stay and Play for 0-2 years. \nWhere: Happy Days Nursery\, Longhedge\, SalisburyWhen:  12th December | 2.30-3.30pm – please book your spot \nThis is a fantastic chance to:– Meet other local parents and connect while your child enjoys fun activities.– Let your child explore engaging experiences prepared by our experienced nursery practitioners.– Since you’re in the nursery\, why not ask about the latest government financial support for childcare costs – the team will be pleased to help! \nDon’t miss out on this opportunity to have some fun and build connections in your community. Book early as places are limited! \n📍 Where: Happy Days Nursery\, Rhodes Moorhouse Way\, Longhedge Village\, Salisbury\, SP4 6SA📞 Call: 01722 510 009📧 Email: salisbury@happydaysnurseries.com
URL:https://happydaysnurseries.com/event/stay-play-salisbury-festive/
LOCATION:Happy Days Nursery & Pre-School\, Salisbury\, Rhodes Moorhouse Way\, Longhedge\, Salisbury\, SP4 6SA\, United Kingdom
CATEGORIES:Stay & Play
ATTACH;FMTTYPE=image/jpeg:https://happydaysnurseries.com/wp-content/uploads/2024/09/Stay-and-Play-droitwich-36.jpg
END:VEVENT
END:VCALENDAR