BEGIN:VCALENDAR
VERSION:2.0
PRODID:-//Happy Days Nursery - ECPv6.15.20//NONSGML v1.0//EN
CALSCALE:GREGORIAN
METHOD:PUBLISH
X-WR-CALNAME:Happy Days Nursery
X-ORIGINAL-URL:https://happydaysnurseries.com
X-WR-CALDESC:Events for Happy Days Nursery
REFRESH-INTERVAL;VALUE=DURATION:PT1H
X-Robots-Tag:noindex
X-PUBLISHED-TTL:PT1H
BEGIN:VTIMEZONE
TZID:Europe/London
BEGIN:DAYLIGHT
TZOFFSETFROM:+0000
TZOFFSETTO:+0100
TZNAME:BST
DTSTART:20230326T010000
END:DAYLIGHT
BEGIN:STANDARD
TZOFFSETFROM:+0100
TZOFFSETTO:+0000
TZNAME:GMT
DTSTART:20231029T010000
END:STANDARD
BEGIN:DAYLIGHT
TZOFFSETFROM:+0000
TZOFFSETTO:+0100
TZNAME:BST
DTSTART:20240331T010000
END:DAYLIGHT
BEGIN:STANDARD
TZOFFSETFROM:+0100
TZOFFSETTO:+0000
TZNAME:GMT
DTSTART:20241027T010000
END:STANDARD
BEGIN:DAYLIGHT
TZOFFSETFROM:+0000
TZOFFSETTO:+0100
TZNAME:BST
DTSTART:20250330T010000
END:DAYLIGHT
BEGIN:STANDARD
TZOFFSETFROM:+0100
TZOFFSETTO:+0000
TZNAME:GMT
DTSTART:20251026T010000
END:STANDARD
END:VTIMEZONE
BEGIN:VEVENT
DTSTART;TZID=Europe/London:20240304T131500
DTEND;TZID=Europe/London:20240304T141500
DTSTAMP:20260423T172102
CREATED:20240219T130734Z
LAST-MODIFIED:20240219T131657Z
UID:10000041-1709558100-1709561700@happydaysnurseries.com
SUMMARY:Free Baby Massage Course
DESCRIPTION:Join us at Happy Days Summercourt for our Free Baby Massage Classes for babies up to the age of 12 months. This is week 2 of a 5 week course\, feel free to join us! \nSession theme: Baby MassageWhen: Monday 4 March from 1:15pm to 2:15pmWhere: Happy Days Nursery & Pre-School\, Happy Days Nursery\, Summercourt\, Near Newquay\, TR8 5YA \nThe benefits of Baby Massage can include: \n⭐ Improved communication between parents and baby⭐ Help to calm baby’s emotions and relieve stress⭐ Help babies develop an awareness of their body⭐ Enhance parent’s ability to develop and understand their baby’s needs⭐ Aid digestion and help relieve colic\, wind\, and constipation⭐ Strengthen the immune system⭐ Support bonding and attachment⭐ A great chance to meet other new parents in the area! \nBook early as places are limited  Where: Happy Days Nursery & Pre-School\, Summercourt\, Near Newquay\, TR8 5YA  Call: 01872 510 247  Email: summercourt@happydaysnurseries.com \n\n\n \n \n 
URL:https://happydaysnurseries.com/event/free-baby-massage-course-wk2-2/
LOCATION:Happy Days Nursery & Pre-School\, Summercourt\, Chapel Town\, Summercourt\, TR8 5YA
CATEGORIES:Baby Massage
ATTACH;FMTTYPE=image/jpeg:https://happydaysnurseries.com/wp-content/uploads/2024/02/baby-massage-summercourt.jpg
END:VEVENT
BEGIN:VEVENT
DTSTART;TZID=Europe/London:20240305T100000
DTEND;TZID=Europe/London:20240305T110000
DTSTAMP:20260423T172102
CREATED:20240219T123742Z
LAST-MODIFIED:20240219T124135Z
UID:10000035-1709632800-1709636400@happydaysnurseries.com
SUMMARY:Free Baby Massage Course
DESCRIPTION:Join us at Happy Days Swindon for our Free Baby Massage Classes for babies up to the age of 12 months. This is week 3 of a 6 week course\, feel free to join us! \nSession theme: Baby MassageWhen: Tuesday 5 March from 10:00am to 11:00amWhere: Happy Days Nursery & Pre-School\, Happy Days Nursery\, Elstree Way\, Swindon SN25 4YX \nThe benefits of Baby Massage can include: \n⭐ Improved communication between parents and baby⭐ Help to calm baby’s emotions and relieve stress⭐ Help babies develop an awareness of their body⭐ Enhance parent’s ability to develop and understand their baby’s needs⭐ Aid digestion and help relieve colic\, wind and constipation⭐ Strengthen the immune system⭐ Support bonding and attachment⭐ A great chance to meet other new parents in the area! \nBook early as places are limited  Where: Happy Days Nursery & Pre-School\, Abbeymeads Village Centre\, Elstree Way\, Swindon SN25 4YX  Call: 01793 748 315  Email: swindon@happydaysnurseries.com \n\n\n \n \n 
URL:https://happydaysnurseries.com/event/free-baby-massage-course-wk3/
LOCATION:Happy Days Nursery & Pre-School\, Swindon\, Abbeymeads Village Centre\, Elstree Way\, Swindon\, SN25 4YX
CATEGORIES:Baby Massage
ATTACH;FMTTYPE=image/jpeg:https://happydaysnurseries.com/wp-content/uploads/2024/02/baby-massage.jpg
END:VEVENT
BEGIN:VEVENT
DTSTART;TZID=Europe/London:20240305T140000
DTEND;TZID=Europe/London:20240305T150000
DTSTAMP:20260423T172102
CREATED:20240219T133002Z
LAST-MODIFIED:20240219T133758Z
UID:10000046-1709647200-1709650800@happydaysnurseries.com
SUMMARY:Free Baby Massage Course
DESCRIPTION:Join us at Happy Days Penair for our Free Baby Massage Classes for babies up to the age of 12 months. This is week 2 of a 6 week course\, feel free to join us! \nSession theme: Baby MassageWhen: Tuesday 5 March from 2:00pm to 3:00pmWhere: Happy Days Nursery & Pre-School\, St Clements Hill\, Truro\, TR1 1TN \nThe benefits of Baby Massage can include: \n⭐ Improved communication between parents and baby⭐ Help to calm baby’s emotions and relieve stress⭐ Help babies develop an awareness of their body⭐ Enhance parent’s ability to develop and understand their baby’s needs⭐ Aid digestion and help relieve colic\, wind\, and constipation⭐ Strengthen the immune system⭐ Support bonding and attachment⭐ A great chance to meet other new parents in the area! \nBook early as places are limited  Where: Happy Days Nursery & Pre-School\, St Clements Hill\, Truro\, TR1 1TN  Call: 01872 510 247  Email: penair@happydaysnurseries.com \n\n\n \n \n 
URL:https://happydaysnurseries.com/event/free-baby-massage-course-penair-wk-2/
LOCATION:Happy Days Nursery & Pre-School\, Penair\, Truro\, St Clements Hill\, Truro\, TR1 1TN
CATEGORIES:Baby Massage
ATTACH;FMTTYPE=image/jpeg:https://happydaysnurseries.com/wp-content/uploads/2024/02/baby-massage-penair.jpg
END:VEVENT
BEGIN:VEVENT
DTSTART;TZID=Europe/London:20240311T131500
DTEND;TZID=Europe/London:20240311T141500
DTSTAMP:20260423T172102
CREATED:20240219T131003Z
LAST-MODIFIED:20240219T131635Z
UID:10000042-1710162900-1710166500@happydaysnurseries.com
SUMMARY:Free Baby Massage Course
DESCRIPTION:Join us at Happy Days Summercourt for our Free Baby Massage Classes for babies up to the age of 12 months. This is week 3 of a 5 week course\, feel free to join us! \nSession theme: Baby MassageWhen: Monday 11 March from 1:15pm to 2:15pmWhere: Happy Days Nursery & Pre-School\, Happy Days Nursery\, Summercourt\, Near Newquay\, TR8 5YA \nThe benefits of Baby Massage can include: \n⭐ Improved communication between parents and baby⭐ Help to calm baby’s emotions and relieve stress⭐ Help babies develop an awareness of their body⭐ Enhance parent’s ability to develop and understand their baby’s needs⭐ Aid digestion and help relieve colic\, wind\, and constipation⭐ Strengthen the immune system⭐ Support bonding and attachment⭐ A great chance to meet other new parents in the area! \nBook early as places are limited  Where: Happy Days Nursery & Pre-School\, Summercourt\, Near Newquay\, TR8 5YA  Call: 01872 510 247  Email: summercourt@happydaysnurseries.com \n\n\n \n \n 
URL:https://happydaysnurseries.com/event/free-baby-massage-course-summercourt-wk-3/
LOCATION:Happy Days Nursery & Pre-School\, Summercourt\, Chapel Town\, Summercourt\, TR8 5YA
CATEGORIES:Baby Massage
ATTACH;FMTTYPE=image/jpeg:https://happydaysnurseries.com/wp-content/uploads/2024/02/baby-massage-summercourt.jpg
END:VEVENT
BEGIN:VEVENT
DTSTART;TZID=Europe/London:20240312T100000
DTEND;TZID=Europe/London:20240312T110000
DTSTAMP:20260423T172102
CREATED:20240219T123939Z
LAST-MODIFIED:20240219T124102Z
UID:10000036-1710237600-1710241200@happydaysnurseries.com
SUMMARY:Free Baby Massage Course
DESCRIPTION:Join us at Happy Days Swindon for our Free Baby Massage Classes for babies up to the age of 12 months. This is week 4 of a 6 week course\, feel free to join us! \nSession theme: Baby MassageWhen: Tuesday 12 March from 10:00am to 11:00amWhere: Happy Days Nursery & Pre-School\, Happy Days Nursery\, Elstree Way\, Swindon SN25 4YX \nThe benefits of Baby Massage can include: \n⭐ Improved communication between parents and baby⭐ Help to calm baby’s emotions and relieve stress⭐ Help babies develop an awareness of their body⭐ Enhance parent’s ability to develop and understand their baby’s needs⭐ Aid digestion and help relieve colic\, wind and constipation⭐ Strengthen the immune system⭐ Support bonding and attachment⭐ A great chance to meet other new parents in the area! \nBook early as places are limited  Where: Happy Days Nursery & Pre-School\, Abbeymeads Village Centre\, Elstree Way\, Swindon SN25 4YX  Call: 01793 748 315  Email: swindon@happydaysnurseries.com \n\n\n \n \n 
URL:https://happydaysnurseries.com/event/free-baby-massage-course-wk4/
LOCATION:Happy Days Nursery & Pre-School\, Swindon\, Abbeymeads Village Centre\, Elstree Way\, Swindon\, SN25 4YX
CATEGORIES:Baby Massage
ATTACH;FMTTYPE=image/jpeg:https://happydaysnurseries.com/wp-content/uploads/2024/02/baby-massage.jpg
END:VEVENT
BEGIN:VEVENT
DTSTART;TZID=Europe/London:20240312T140000
DTEND;TZID=Europe/London:20240312T150000
DTSTAMP:20260423T172102
CREATED:20240219T133115Z
LAST-MODIFIED:20240219T133724Z
UID:10000047-1710252000-1710255600@happydaysnurseries.com
SUMMARY:Free Baby Massage Course
DESCRIPTION:Join us at Happy Days Penair for our Free Baby Massage Classes for babies up to the age of 12 months. This is week 3 of a 6 week course\, feel free to join us! \nSession theme: Baby MassageWhen: Tuesday 12 March from 2:00pm to 3:00pmWhere: Happy Days Nursery & Pre-School\, St Clements Hill\, Truro\, TR1 1TN \nThe benefits of Baby Massage can include: \n⭐ Improved communication between parents and baby⭐ Help to calm baby’s emotions and relieve stress⭐ Help babies develop an awareness of their body⭐ Enhance parent’s ability to develop and understand their baby’s needs⭐ Aid digestion and help relieve colic\, wind\, and constipation⭐ Strengthen the immune system⭐ Support bonding and attachment⭐ A great chance to meet other new parents in the area! \nBook early as places are limited  Where: Happy Days Nursery & Pre-School\, St Clements Hill\, Truro\, TR1 1TN  Call: 01872 510 247  Email: penair@happydaysnurseries.com \n\n\n \n \n 
URL:https://happydaysnurseries.com/event/free-baby-massage-course-penair-wk-3/
LOCATION:Happy Days Nursery & Pre-School\, Penair\, Truro\, St Clements Hill\, Truro\, TR1 1TN
CATEGORIES:Baby Massage
ATTACH;FMTTYPE=image/jpeg:https://happydaysnurseries.com/wp-content/uploads/2024/02/baby-massage-penair.jpg
END:VEVENT
BEGIN:VEVENT
DTSTART;TZID=Europe/London:20240318T131500
DTEND;TZID=Europe/London:20240318T141500
DTSTAMP:20260423T172102
CREATED:20240219T131119Z
LAST-MODIFIED:20240219T131534Z
UID:10000043-1710767700-1710771300@happydaysnurseries.com
SUMMARY:Free Baby Massage Course
DESCRIPTION:Join us at Happy Days Summercourt for our Free Baby Massage Classes for babies up to the age of 12 months. This is week 4 of a 5 week course\, feel free to join us! \nSession theme: Baby MassageWhen: Monday 18 March from 1:15pm to 2:15pmWhere: Happy Days Nursery & Pre-School\, Happy Days Nursery\, Summercourt\, Near Newquay\, TR8 5YA \nThe benefits of Baby Massage can include: \n⭐ Improved communication between parents and baby⭐ Help to calm baby’s emotions and relieve stress⭐ Help babies develop an awareness of their body⭐ Enhance parent’s ability to develop and understand their baby’s needs⭐ Aid digestion and help relieve colic\, wind\, and constipation⭐ Strengthen the immune system⭐ Support bonding and attachment⭐ A great chance to meet other new parents in the area! \nBook early as places are limited  Where: Happy Days Nursery & Pre-School\, Summercourt\, Near Newquay\, TR8 5YA  Call: 01872 510 247  Email: summercourt@happydaysnurseries.com \n\n\n \n \n 
URL:https://happydaysnurseries.com/event/free-baby-massage-course-summercourt-wk-4/
LOCATION:Happy Days Nursery & Pre-School\, Summercourt\, Chapel Town\, Summercourt\, TR8 5YA
CATEGORIES:Baby Massage
ATTACH;FMTTYPE=image/jpeg:https://happydaysnurseries.com/wp-content/uploads/2024/02/baby-massage-summercourt.jpg
END:VEVENT
BEGIN:VEVENT
DTSTART;TZID=Europe/London:20240319T100000
DTEND;TZID=Europe/London:20240319T110000
DTSTAMP:20260423T172102
CREATED:20240219T124248Z
LAST-MODIFIED:20240219T124356Z
UID:10000037-1710842400-1710846000@happydaysnurseries.com
SUMMARY:Free Baby Massage Course
DESCRIPTION:Join us at Happy Days Swindon for our Free Baby Massage Classes for babies up to the age of 12 months. This is week 5 of a 6 week course\, feel free to join us! \nSession theme: Baby MassageWhen: Tuesday 19 March from 10:00am to 11:00amWhere: Happy Days Nursery & Pre-School\, Happy Days Nursery\, Elstree Way\, Swindon SN25 4YX \nThe benefits of Baby Massage can include: \n⭐ Improved communication between parents and baby⭐ Help to calm baby’s emotions and relieve stress⭐ Help babies develop an awareness of their body⭐ Enhance parent’s ability to develop and understand their baby’s needs⭐ Aid digestion and help relieve colic\, wind and constipation⭐ Strengthen the immune system⭐ Support bonding and attachment⭐ A great chance to meet other new parents in the area! \nBook early as places are limited  Where: Happy Days Nursery & Pre-School\, Abbeymeads Village Centre\, Elstree Way\, Swindon SN25 4YX  Call: 01793 748 315  Email: swindon@happydaysnurseries.com \n\n\n \n \n 
URL:https://happydaysnurseries.com/event/free-baby-massage-course-wk5/
LOCATION:Happy Days Nursery & Pre-School\, Swindon\, Abbeymeads Village Centre\, Elstree Way\, Swindon\, SN25 4YX
CATEGORIES:Baby Massage
ATTACH;FMTTYPE=image/jpeg:https://happydaysnurseries.com/wp-content/uploads/2024/02/baby-massage.jpg
END:VEVENT
BEGIN:VEVENT
DTSTART;TZID=Europe/London:20240319T140000
DTEND;TZID=Europe/London:20240319T150000
DTSTAMP:20260423T172102
CREATED:20240219T133235Z
LAST-MODIFIED:20240219T133653Z
UID:10000048-1710856800-1710860400@happydaysnurseries.com
SUMMARY:Free Baby Massage Course
DESCRIPTION:Join us at Happy Days Penair for our Free Baby Massage Classes for babies up to the age of 12 months. This is week 4 of a 6 week course\, feel free to join us! \nSession theme: Baby MassageWhen: Tuesday 19 March from 2:00pm to 3:00pmWhere: Happy Days Nursery & Pre-School\, St Clements Hill\, Truro\, TR1 1TN \nThe benefits of Baby Massage can include: \n⭐ Improved communication between parents and baby⭐ Help to calm baby’s emotions and relieve stress⭐ Help babies develop an awareness of their body⭐ Enhance parent’s ability to develop and understand their baby’s needs⭐ Aid digestion and help relieve colic\, wind\, and constipation⭐ Strengthen the immune system⭐ Support bonding and attachment⭐ A great chance to meet other new parents in the area! \nBook early as places are limited  Where: Happy Days Nursery & Pre-School\, St Clements Hill\, Truro\, TR1 1TN  Call: 01872 510 247  Email: penair@happydaysnurseries.com \n\n\n \n \n 
URL:https://happydaysnurseries.com/event/free-baby-massage-course-penair-wk-4/
LOCATION:Happy Days Nursery & Pre-School\, Penair\, Truro\, St Clements Hill\, Truro\, TR1 1TN
CATEGORIES:Baby Massage
ATTACH;FMTTYPE=image/jpeg:https://happydaysnurseries.com/wp-content/uploads/2024/02/baby-massage-penair.jpg
END:VEVENT
BEGIN:VEVENT
DTSTART;TZID=Europe/London:20240325T131500
DTEND;TZID=Europe/London:20240325T141500
DTSTAMP:20260423T172103
CREATED:20240219T131254Z
LAST-MODIFIED:20240219T131457Z
UID:10000044-1711372500-1711376100@happydaysnurseries.com
SUMMARY:Free Baby Massage Course
DESCRIPTION:Join us at Happy Days Summercourt for our Free Baby Massage Classes for babies up to the age of 12 months. This is week 5 of a 5 week course\, feel free to join us! \nSession theme: Baby MassageWhen: Monday 25 March from 1:15pm to 2:15pmWhere: Happy Days Nursery & Pre-School\, Happy Days Nursery\, Summercourt\, Near Newquay\, TR8 5YA \nThe benefits of Baby Massage can include: \n⭐ Improved communication between parents and baby⭐ Help to calm baby’s emotions and relieve stress⭐ Help babies develop an awareness of their body⭐ Enhance parent’s ability to develop and understand their baby’s needs⭐ Aid digestion and help relieve colic\, wind\, and constipation⭐ Strengthen the immune system⭐ Support bonding and attachment⭐ A great chance to meet other new parents in the area! \nBook early as places are limited  Where: Happy Days Nursery & Pre-School\, Summercourt\, Near Newquay\, TR8 5YA  Call: 01872 510 247  Email: summercourt@happydaysnurseries.com \n\n\n \n \n 
URL:https://happydaysnurseries.com/event/free-baby-massage-course-summercourt-wk-5/
LOCATION:Happy Days Nursery & Pre-School\, Summercourt\, Chapel Town\, Summercourt\, TR8 5YA
CATEGORIES:Baby Massage
ATTACH;FMTTYPE=image/jpeg:https://happydaysnurseries.com/wp-content/uploads/2024/02/baby-massage-summercourt.jpg
END:VEVENT
BEGIN:VEVENT
DTSTART;TZID=Europe/London:20240326T100000
DTEND;TZID=Europe/London:20240326T110000
DTSTAMP:20260423T172103
CREATED:20240219T124417Z
LAST-MODIFIED:20240219T124537Z
UID:10000038-1711447200-1711450800@happydaysnurseries.com
SUMMARY:Free Baby Massage Course
DESCRIPTION:Join us at Happy Days Swindon for our Free Baby Massage Classes for babies up to the age of 12 months. This is week 6 of a 6 week course\, feel free to join us! Please note\, this is the last session but more will be held soon. \nSession theme: Baby MassageWhen: Tuesday 26 March from 10:00am to 11:00amWhere: Happy Days Nursery & Pre-School\, Happy Days Nursery\, Elstree Way\, Swindon SN25 4YX \nThe benefits of Baby Massage can include: \n⭐ Improved communication between parents and baby⭐ Help to calm baby’s emotions and relieve stress⭐ Help babies develop an awareness of their body⭐ Enhance parent’s ability to develop and understand their baby’s needs⭐ Aid digestion and help relieve colic\, wind and constipation⭐ Strengthen the immune system⭐ Support bonding and attachment⭐ A great chance to meet other new parents in the area! \nBook early as places are limited  Where: Happy Days Nursery & Pre-School\, Abbeymeads Village Centre\, Elstree Way\, Swindon SN25 4YX  Call: 01793 748 315  Email: swindon@happydaysnurseries.com \n\n\n \n \n 
URL:https://happydaysnurseries.com/event/free-baby-massage-course-wk6/
LOCATION:Happy Days Nursery & Pre-School\, Swindon\, Abbeymeads Village Centre\, Elstree Way\, Swindon\, SN25 4YX
CATEGORIES:Baby Massage
ATTACH;FMTTYPE=image/jpeg:https://happydaysnurseries.com/wp-content/uploads/2024/02/baby-massage.jpg
END:VEVENT
BEGIN:VEVENT
DTSTART;TZID=Europe/London:20240326T140000
DTEND;TZID=Europe/London:20240326T150000
DTSTAMP:20260423T172103
CREATED:20240219T133412Z
LAST-MODIFIED:20240219T133628Z
UID:10000049-1711461600-1711465200@happydaysnurseries.com
SUMMARY:Free Baby Massage Course
DESCRIPTION:Join us at Happy Days Penair for our Free Baby Massage Classes for babies up to the age of 12 months. This is week 5 of a 6 week course\, feel free to join us! \nSession theme: Baby MassageWhen: Tuesday 26 March from 2:00pm to 3:00pmWhere: Happy Days Nursery & Pre-School\, St Clements Hill\, Truro\, TR1 1TN \nThe benefits of Baby Massage can include: \n⭐ Improved communication between parents and baby⭐ Help to calm baby’s emotions and relieve stress⭐ Help babies develop an awareness of their body⭐ Enhance parent’s ability to develop and understand their baby’s needs⭐ Aid digestion and help relieve colic\, wind\, and constipation⭐ Strengthen the immune system⭐ Support bonding and attachment⭐ A great chance to meet other new parents in the area! \nBook early as places are limited  Where: Happy Days Nursery & Pre-School\, St Clements Hill\, Truro\, TR1 1TN  Call: 01872 510 247  Email: penair@happydaysnurseries.com \n\n\n \n \n 
URL:https://happydaysnurseries.com/event/free-baby-massage-course-penair-wk-5/
LOCATION:Happy Days Nursery & Pre-School\, Penair\, Truro\, St Clements Hill\, Truro\, TR1 1TN
CATEGORIES:Baby Massage
ATTACH;FMTTYPE=image/jpeg:https://happydaysnurseries.com/wp-content/uploads/2024/02/baby-massage-penair.jpg
END:VEVENT
END:VCALENDAR