BEGIN:VCALENDAR
VERSION:2.0
PRODID:-//Happy Days Nursery - ECPv6.15.20//NONSGML v1.0//EN
CALSCALE:GREGORIAN
METHOD:PUBLISH
X-WR-CALNAME:Happy Days Nursery
X-ORIGINAL-URL:https://happydaysnurseries.com
X-WR-CALDESC:Events for Happy Days Nursery
REFRESH-INTERVAL;VALUE=DURATION:PT1H
X-Robots-Tag:noindex
X-PUBLISHED-TTL:PT1H
BEGIN:VTIMEZONE
TZID:Europe/London
BEGIN:DAYLIGHT
TZOFFSETFROM:+0000
TZOFFSETTO:+0100
TZNAME:BST
DTSTART:20230326T010000
END:DAYLIGHT
BEGIN:STANDARD
TZOFFSETFROM:+0100
TZOFFSETTO:+0000
TZNAME:GMT
DTSTART:20231029T010000
END:STANDARD
BEGIN:DAYLIGHT
TZOFFSETFROM:+0000
TZOFFSETTO:+0100
TZNAME:BST
DTSTART:20240331T010000
END:DAYLIGHT
BEGIN:STANDARD
TZOFFSETFROM:+0100
TZOFFSETTO:+0000
TZNAME:GMT
DTSTART:20241027T010000
END:STANDARD
BEGIN:DAYLIGHT
TZOFFSETFROM:+0000
TZOFFSETTO:+0100
TZNAME:BST
DTSTART:20250330T010000
END:DAYLIGHT
BEGIN:STANDARD
TZOFFSETFROM:+0100
TZOFFSETTO:+0000
TZNAME:GMT
DTSTART:20251026T010000
END:STANDARD
END:VTIMEZONE
BEGIN:VEVENT
DTSTART;TZID=Europe/London:20240607T100000
DTEND;TZID=Europe/London:20240607T110000
DTSTAMP:20260426T010748
CREATED:20240412T103726Z
LAST-MODIFIED:20240412T103933Z
UID:10002348-1717754400-1717758000@happydaysnurseries.com
SUMMARY:Free Baby Massage Course
DESCRIPTION:Join us at Happy Days Truro City for our Free Baby Massage Classes for babies up to the age of 12 months. This is week 6 of a 6 week course\, feel free to join us! \nSession theme: Baby MassageWhen: Friday 7 June from 10:00am to 11:00amWhere: Happy Days Nursery & Pre-School\, College Road\, Truro\, TR1 3XX \nThe benefits of Baby Massage can include: \n⭐ Improved communication between parents and baby⭐ Help to calm baby’s emotions and relieve stress⭐ Help babies develop an awareness of their body⭐ Enhance parent’s ability to develop and understand their baby’s needs⭐ Aid digestion and help relieve colic\, wind\, and constipation⭐ Strengthen the immune system⭐ Support bonding and attachment⭐ A great chance to meet other new parents in the area! \nBook early as places are limited  Where: Happy Days Nursery & Pre-School\, College Road\, Truro\, TR1 3XX  Call: 01872 261 519  Email: trurocity@happydaysnurseries.com \n\n\n \n \n 
URL:https://happydaysnurseries.com/event/free-baby-massage-course-truro-city-wk6/
LOCATION:Happy Days Nursery & Pre-School\, Truro City\, College Road\, Truro\, TR1 3XX
CATEGORIES:Baby Massage
ATTACH;FMTTYPE=image/jpeg:https://happydaysnurseries.com/wp-content/uploads/2024/04/baby-massage-truro-city.jpg
END:VEVENT
BEGIN:VEVENT
DTSTART;TZID=Europe/London:20240624T100000
DTEND;TZID=Europe/London:20240624T110000
DTSTAMP:20260426T010748
CREATED:20240620T122320Z
LAST-MODIFIED:20240624T083909Z
UID:10002584-1719223200-1719226800@happydaysnurseries.com
SUMMARY:Free Baby Fun Session
DESCRIPTION:Bring your little one (up to 2 years) to Happy Days Poole for our FREE Baby Fun sessions! \nCome along…. \n\nEngaging activities that stimulate your baby’s senses and development\nA chance to connect with other parents\nA fun and nurturing environment for your little one to thrive\n\nBook early as places are limited  Where: Happy Days Nursery & Pre-School\, Beechbank Avenue\, Creekmoor\, Poole\, BH17 7FF  Call: 01202 698 427  Email: poole@happydaysnurseries.com \n\n\n \n \n 
URL:https://happydaysnurseries.com/event/free-baby-fun-session-poole/
LOCATION:Happy Days Nursery & Pre-School\, Poole\, Beechbank Avenue\, Creekmoor\, Poole\, BH17 7FF
CATEGORIES:Stay & Play
ATTACH;FMTTYPE=image/jpeg:https://happydaysnurseries.com/wp-content/uploads/2024/06/baby-stay-and-play-poole-scaled.jpg
END:VEVENT
END:VCALENDAR