BEGIN:VCALENDAR
VERSION:2.0
PRODID:-//Happy Days Nursery - ECPv6.15.20//NONSGML v1.0//EN
CALSCALE:GREGORIAN
METHOD:PUBLISH
X-ORIGINAL-URL:https://happydaysnurseries.com
X-WR-CALDESC:Events for Happy Days Nursery
REFRESH-INTERVAL;VALUE=DURATION:PT1H
X-Robots-Tag:noindex
X-PUBLISHED-TTL:PT1H
BEGIN:VTIMEZONE
TZID:Europe/London
BEGIN:DAYLIGHT
TZOFFSETFROM:+0000
TZOFFSETTO:+0100
TZNAME:BST
DTSTART:20230326T010000
END:DAYLIGHT
BEGIN:STANDARD
TZOFFSETFROM:+0100
TZOFFSETTO:+0000
TZNAME:GMT
DTSTART:20231029T010000
END:STANDARD
BEGIN:DAYLIGHT
TZOFFSETFROM:+0000
TZOFFSETTO:+0100
TZNAME:BST
DTSTART:20240331T010000
END:DAYLIGHT
BEGIN:STANDARD
TZOFFSETFROM:+0100
TZOFFSETTO:+0000
TZNAME:GMT
DTSTART:20241027T010000
END:STANDARD
BEGIN:DAYLIGHT
TZOFFSETFROM:+0000
TZOFFSETTO:+0100
TZNAME:BST
DTSTART:20250330T010000
END:DAYLIGHT
BEGIN:STANDARD
TZOFFSETFROM:+0100
TZOFFSETTO:+0000
TZNAME:GMT
DTSTART:20251026T010000
END:STANDARD
END:VTIMEZONE
BEGIN:VEVENT
DTSTART;TZID=Europe/London:20240503T100000
DTEND;TZID=Europe/London:20240503T110000
DTSTAMP:20260424T155631
CREATED:20240405T152945Z
LAST-MODIFIED:20240405T153205Z
UID:10002334-1714730400-1714734000@happydaysnurseries.com
SUMMARY:FREE baby Stay and Play
DESCRIPTION:Happy Days Thornbury are hosting FREE baby Stay and Play sessions every Friday for 6 weeks. \nStarting: 26 April 10:00 – 11:00Where: Happy Days Nursery\, Thornbury \nThis is a fantastic chance to:– Meet other local parents and connect while your child enjoys fun activities.– Let your child explore engaging experiences prepared by our experienced nursery practitioners. \nDon’t miss out on this opportunity to have some fun and build connections in your community. Book early as places are limited! \n📍 Where: Happy Days Nursery 2 Cooper Road Thornbury Bristol BS35 3UP📞 Call: 01454 419 911📧 Email: thornbury@happydaysnurseries.com \n\n 
URL:https://happydaysnurseries.com/event/free-stay-and-play-thornbury/2024-05-03/
LOCATION:Happy Days Nursery & Pre-School\, Thornbury\, 2 Cooper Road\, Thornbury\, Bristol\, BS35 3UP
CATEGORIES:Stay & Play
ATTACH;FMTTYPE=image/jpeg:https://happydaysnurseries.com/wp-content/uploads/2024/04/Stay-and-Play-Swindon-1.jpg
END:VEVENT
BEGIN:VEVENT
DTSTART;TZID=Europe/London:20240510T100000
DTEND;TZID=Europe/London:20240510T110000
DTSTAMP:20260424T155631
CREATED:20240405T152945Z
LAST-MODIFIED:20240405T153205Z
UID:10002335-1715335200-1715338800@happydaysnurseries.com
SUMMARY:FREE baby Stay and Play
DESCRIPTION:Happy Days Thornbury are hosting FREE baby Stay and Play sessions every Friday for 6 weeks. \nStarting: 26 April 10:00 – 11:00Where: Happy Days Nursery\, Thornbury \nThis is a fantastic chance to:– Meet other local parents and connect while your child enjoys fun activities.– Let your child explore engaging experiences prepared by our experienced nursery practitioners. \nDon’t miss out on this opportunity to have some fun and build connections in your community. Book early as places are limited! \n📍 Where: Happy Days Nursery 2 Cooper Road Thornbury Bristol BS35 3UP📞 Call: 01454 419 911📧 Email: thornbury@happydaysnurseries.com \n\n 
URL:https://happydaysnurseries.com/event/free-stay-and-play-thornbury/2024-05-10/
LOCATION:Happy Days Nursery & Pre-School\, Thornbury\, 2 Cooper Road\, Thornbury\, Bristol\, BS35 3UP
CATEGORIES:Stay & Play
ATTACH;FMTTYPE=image/jpeg:https://happydaysnurseries.com/wp-content/uploads/2024/04/Stay-and-Play-Swindon-1.jpg
END:VEVENT
BEGIN:VEVENT
DTSTART;TZID=Europe/London:20240510T100000
DTEND;TZID=Europe/London:20240510T110000
DTSTAMP:20260424T155631
CREATED:20240425T144957Z
LAST-MODIFIED:20240517T084723Z
UID:10002374-1715335200-1715338800@happydaysnurseries.com
SUMMARY:Free Stay & Play Sessions
DESCRIPTION:Join us for FREE Stay and Play Sessions!\nWe will be running our Let’s Grow programme where the children will have the opportunity to engage in planting and gardening activities\, helping them develop their understanding of the natural world\, begin to appreciate its beauty and learn to take care of it.\nThese sessions also provide parents with the opportunity to meet and connect with other local parents.\n \nWhen: 10:00 – 11:00 on:Friday 10 May | Let’s Grow for 2-3 yr oldsFriday 17 May | Let‘s Grow for 2-3 yr oldsFriday 24 May | Let‘s Grow for 3-5 yr oldsFriday 31 May | Let‘s Grow for 3-5yr olds\n \n\nBooking essential\, book early as places are limited\n\n\n\n  Where: Happy Days Nursery & Pre-School\, Chessel Drive\, Patchway\, Bristol\, BS34 5UZ  Call: 0117 379 0360  Email: charltonheights@happydaysnurseries.com \n\n\n \n \n 
URL:https://happydaysnurseries.com/event/free-stay-play-lets-grow-bristol-2/
LOCATION:Happy Days Nursery & Pre-School\, Charlton Heights\, Bristol\, BS34 5UZ\, Chessel Drive\, Patchway\, Bristol\, BS34 5UZ\, United Kingdom
CATEGORIES:Stay & Play
ATTACH;FMTTYPE=image/jpeg:https://happydaysnurseries.com/wp-content/uploads/2024/04/438793105_839206821556264_4444500971266989675_n.jpg
END:VEVENT
BEGIN:VEVENT
DTSTART;TZID=Europe/London:20240517T100000
DTEND;TZID=Europe/London:20240517T110000
DTSTAMP:20260424T155631
CREATED:20240405T152945Z
LAST-MODIFIED:20240405T153205Z
UID:10002336-1715940000-1715943600@happydaysnurseries.com
SUMMARY:FREE baby Stay and Play
DESCRIPTION:Happy Days Thornbury are hosting FREE baby Stay and Play sessions every Friday for 6 weeks. \nStarting: 26 April 10:00 – 11:00Where: Happy Days Nursery\, Thornbury \nThis is a fantastic chance to:– Meet other local parents and connect while your child enjoys fun activities.– Let your child explore engaging experiences prepared by our experienced nursery practitioners. \nDon’t miss out on this opportunity to have some fun and build connections in your community. Book early as places are limited! \n📍 Where: Happy Days Nursery 2 Cooper Road Thornbury Bristol BS35 3UP📞 Call: 01454 419 911📧 Email: thornbury@happydaysnurseries.com \n\n 
URL:https://happydaysnurseries.com/event/free-stay-and-play-thornbury/2024-05-17/
LOCATION:Happy Days Nursery & Pre-School\, Thornbury\, 2 Cooper Road\, Thornbury\, Bristol\, BS35 3UP
CATEGORIES:Stay & Play
ATTACH;FMTTYPE=image/jpeg:https://happydaysnurseries.com/wp-content/uploads/2024/04/Stay-and-Play-Swindon-1.jpg
END:VEVENT
BEGIN:VEVENT
DTSTART;TZID=Europe/London:20240523T080000
DTEND;TZID=Europe/London:20240523T173000
DTSTAMP:20260424T155631
CREATED:20240510T100405Z
LAST-MODIFIED:20240510T100721Z
UID:10002391-1716451200-1716485400@happydaysnurseries.com
SUMMARY:Open House\, Happy Days Charlton Heights
DESCRIPTION:Charlton Heights are hosting an Open House! No need to book\, just pop in when you can.\n \nDate: Thursday 23rd MayTime: 08:00am – 05:30pm\n \nExplore our state-of-the-art facilities:– Tour our purpose-built nursery designed for your child’s learning and development.– Meet our friendly and dedicated nursery team\n \nLearn everything you need to know:– Early years funding options and fees– Nursery opening hours and tour availability– Nutritious meal plans and delicious menus– Engaging early years curriculum– …and much more!\n \nThis is a fantastic opportunity for you to see our nursery and ask any questions you may have. We look forward to welcoming you and your family to Happy Days!\n \n Where: Happy Days Nursery & Pre-School Chessel Drive Patchway Bristol BS34 5UZ Call: 0117 379 0360 Email: charltonheights@happydaysnurseries.com \n\n\n \n \n 
URL:https://happydaysnurseries.com/event/open-house-come-and-take-a-closer-look-at-happy-days-bristol/
LOCATION:Happy Days Nursery & Pre-School\, Charlton Heights\, Bristol\, BS34 5UZ\, Chessel Drive\, Patchway\, Bristol\, BS34 5UZ\, United Kingdom
CATEGORIES:Open Day
ATTACH;FMTTYPE=image/jpeg:https://happydaysnurseries.com/wp-content/uploads/2024/05/first-aid-1.jpg
END:VEVENT
BEGIN:VEVENT
DTSTART;TZID=Europe/London:20240524T100000
DTEND;TZID=Europe/London:20240524T110000
DTSTAMP:20260424T155631
CREATED:20240405T152945Z
LAST-MODIFIED:20240405T153205Z
UID:10002337-1716544800-1716548400@happydaysnurseries.com
SUMMARY:FREE baby Stay and Play
DESCRIPTION:Happy Days Thornbury are hosting FREE baby Stay and Play sessions every Friday for 6 weeks. \nStarting: 26 April 10:00 – 11:00Where: Happy Days Nursery\, Thornbury \nThis is a fantastic chance to:– Meet other local parents and connect while your child enjoys fun activities.– Let your child explore engaging experiences prepared by our experienced nursery practitioners. \nDon’t miss out on this opportunity to have some fun and build connections in your community. Book early as places are limited! \n📍 Where: Happy Days Nursery 2 Cooper Road Thornbury Bristol BS35 3UP📞 Call: 01454 419 911📧 Email: thornbury@happydaysnurseries.com \n\n 
URL:https://happydaysnurseries.com/event/free-stay-and-play-thornbury/2024-05-24/
LOCATION:Happy Days Nursery & Pre-School\, Thornbury\, 2 Cooper Road\, Thornbury\, Bristol\, BS35 3UP
CATEGORIES:Stay & Play
ATTACH;FMTTYPE=image/jpeg:https://happydaysnurseries.com/wp-content/uploads/2024/04/Stay-and-Play-Swindon-1.jpg
END:VEVENT
BEGIN:VEVENT
DTSTART;TZID=Europe/London:20240531T100000
DTEND;TZID=Europe/London:20240531T110000
DTSTAMP:20260424T155631
CREATED:20240405T152945Z
LAST-MODIFIED:20240405T153205Z
UID:10002338-1717149600-1717153200@happydaysnurseries.com
SUMMARY:FREE baby Stay and Play
DESCRIPTION:Happy Days Thornbury are hosting FREE baby Stay and Play sessions every Friday for 6 weeks. \nStarting: 26 April 10:00 – 11:00Where: Happy Days Nursery\, Thornbury \nThis is a fantastic chance to:– Meet other local parents and connect while your child enjoys fun activities.– Let your child explore engaging experiences prepared by our experienced nursery practitioners. \nDon’t miss out on this opportunity to have some fun and build connections in your community. Book early as places are limited! \n📍 Where: Happy Days Nursery 2 Cooper Road Thornbury Bristol BS35 3UP📞 Call: 01454 419 911📧 Email: thornbury@happydaysnurseries.com \n\n 
URL:https://happydaysnurseries.com/event/free-stay-and-play-thornbury/2024-05-31/
LOCATION:Happy Days Nursery & Pre-School\, Thornbury\, 2 Cooper Road\, Thornbury\, Bristol\, BS35 3UP
CATEGORIES:Stay & Play
ATTACH;FMTTYPE=image/jpeg:https://happydaysnurseries.com/wp-content/uploads/2024/04/Stay-and-Play-Swindon-1.jpg
END:VEVENT
END:VCALENDAR