BEGIN:VCALENDAR
VERSION:2.0
PRODID:-//Happy Days Nursery - ECPv6.15.20//NONSGML v1.0//EN
CALSCALE:GREGORIAN
METHOD:PUBLISH
X-WR-CALNAME:Happy Days Nursery
X-ORIGINAL-URL:https://happydaysnurseries.com
X-WR-CALDESC:Events for Happy Days Nursery
REFRESH-INTERVAL;VALUE=DURATION:PT1H
X-Robots-Tag:noindex
X-PUBLISHED-TTL:PT1H
BEGIN:VTIMEZONE
TZID:Europe/London
BEGIN:DAYLIGHT
TZOFFSETFROM:+0000
TZOFFSETTO:+0100
TZNAME:BST
DTSTART:20230326T010000
END:DAYLIGHT
BEGIN:STANDARD
TZOFFSETFROM:+0100
TZOFFSETTO:+0000
TZNAME:GMT
DTSTART:20231029T010000
END:STANDARD
BEGIN:DAYLIGHT
TZOFFSETFROM:+0000
TZOFFSETTO:+0100
TZNAME:BST
DTSTART:20240331T010000
END:DAYLIGHT
BEGIN:STANDARD
TZOFFSETFROM:+0100
TZOFFSETTO:+0000
TZNAME:GMT
DTSTART:20241027T010000
END:STANDARD
BEGIN:DAYLIGHT
TZOFFSETFROM:+0000
TZOFFSETTO:+0100
TZNAME:BST
DTSTART:20250330T010000
END:DAYLIGHT
BEGIN:STANDARD
TZOFFSETFROM:+0100
TZOFFSETTO:+0000
TZNAME:GMT
DTSTART:20251026T010000
END:STANDARD
END:VTIMEZONE
BEGIN:VEVENT
DTSTART;TZID=Europe/London:20240311T100000
DTEND;TZID=Europe/London:20240311T140000
DTSTAMP:20260423T030634
CREATED:20240424T090425Z
LAST-MODIFIED:20240424T090701Z
UID:10002370-1710151200-1710165600@happydaysnurseries.com
SUMMARY:Early Years Experience Day
DESCRIPTION:Learn if Early Years is for you! Join us on May 11th to discover…\n \n– Careers in Childcare– Nursery Tours– “Where Children Shine” – Curriculum– Experience Workshops– Next Steps– Q&A\n \nWe’ll be there to answering all of your burning questions surrounding Early Years and helping you with next steps. This is a great opportunity to get an insight into life within the nursery.\nWe’d love for you to come and join us!\n \nIf you’d like to get in touch please contact recruitment@happydaysnurseries.com or 07467 861712\n\n 
URL:https://happydaysnurseries.com/event/early-years-recruitment-event-bristol-2/
LOCATION:Happy Days Nursery & Pre-School\, Bradley Stoke\, Almondsbury Business Centre\, Woodlands Lane\, Bristol\, BH32 4QH
CATEGORIES:Recruitment
ATTACH;FMTTYPE=image/jpeg:https://happydaysnurseries.com/wp-content/uploads/2024/04/Website-Recruitment-Event-18.jpg
END:VEVENT
END:VCALENDAR