BEGIN:VCALENDAR
VERSION:2.0
PRODID:-//Happy Days Nursery - ECPv6.15.20//NONSGML v1.0//EN
CALSCALE:GREGORIAN
METHOD:PUBLISH
X-WR-CALNAME:Happy Days Nursery
X-ORIGINAL-URL:https://happydaysnurseries.com
X-WR-CALDESC:Events for Happy Days Nursery
REFRESH-INTERVAL;VALUE=DURATION:PT1H
X-Robots-Tag:noindex
X-PUBLISHED-TTL:PT1H
BEGIN:VTIMEZONE
TZID:Europe/London
BEGIN:DAYLIGHT
TZOFFSETFROM:+0000
TZOFFSETTO:+0100
TZNAME:BST
DTSTART:20230326T010000
END:DAYLIGHT
BEGIN:STANDARD
TZOFFSETFROM:+0100
TZOFFSETTO:+0000
TZNAME:GMT
DTSTART:20231029T010000
END:STANDARD
BEGIN:DAYLIGHT
TZOFFSETFROM:+0000
TZOFFSETTO:+0100
TZNAME:BST
DTSTART:20240331T010000
END:DAYLIGHT
BEGIN:STANDARD
TZOFFSETFROM:+0100
TZOFFSETTO:+0000
TZNAME:GMT
DTSTART:20241027T010000
END:STANDARD
BEGIN:DAYLIGHT
TZOFFSETFROM:+0000
TZOFFSETTO:+0100
TZNAME:BST
DTSTART:20250330T010000
END:DAYLIGHT
BEGIN:STANDARD
TZOFFSETFROM:+0100
TZOFFSETTO:+0000
TZNAME:GMT
DTSTART:20251026T010000
END:STANDARD
END:VTIMEZONE
BEGIN:VEVENT
DTSTART;TZID=Europe/London:20240319T180000
DTEND;TZID=Europe/London:20240319T193000
DTSTAMP:20260425T000944
CREATED:20240301T140947Z
LAST-MODIFIED:20240301T152640Z
UID:10002253-1710871200-1710876600@happydaysnurseries.com
SUMMARY:School Readiness Evening
DESCRIPTION:Join us on Tuesday 19th March from 6pm-7:30pm for an evening all about School Readiness. \nWhen: Tuesday 19th March 6pm-7:30pm \nWhere: Happy Days Nursery\, Elstree Way\, Village Centre\, Abbey Meads\, Swindon\, SN25 4YX \nAn evening where we will tell you exactly how to prepare your child for a positive transition to school. Learn how to build your child’s confidence so that they start school independent\, curious and ready to learn. \nPlease confirm your attendance to: swindon@happydaysnurseries.com \n📍 Where: Happy Days Nursery\, Elstree Way\, Village Centre\, Abbey Meads\, Swindon\, SN25 4YX☎ Call: 01793 748 315📩 Email: swindon@happydaysnurseries.com \n\n 
URL:https://happydaysnurseries.com/event/early-years-recruitment-event-poole-copy/
LOCATION:Happy Days Nursery & Pre-School\, Swindon\, Abbeymeads Village Centre\, Elstree Way\, Swindon\, SN25 4YX
CATEGORIES:Community Pop Up Event
ATTACH;FMTTYPE=image/jpeg:https://happydaysnurseries.com/wp-content/uploads/2024/03/Stay-and-Play-Droitwich-Event-1.jpg
END:VEVENT
END:VCALENDAR