BEGIN:VCALENDAR
VERSION:2.0
PRODID:-//Happy Days Nursery - ECPv6.15.20//NONSGML v1.0//EN
CALSCALE:GREGORIAN
METHOD:PUBLISH
X-WR-CALNAME:Happy Days Nursery
X-ORIGINAL-URL:https://happydaysnurseries.com
X-WR-CALDESC:Events for Happy Days Nursery
REFRESH-INTERVAL;VALUE=DURATION:PT1H
X-Robots-Tag:noindex
X-PUBLISHED-TTL:PT1H
BEGIN:VTIMEZONE
TZID:Europe/London
BEGIN:DAYLIGHT
TZOFFSETFROM:+0000
TZOFFSETTO:+0100
TZNAME:BST
DTSTART:20230326T010000
END:DAYLIGHT
BEGIN:STANDARD
TZOFFSETFROM:+0100
TZOFFSETTO:+0000
TZNAME:GMT
DTSTART:20231029T010000
END:STANDARD
BEGIN:DAYLIGHT
TZOFFSETFROM:+0000
TZOFFSETTO:+0100
TZNAME:BST
DTSTART:20240331T010000
END:DAYLIGHT
BEGIN:STANDARD
TZOFFSETFROM:+0100
TZOFFSETTO:+0000
TZNAME:GMT
DTSTART:20241027T010000
END:STANDARD
BEGIN:DAYLIGHT
TZOFFSETFROM:+0000
TZOFFSETTO:+0100
TZNAME:BST
DTSTART:20250330T010000
END:DAYLIGHT
BEGIN:STANDARD
TZOFFSETFROM:+0100
TZOFFSETTO:+0000
TZNAME:GMT
DTSTART:20251026T010000
END:STANDARD
END:VTIMEZONE
BEGIN:VEVENT
DTSTART;TZID=Europe/London:20240909T100000
DTEND;TZID=Europe/London:20240909T110000
DTSTAMP:20260424T233333
CREATED:20240801T111422Z
LAST-MODIFIED:20240801T112410Z
UID:10003151-1725876000-1725879600@happydaysnurseries.com
SUMMARY:FREE Parent / Carer First Aid Class
DESCRIPTION:Join us at Happy Days Nursery\, Summercourt for a FREE 1 Hour Session for parents of children aged 0-5 years.\n \n\n\nWhen: Monday 9 September | 10.00am – 11.00am\nWhere: Happy Days Nursery & Pre-School\, Chapel Town\, Summercourt\, Cornwall\, TR8 5YA\n \n\n\nThe class will be led by Jemma from Daisy First Aid and will cover:\n\nRecovery position for a baby & child\nCPR for a baby & child\nChoking for a baby & child\nSpotting Meningitis and Sepsis\n\n \nPlease note this is an introductory course only and NOT a formal qualification\n \n\n\nBabies under the age of 12 months are welcome to attend classes with parent(s) as we are breastfeeding friendly.\n \n\n\nPlease email to confirm your place as spaces are limited!\n \n\n\n Where: Happy Days Nursery & Pre-School\, Chapel Town\, Summercourt\, Cornwall\, TR8 5YA\n Call: 01872 510 247\n Email: summercourt@happydaysnurseries.com
URL:https://happydaysnurseries.com/event/summercourt-parents-first-aid-class/
LOCATION:Happy Days Nursery & Pre-School\, Summercourt\, Chapel Town\, Summercourt\, TR8 5YA
CATEGORIES:First Aid Session
ATTACH;FMTTYPE=image/jpeg:https://happydaysnurseries.com/wp-content/uploads/2024/08/Summercourt-first-aid-scaled.jpg
END:VEVENT
BEGIN:VEVENT
DTSTART;TZID=Europe/London:20240909T101500
DTEND;TZID=Europe/London:20240909T111500
DTSTAMP:20260424T233333
CREATED:20240820T125150Z
LAST-MODIFIED:20240820T125721Z
UID:10003209-1725876900-1725880500@happydaysnurseries.com
SUMMARY:FREE Stay and Play Sessions - Under 2's
DESCRIPTION:Join us for FREE Stay and Play Sessions for under 2’s!🥳Happy Days Nursery in Thornbury are hosting FREE Stay & Play sessions for your little ones aged under 2 years old. These sessions also provide parents with the opportunity to meet and connect with other local parents. Each week we will be hosting different activities from our unique ‘Where Children Shine’ Curriculum.Every Monday from 2nd September for 9 weeks\, 10:15-11:15:02.09.24 | 10:15-11:1509.09.24 | 10:15-11:1516.09.24 | 10:15-11:1523.09.24 | 10:15-11:15 \n30.09.24 | 10:15-11:1507.10.24 | 10:15-11:1514.10.24 | 10:15-11:1528.10.24 | 10:15-11:15 \n04.11.24 | 10:15-11:15Booking is essential\, we recommend booking early as places are limited.📍Where: Happy Days Nursery 2 Cooper Road Thornbury Bristol BS35 3UP☎Call: 01454 419 911📩Email: thornbury@happydaysnurseries.com \n\n 
URL:https://happydaysnurseries.com/event/free-stay-and-play-thornbury-2/2024-09-09/
LOCATION:Happy Days Nursery & Pre-School\, Thornbury\, 2 Cooper Road\, Thornbury\, Bristol\, BS35 3UP
CATEGORIES:Stay & Play
ATTACH;FMTTYPE=image/jpeg:https://happydaysnurseries.com/wp-content/uploads/2024/08/Stay-and-Play-Swindon-5.jpg
END:VEVENT
END:VCALENDAR