BEGIN:VCALENDAR
VERSION:2.0
PRODID:-//Happy Days Nursery - ECPv6.15.20//NONSGML v1.0//EN
CALSCALE:GREGORIAN
METHOD:PUBLISH
X-WR-CALNAME:Happy Days Nursery
X-ORIGINAL-URL:https://happydaysnurseries.com
X-WR-CALDESC:Events for Happy Days Nursery
REFRESH-INTERVAL;VALUE=DURATION:PT1H
X-Robots-Tag:noindex
X-PUBLISHED-TTL:PT1H
BEGIN:VTIMEZONE
TZID:Europe/London
BEGIN:DAYLIGHT
TZOFFSETFROM:+0000
TZOFFSETTO:+0100
TZNAME:BST
DTSTART:20240331T010000
END:DAYLIGHT
BEGIN:STANDARD
TZOFFSETFROM:+0100
TZOFFSETTO:+0000
TZNAME:GMT
DTSTART:20241027T010000
END:STANDARD
BEGIN:DAYLIGHT
TZOFFSETFROM:+0000
TZOFFSETTO:+0100
TZNAME:BST
DTSTART:20250330T010000
END:DAYLIGHT
BEGIN:STANDARD
TZOFFSETFROM:+0100
TZOFFSETTO:+0000
TZNAME:GMT
DTSTART:20251026T010000
END:STANDARD
BEGIN:DAYLIGHT
TZOFFSETFROM:+0000
TZOFFSETTO:+0100
TZNAME:BST
DTSTART:20260329T010000
END:DAYLIGHT
BEGIN:STANDARD
TZOFFSETFROM:+0100
TZOFFSETTO:+0000
TZNAME:GMT
DTSTART:20261025T010000
END:STANDARD
END:VTIMEZONE
BEGIN:VEVENT
DTSTART;TZID=Europe/London:20250705T100000
DTEND;TZID=Europe/London:20250705T130000
DTSTAMP:20260419T181241
CREATED:20250515T114642Z
LAST-MODIFIED:20250515T115326Z
UID:10004578-1751709600-1751720400@happydaysnurseries.com
SUMMARY:Treloweth Open Day - Happy Days Fest
DESCRIPTION:Treloweth Open Day – Come and See Our New Look! \n📍 Happy Days Nursery & Pre-School\, Treloweth📅 Saturday 5th July | 10am–1pm \nWe’re thrilled to invite you to Happy Days Treloweth for a special Open Day where you’ll be among the first to see the results of our exciting nursery expansion! \nJoin us for a fun-filled morning designed especially for children under 5 and their families\, with plenty of opportunities to explore our newly enhanced spaces and discover what makes our nursery such a vibrant place to learn\, grow and shine. \n🎨 Festival-themed crafts and creative play🎵 Music\, movement\, and joyful experiences🌿 Tours of our refreshed indoor and outdoor learning environments👋 Meet our friendly team and learn more about our curriculum and daily routines🎁 Goody bags for visiting families \nWhether you’re new to the area or already part of the Treloweth community\, we’d love to welcome you! \nNo need to book—just pop in and say hello!
URL:https://happydaysnurseries.com/event/june-open-day-treloweth/
LOCATION:Happy Days Nursery & Pre-School\, Treloweth\, Happy Days Nursery Treloweth CP School Higher Broad Lane Illogan South\, Redruth\, Cornwall\, TR15 3JL
CATEGORIES:Open Day
ATTACH;FMTTYPE=image/jpeg:https://happydaysnurseries.com/wp-content/uploads/2025/05/une-Open-Day-Happy-Days-Fest-Website-Event-Cover-6.jpg
END:VEVENT
BEGIN:VEVENT
DTSTART;TZID=Europe/London:20250709T093000
DTEND;TZID=Europe/London:20250709T163000
DTSTAMP:20260419T181241
CREATED:20250620T113313Z
LAST-MODIFIED:20250620T113921Z
UID:10005292-1752053400-1752078600@happydaysnurseries.com
SUMMARY:Toddletown Farnham Careers Open Day
DESCRIPTION:Toddletown Farnham Careers Open Day \n🗓 Wednesday 9th July 2025 | ⏰ 9:30am – 4:30pm📍 Toddletown Farnham Nursery \nAre you newly qualified\, graduating soon\, or looking for your next step in Early Years? Come along to our Careers Open Day at Toddletown Farnham! \nRated Outstanding by OFSTED\, our nursery is a nurturing\, inspiring environment where practitioners can thrive. This is a fantastic opportunity to meet the team\, explore the setting\, and learn about current and upcoming job roles across Toddletown and Happy Days Nurseries. \nWe’re proud to now offer the full Happy Days benefits package\, including: \n\n\n🎁 Gifted Christmas closure days \n\n\n👶 50% off childcare \n\n\n🧠 Training and career progression pathways \n\n\n💸 Competitive pay \n\n\n🅿️ Free parking \n\n\nNo booking required – just drop in! If you have any questions\, feel free to email us at recruitment@happydaysnurseries.com. \n  \nToddletown Day Nursery\, The Pump House\, Kimbers Lane\, Farnham\, Surrey\, GU9 9PT \n01252 412985 \noffice@toddletowndaynurseryfarnham.co.uk
URL:https://happydaysnurseries.com/event/toddletown-careers-day/
LOCATION:Toddletown Farnham\, Toddletown Day Nursery\, The Pump House\, Kimbers Lane\, Farnham\, Surrey\, GU9 9PT\, Farnham\, Surrey\, GU9 9PT\, United Kingdom
CATEGORIES:Recruitment
ATTACH;FMTTYPE=image/jpeg:https://happydaysnurseries.com/wp-content/uploads/2025/06/Website-Recruitment-Event-toddletown-farnham-1.jpg
ORGANIZER;CN="Toddletown":MAILTO:office@toddletowndaynurseryfarnham.co.uk
END:VEVENT
BEGIN:VEVENT
DTSTART;TZID=Europe/London:20250710T100000
DTEND;TZID=Europe/London:20250710T110000
DTSTAMP:20260419T181241
CREATED:20250611T095329Z
LAST-MODIFIED:20250611T100308Z
UID:10005214-1752141600-1752145200@happydaysnurseries.com
SUMMARY:FREE Baby Massage at Happy Days Nursery\, Treloweth
DESCRIPTION:Join us at Happy Days Treloweth for our Free Baby Massage Classes! Designed for babies aged 12 weeks to 12 months (non-mobile)\, these sessions provide a wonderful opportunity to bond with your little one in a calm and nurturing environment. Don’t miss out—come and experience the benefits of baby massage with us! \nThis is a 4 week course taking place every Thursday from July 10\, feel free to join us on any/all sessions! \nSession theme: Baby Massage\nWhen: Thursday 10\, 17\, 24\, 31 July from 10:00 am to 11:00am\nWhere: Happy Days Nursery & Pre-School\, Treloweth CP School\, Higher Broad Lane\, Illogan South\, Redruth\, TR15 3JL \nThe benefits of Baby Massage can include: \n⭐ Improved communication between parents and baby\n⭐ Help to calm baby’s emotions and relieve stress\n⭐ Help babies develop an awareness of their body\n⭐ Enhance parent’s ability to develop and understand their baby’s needs\n⭐ Aid digestion and help relieve colic\, wind\, and constipation\n⭐ Strengthen the immune system\n⭐ Support bonding and attachment\n⭐ A great chance to meet other new parents in the area! \nBook early as places are limited\n  Where: Happy Days Nursery & Pre-School\, Treloweth CP School\, Higher Broad Lane\, Illogan South\, Redruth\, TR15 3JL\n  Call: 01209 313 080\n  Email: treloweth@happydaysnurseries.com
URL:https://happydaysnurseries.com/event/baby-massage-treloweth/2025-07-10/
LOCATION:Happy Days Nursery & Pre-School\, Treloweth\, Happy Days Nursery Treloweth CP School Higher Broad Lane Illogan South\, Redruth\, Cornwall\, TR15 3JL
CATEGORIES:Baby Massage
ATTACH;FMTTYPE=image/jpeg:https://happydaysnurseries.com/wp-content/uploads/2025/06/baby-massage-Treloweth-scaled.jpg
END:VEVENT
BEGIN:VEVENT
DTSTART;TZID=Europe/London:20250710T100000
DTEND;TZID=Europe/London:20250710T110000
DTSTAMP:20260419T181241
CREATED:20250617T150819Z
LAST-MODIFIED:20250617T152832Z
UID:10005289-1752141600-1752145200@happydaysnurseries.com
SUMMARY:Baby Summer Messy Play at Happy Days Verwood!
DESCRIPTION:Let’s get messy! Join us at Happy Days Verwood Nursery for a Summer-themed Baby Messy Play session – a sensory-filled adventure designed especially for your baby! \n📅 Date: Thursday\, 10th July⏰ Time: 10:00 AM – 11:00 AM📍 Location: Happy Days Nursery & Pre-School\, 19 Church Hill\, Verwood\, BH31 6HT \nLet your baby explore bright colours\, summer-inspired textures\, and playful\, creative activities – from sand and water to fruity fun and more. It’s all about sunny smiles and messy moments in a safe\, baby-friendly space! \nFree event – no booking required! Parents\, grandparents\, and caregivers are all welcome to join in the fun. \n📍    Where: Happy Days Nursery & Pre-School\, 19 Church Hill\, Verwood\, BH31 6HT📞  Call: 01202 806 004📧  Email: verwood@happydaysnurseries.com
URL:https://happydaysnurseries.com/event/verwood-summer-messy-play-verwood/
LOCATION:Happy Days Nursery & Pre-School\, Verwood\, 19 Church Hill\, Verwood\, Dorset\, BH31 6HT
CATEGORIES:Stay & Play
ATTACH;FMTTYPE=image/jpeg:https://happydaysnurseries.com/wp-content/uploads/2025/06/messy-play-verwood-1-1-scaled.jpg
END:VEVENT
BEGIN:VEVENT
DTSTART;TZID=Europe/London:20250712T120000
DTEND;TZID=Europe/London:20250712T180000
DTSTAMP:20260419T181241
CREATED:20250617T153854Z
LAST-MODIFIED:20250617T153854Z
UID:10005290-1752321600-1752343200@happydaysnurseries.com
SUMMARY:Join Happy Days Verwood at the Verwood Carnival
DESCRIPTION:We’re excited to share that Happy Days Nursery & Pre-School Verwood will be part of this year’s Verwood Carnival – and we’d love for you and your family to come and join the fun! \n📅 Date: Saturday 12 July\, 2025📍 Location: Potterne Park \nCome and find our Happy Days stall where there’ll be: \n⭐ Fun games and activities for little ones⭐ Summer-themed crafts and face painting⭐ Goodie bags ⭐ A chance to meet our friendly team and learn more about life at Happy Days Verwood! \nIt’s a fantastic family day out filled with colour\, music\, community spirit – and we can’t wait to see you there. \nPop by and say hello – we’d love to meet you! \nFor more information about our nursery or to arrange a visit\, contact us:📞 01202 806004📧 verwood@happydaysnurseries.com
URL:https://happydaysnurseries.com/event/happy-days-at-verwood-carnival/
LOCATION:Happy Days Nursery & Pre-School\, Verwood\, 19 Church Hill\, Verwood\, Dorset\, BH31 6HT
CATEGORIES:Stay & Play
ATTACH;FMTTYPE=image/jpeg:https://happydaysnurseries.com/wp-content/uploads/2025/06/carnival-verwood-scaled.jpg
END:VEVENT
BEGIN:VEVENT
DTSTART;TZID=Europe/London:20250715T100000
DTEND;TZID=Europe/London:20250715T110000
DTSTAMP:20260419T181241
CREATED:20250611T095329Z
LAST-MODIFIED:20250611T100308Z
UID:10005215-1752573600-1752577200@happydaysnurseries.com
SUMMARY:FREE Baby Massage at Happy Days Nursery\, Treloweth
DESCRIPTION:Join us at Happy Days Treloweth for our Free Baby Massage Classes! Designed for babies aged 12 weeks to 12 months (non-mobile)\, these sessions provide a wonderful opportunity to bond with your little one in a calm and nurturing environment. Don’t miss out—come and experience the benefits of baby massage with us! \nThis is a 4 week course taking place every Thursday from July 10\, feel free to join us on any/all sessions! \nSession theme: Baby Massage\nWhen: Thursday 10\, 17\, 24\, 31 July from 10:00 am to 11:00am\nWhere: Happy Days Nursery & Pre-School\, Treloweth CP School\, Higher Broad Lane\, Illogan South\, Redruth\, TR15 3JL \nThe benefits of Baby Massage can include: \n⭐ Improved communication between parents and baby\n⭐ Help to calm baby’s emotions and relieve stress\n⭐ Help babies develop an awareness of their body\n⭐ Enhance parent’s ability to develop and understand their baby’s needs\n⭐ Aid digestion and help relieve colic\, wind\, and constipation\n⭐ Strengthen the immune system\n⭐ Support bonding and attachment\n⭐ A great chance to meet other new parents in the area! \nBook early as places are limited\n  Where: Happy Days Nursery & Pre-School\, Treloweth CP School\, Higher Broad Lane\, Illogan South\, Redruth\, TR15 3JL\n  Call: 01209 313 080\n  Email: treloweth@happydaysnurseries.com
URL:https://happydaysnurseries.com/event/baby-massage-treloweth/2025-07-15/
LOCATION:Happy Days Nursery & Pre-School\, Treloweth\, Happy Days Nursery Treloweth CP School Higher Broad Lane Illogan South\, Redruth\, Cornwall\, TR15 3JL
CATEGORIES:Baby Massage
ATTACH;FMTTYPE=image/jpeg:https://happydaysnurseries.com/wp-content/uploads/2025/06/baby-massage-Treloweth-scaled.jpg
END:VEVENT
BEGIN:VEVENT
DTSTART;TZID=Europe/London:20250717T100000
DTEND;TZID=Europe/London:20250717T110000
DTSTAMP:20260419T181241
CREATED:20250611T095329Z
LAST-MODIFIED:20250611T100308Z
UID:10005216-1752746400-1752750000@happydaysnurseries.com
SUMMARY:FREE Baby Massage at Happy Days Nursery\, Treloweth
DESCRIPTION:Join us at Happy Days Treloweth for our Free Baby Massage Classes! Designed for babies aged 12 weeks to 12 months (non-mobile)\, these sessions provide a wonderful opportunity to bond with your little one in a calm and nurturing environment. Don’t miss out—come and experience the benefits of baby massage with us! \nThis is a 4 week course taking place every Thursday from July 10\, feel free to join us on any/all sessions! \nSession theme: Baby Massage\nWhen: Thursday 10\, 17\, 24\, 31 July from 10:00 am to 11:00am\nWhere: Happy Days Nursery & Pre-School\, Treloweth CP School\, Higher Broad Lane\, Illogan South\, Redruth\, TR15 3JL \nThe benefits of Baby Massage can include: \n⭐ Improved communication between parents and baby\n⭐ Help to calm baby’s emotions and relieve stress\n⭐ Help babies develop an awareness of their body\n⭐ Enhance parent’s ability to develop and understand their baby’s needs\n⭐ Aid digestion and help relieve colic\, wind\, and constipation\n⭐ Strengthen the immune system\n⭐ Support bonding and attachment\n⭐ A great chance to meet other new parents in the area! \nBook early as places are limited\n  Where: Happy Days Nursery & Pre-School\, Treloweth CP School\, Higher Broad Lane\, Illogan South\, Redruth\, TR15 3JL\n  Call: 01209 313 080\n  Email: treloweth@happydaysnurseries.com
URL:https://happydaysnurseries.com/event/baby-massage-treloweth/2025-07-17/
LOCATION:Happy Days Nursery & Pre-School\, Treloweth\, Happy Days Nursery Treloweth CP School Higher Broad Lane Illogan South\, Redruth\, Cornwall\, TR15 3JL
CATEGORIES:Baby Massage
ATTACH;FMTTYPE=image/jpeg:https://happydaysnurseries.com/wp-content/uploads/2025/06/baby-massage-Treloweth-scaled.jpg
END:VEVENT
BEGIN:VEVENT
DTSTART;TZID=Europe/London:20250722T100000
DTEND;TZID=Europe/London:20250722T110000
DTSTAMP:20260419T181241
CREATED:20250611T095329Z
LAST-MODIFIED:20250611T100308Z
UID:10005217-1753178400-1753182000@happydaysnurseries.com
SUMMARY:FREE Baby Massage at Happy Days Nursery\, Treloweth
DESCRIPTION:Join us at Happy Days Treloweth for our Free Baby Massage Classes! Designed for babies aged 12 weeks to 12 months (non-mobile)\, these sessions provide a wonderful opportunity to bond with your little one in a calm and nurturing environment. Don’t miss out—come and experience the benefits of baby massage with us! \nThis is a 4 week course taking place every Thursday from July 10\, feel free to join us on any/all sessions! \nSession theme: Baby Massage\nWhen: Thursday 10\, 17\, 24\, 31 July from 10:00 am to 11:00am\nWhere: Happy Days Nursery & Pre-School\, Treloweth CP School\, Higher Broad Lane\, Illogan South\, Redruth\, TR15 3JL \nThe benefits of Baby Massage can include: \n⭐ Improved communication between parents and baby\n⭐ Help to calm baby’s emotions and relieve stress\n⭐ Help babies develop an awareness of their body\n⭐ Enhance parent’s ability to develop and understand their baby’s needs\n⭐ Aid digestion and help relieve colic\, wind\, and constipation\n⭐ Strengthen the immune system\n⭐ Support bonding and attachment\n⭐ A great chance to meet other new parents in the area! \nBook early as places are limited\n  Where: Happy Days Nursery & Pre-School\, Treloweth CP School\, Higher Broad Lane\, Illogan South\, Redruth\, TR15 3JL\n  Call: 01209 313 080\n  Email: treloweth@happydaysnurseries.com
URL:https://happydaysnurseries.com/event/baby-massage-treloweth/2025-07-22/
LOCATION:Happy Days Nursery & Pre-School\, Treloweth\, Happy Days Nursery Treloweth CP School Higher Broad Lane Illogan South\, Redruth\, Cornwall\, TR15 3JL
CATEGORIES:Baby Massage
ATTACH;FMTTYPE=image/jpeg:https://happydaysnurseries.com/wp-content/uploads/2025/06/baby-massage-Treloweth-scaled.jpg
END:VEVENT
BEGIN:VEVENT
DTSTART;TZID=Europe/London:20250724T100000
DTEND;TZID=Europe/London:20250724T110000
DTSTAMP:20260419T181241
CREATED:20250611T095329Z
LAST-MODIFIED:20250611T100308Z
UID:10005218-1753351200-1753354800@happydaysnurseries.com
SUMMARY:FREE Baby Massage at Happy Days Nursery\, Treloweth
DESCRIPTION:Join us at Happy Days Treloweth for our Free Baby Massage Classes! Designed for babies aged 12 weeks to 12 months (non-mobile)\, these sessions provide a wonderful opportunity to bond with your little one in a calm and nurturing environment. Don’t miss out—come and experience the benefits of baby massage with us! \nThis is a 4 week course taking place every Thursday from July 10\, feel free to join us on any/all sessions! \nSession theme: Baby Massage\nWhen: Thursday 10\, 17\, 24\, 31 July from 10:00 am to 11:00am\nWhere: Happy Days Nursery & Pre-School\, Treloweth CP School\, Higher Broad Lane\, Illogan South\, Redruth\, TR15 3JL \nThe benefits of Baby Massage can include: \n⭐ Improved communication between parents and baby\n⭐ Help to calm baby’s emotions and relieve stress\n⭐ Help babies develop an awareness of their body\n⭐ Enhance parent’s ability to develop and understand their baby’s needs\n⭐ Aid digestion and help relieve colic\, wind\, and constipation\n⭐ Strengthen the immune system\n⭐ Support bonding and attachment\n⭐ A great chance to meet other new parents in the area! \nBook early as places are limited\n  Where: Happy Days Nursery & Pre-School\, Treloweth CP School\, Higher Broad Lane\, Illogan South\, Redruth\, TR15 3JL\n  Call: 01209 313 080\n  Email: treloweth@happydaysnurseries.com
URL:https://happydaysnurseries.com/event/baby-massage-treloweth/2025-07-24/
LOCATION:Happy Days Nursery & Pre-School\, Treloweth\, Happy Days Nursery Treloweth CP School Higher Broad Lane Illogan South\, Redruth\, Cornwall\, TR15 3JL
CATEGORIES:Baby Massage
ATTACH;FMTTYPE=image/jpeg:https://happydaysnurseries.com/wp-content/uploads/2025/06/baby-massage-Treloweth-scaled.jpg
END:VEVENT
BEGIN:VEVENT
DTSTART;TZID=Europe/London:20250729T100000
DTEND;TZID=Europe/London:20250729T110000
DTSTAMP:20260419T181241
CREATED:20250611T095329Z
LAST-MODIFIED:20250611T100308Z
UID:10005219-1753783200-1753786800@happydaysnurseries.com
SUMMARY:FREE Baby Massage at Happy Days Nursery\, Treloweth
DESCRIPTION:Join us at Happy Days Treloweth for our Free Baby Massage Classes! Designed for babies aged 12 weeks to 12 months (non-mobile)\, these sessions provide a wonderful opportunity to bond with your little one in a calm and nurturing environment. Don’t miss out—come and experience the benefits of baby massage with us! \nThis is a 4 week course taking place every Thursday from July 10\, feel free to join us on any/all sessions! \nSession theme: Baby Massage\nWhen: Thursday 10\, 17\, 24\, 31 July from 10:00 am to 11:00am\nWhere: Happy Days Nursery & Pre-School\, Treloweth CP School\, Higher Broad Lane\, Illogan South\, Redruth\, TR15 3JL \nThe benefits of Baby Massage can include: \n⭐ Improved communication between parents and baby\n⭐ Help to calm baby’s emotions and relieve stress\n⭐ Help babies develop an awareness of their body\n⭐ Enhance parent’s ability to develop and understand their baby’s needs\n⭐ Aid digestion and help relieve colic\, wind\, and constipation\n⭐ Strengthen the immune system\n⭐ Support bonding and attachment\n⭐ A great chance to meet other new parents in the area! \nBook early as places are limited\n  Where: Happy Days Nursery & Pre-School\, Treloweth CP School\, Higher Broad Lane\, Illogan South\, Redruth\, TR15 3JL\n  Call: 01209 313 080\n  Email: treloweth@happydaysnurseries.com
URL:https://happydaysnurseries.com/event/baby-massage-treloweth/2025-07-29/
LOCATION:Happy Days Nursery & Pre-School\, Treloweth\, Happy Days Nursery Treloweth CP School Higher Broad Lane Illogan South\, Redruth\, Cornwall\, TR15 3JL
CATEGORIES:Baby Massage
ATTACH;FMTTYPE=image/jpeg:https://happydaysnurseries.com/wp-content/uploads/2025/06/baby-massage-Treloweth-scaled.jpg
END:VEVENT
BEGIN:VEVENT
DTSTART;TZID=Europe/London:20250729T150000
DTEND;TZID=Europe/London:20250729T160000
DTSTAMP:20260419T181241
CREATED:20250724T152844Z
LAST-MODIFIED:20250724T153544Z
UID:10005311-1753801200-1753804800@happydaysnurseries.com
SUMMARY:The Tiger Who Came to Tea Picnic
DESCRIPTION:The Tiger Who Came to Tea Picnic \nDate: Thursday 29th July 2025Time: 3:00 PM – 4:00 PMLocation: Happy Days Nursery & Pre-School\, Beechbank Avenue\, Creekmoor\, Poole\, BH17 7FF \nJoin us at Happy Days Nursery Poole for a special Tiger Who Came to Tea party! Inspired by the much-loved story\, this themed Stay & Play session will include storytelling\, tea-time treats\, and plenty of fun-filled activities for children and families to enjoy together. \nIt’s a great chance to experience our welcoming nursery environment\, meet the team\, and see what makes Happy Days such a special place to learn and grow. \nSpaces are limited—book now to secure your spot! \n📞 Call: 01202 698 427📧 Email: poole@happydaysnurseries.com \nWe can’t wait to welcome you for tea with the tiger!
URL:https://happydaysnurseries.com/event/tiger-who-came-to-tea-poole/
LOCATION:Happy Days Nursery & Pre-School\, Poole\, Beechbank Avenue\, Creekmoor\, Poole\, BH17 7FF
CATEGORIES:Stay & Play
ATTACH;FMTTYPE=image/jpeg:https://happydaysnurseries.com/wp-content/uploads/2025/07/Tiger-came-to-tea-picnic.jpg
END:VEVENT
BEGIN:VEVENT
DTSTART;TZID=Europe/London:20250731T100000
DTEND;TZID=Europe/London:20250731T110000
DTSTAMP:20260419T181241
CREATED:20250611T095329Z
LAST-MODIFIED:20250611T100308Z
UID:10005220-1753956000-1753959600@happydaysnurseries.com
SUMMARY:FREE Baby Massage at Happy Days Nursery\, Treloweth
DESCRIPTION:Join us at Happy Days Treloweth for our Free Baby Massage Classes! Designed for babies aged 12 weeks to 12 months (non-mobile)\, these sessions provide a wonderful opportunity to bond with your little one in a calm and nurturing environment. Don’t miss out—come and experience the benefits of baby massage with us! \nThis is a 4 week course taking place every Thursday from July 10\, feel free to join us on any/all sessions! \nSession theme: Baby Massage\nWhen: Thursday 10\, 17\, 24\, 31 July from 10:00 am to 11:00am\nWhere: Happy Days Nursery & Pre-School\, Treloweth CP School\, Higher Broad Lane\, Illogan South\, Redruth\, TR15 3JL \nThe benefits of Baby Massage can include: \n⭐ Improved communication between parents and baby\n⭐ Help to calm baby’s emotions and relieve stress\n⭐ Help babies develop an awareness of their body\n⭐ Enhance parent’s ability to develop and understand their baby’s needs\n⭐ Aid digestion and help relieve colic\, wind\, and constipation\n⭐ Strengthen the immune system\n⭐ Support bonding and attachment\n⭐ A great chance to meet other new parents in the area! \nBook early as places are limited\n  Where: Happy Days Nursery & Pre-School\, Treloweth CP School\, Higher Broad Lane\, Illogan South\, Redruth\, TR15 3JL\n  Call: 01209 313 080\n  Email: treloweth@happydaysnurseries.com
URL:https://happydaysnurseries.com/event/baby-massage-treloweth/2025-07-31/
LOCATION:Happy Days Nursery & Pre-School\, Treloweth\, Happy Days Nursery Treloweth CP School Higher Broad Lane Illogan South\, Redruth\, Cornwall\, TR15 3JL
CATEGORIES:Baby Massage
ATTACH;FMTTYPE=image/jpeg:https://happydaysnurseries.com/wp-content/uploads/2025/06/baby-massage-Treloweth-scaled.jpg
END:VEVENT
END:VCALENDAR