BEGIN:VCALENDAR
VERSION:2.0
PRODID:-//Happy Days Nursery - ECPv6.15.20//NONSGML v1.0//EN
CALSCALE:GREGORIAN
METHOD:PUBLISH
X-ORIGINAL-URL:https://happydaysnurseries.com
X-WR-CALDESC:Events for Happy Days Nursery
REFRESH-INTERVAL;VALUE=DURATION:PT1H
X-Robots-Tag:noindex
X-PUBLISHED-TTL:PT1H
BEGIN:VTIMEZONE
TZID:Europe/London
BEGIN:DAYLIGHT
TZOFFSETFROM:+0000
TZOFFSETTO:+0100
TZNAME:BST
DTSTART:20240331T010000
END:DAYLIGHT
BEGIN:STANDARD
TZOFFSETFROM:+0100
TZOFFSETTO:+0000
TZNAME:GMT
DTSTART:20241027T010000
END:STANDARD
BEGIN:DAYLIGHT
TZOFFSETFROM:+0000
TZOFFSETTO:+0100
TZNAME:BST
DTSTART:20250330T010000
END:DAYLIGHT
BEGIN:STANDARD
TZOFFSETFROM:+0100
TZOFFSETTO:+0000
TZNAME:GMT
DTSTART:20251026T010000
END:STANDARD
BEGIN:DAYLIGHT
TZOFFSETFROM:+0000
TZOFFSETTO:+0100
TZNAME:BST
DTSTART:20260329T010000
END:DAYLIGHT
BEGIN:STANDARD
TZOFFSETFROM:+0100
TZOFFSETTO:+0000
TZNAME:GMT
DTSTART:20261025T010000
END:STANDARD
END:VTIMEZONE
BEGIN:VEVENT
DTSTART;TZID=Europe/London:20251201T100000
DTEND;TZID=Europe/London:20251201T110000
DTSTAMP:20260419T231417
CREATED:20251125T095718Z
LAST-MODIFIED:20251125T100349Z
UID:10006042-1764583200-1764586800@happydaysnurseries.com
SUMMARY:The Hollies Nursery Rudolph Run for City Hospice! |  Ras Rudolph Meithrinfa The Hollies er Manceinio
DESCRIPTION:The Hollies Nursery Rudolph Run for City Hospice! 🦌🎄 \nWe’re excited to share that The Hollies Nursery will be taking part in the Rudolph Run in support of City Hospice! \nEach child will receive antlers and a sponsor form\, kindly provided by the hospice\, and will take part in a fun\, festive run to help raise vital funds. Last year\, schools across Cardiff raised an incredible £11\,000\, and we hope to help make this year just as successful! \n✨ How You Can Support:\nYou can sponsor the children\, share the event with friends and family\, and help us spread festive cheer while supporting a truly wonderful cause. Every donation\, big or small\, makes a huge difference to families cared for by City Hospice. \nLet’s come together to make this festive fundraiser magical and meaningful! 🎅\n————————————————————————\nRas Rudolph Meithrinfa The Hollies er Manceinion City Hospice! 🦌🎄 \nRydym wrth ein bodd o gyhoeddi bod Meithrinfa The Hollies yn cymryd rhan yn Ras Rudolph er mwyn cefnogi City Hospice! \nBydd pob plentyn yn derbyn cornel antlers a ffurflen noddi\, a ddarperir yn garedig gan y hospice\, ac yn cymryd rhan mewn ras hwyl a llawn hwyl i godi arian hanfodol. Y llynedd\, cododd ysgolion ledled Caerdydd £11\,000 anhygoel\, ac rydym yn gobeithio gwneud eleni yr un mor lwyddiannus! \n✨ Sut y Gallwch Chi Gefnogi:\nGallwch noddi’r plant\, rhannu’r digwyddiad gyda ffrindiau a theulu\, a helpu i ledaenu llawenydd y Nadolig tra’n cefnogi achos gwirioneddol wych. Mae pob rhodd\, fawr neu fach\, yn gwneud gwahaniaeth enfawr i deuluoedd sy’n cael eu gofalu gan City Hospice. \nDewch at ei gilydd i wneud y digwyddiad codi arian Nadoligaidd hwn yn hudolus ac ystyrlon! 🎅
URL:https://happydaysnurseries.com/event/the-hollies-nursery-run/
LOCATION:The Hollies Daycare Nursery\, 9 Sanatorium\, Canton\, Cardiff\, CF11 8DG
ATTACH;FMTTYPE=image/jpeg:https://happydaysnurseries.com/wp-content/uploads/2025/11/Rudolph-Run-The-Hollies-2.jpg
END:VEVENT
BEGIN:VEVENT
DTSTART;TZID=Europe/London:20251215T130000
DTEND;TZID=Europe/London:20251215T170000
DTSTAMP:20260419T231417
CREATED:20251124T151841Z
LAST-MODIFIED:20251124T161014Z
UID:10006037-1765803600-1765818000@happydaysnurseries.com
SUMMARY:Book Your Boorley Green Nursery Tour Today!
DESCRIPTION:We are delighted to share that the build of our brand-new Happy Days Nursery & Pre-School in Boorley Green is progressing right on schedule. For the first time since construction began earlier this year\, we are able to open our doors and welcome families inside for an exclusive preview. \nThroughout December\, we will be hosting small-group tours of our fully furnished nursery\, including all age-group rooms and shared spaces. There are limited dates and times available\, so please book early to secure your place. \nThis is a wonderful opportunity to see the nursery nearing completion\, meet more of our dedicated team\, and have any questions you may have answered ahead of our official opening in January. \nSimply click the link below to choose your preferred tour slot. We can’t wait to welcome you! \n⭐ CLICK HERE TO BOOK YOUR DECEMBER TOUR TODAY  ⭐  \n 
URL:https://happydaysnurseries.com/event/nursery-tour-boorley-green/2025-12-15/
LOCATION:Happy Days Nursery & Pre-School\, Boorley Green\, Happy Days Nursery & Preschool\, Nairn Road\, Boorley Green\, Hampshire\, SO32 2SH\, United Kingdom
CATEGORIES:New Nursery Info Event
ATTACH;FMTTYPE=image/jpeg:https://happydaysnurseries.com/wp-content/uploads/2025/11/BG-nursery-tours-scaled.jpg
END:VEVENT
BEGIN:VEVENT
DTSTART;TZID=Europe/London:20251216T093000
DTEND;TZID=Europe/London:20251216T113000
DTSTAMP:20260419T231417
CREATED:20251124T151841Z
LAST-MODIFIED:20251124T161014Z
UID:10006038-1765877400-1765884600@happydaysnurseries.com
SUMMARY:Book Your Boorley Green Nursery Tour Today!
DESCRIPTION:We are delighted to share that the build of our brand-new Happy Days Nursery & Pre-School in Boorley Green is progressing right on schedule. For the first time since construction began earlier this year\, we are able to open our doors and welcome families inside for an exclusive preview. \nThroughout December\, we will be hosting small-group tours of our fully furnished nursery\, including all age-group rooms and shared spaces. There are limited dates and times available\, so please book early to secure your place. \nThis is a wonderful opportunity to see the nursery nearing completion\, meet more of our dedicated team\, and have any questions you may have answered ahead of our official opening in January. \nSimply click the link below to choose your preferred tour slot. We can’t wait to welcome you! \n⭐ CLICK HERE TO BOOK YOUR DECEMBER TOUR TODAY  ⭐  \n 
URL:https://happydaysnurseries.com/event/nursery-tour-boorley-green/2025-12-16/
LOCATION:Happy Days Nursery & Pre-School\, Boorley Green\, Happy Days Nursery & Preschool\, Nairn Road\, Boorley Green\, Hampshire\, SO32 2SH\, United Kingdom
CATEGORIES:New Nursery Info Event
ATTACH;FMTTYPE=image/jpeg:https://happydaysnurseries.com/wp-content/uploads/2025/11/BG-nursery-tours-scaled.jpg
END:VEVENT
BEGIN:VEVENT
DTSTART;TZID=Europe/London:20251217T140000
DTEND;TZID=Europe/London:20251217T180000
DTSTAMP:20260419T231417
CREATED:20251124T151841Z
LAST-MODIFIED:20251124T161014Z
UID:10006039-1765980000-1765994400@happydaysnurseries.com
SUMMARY:Book Your Boorley Green Nursery Tour Today!
DESCRIPTION:We are delighted to share that the build of our brand-new Happy Days Nursery & Pre-School in Boorley Green is progressing right on schedule. For the first time since construction began earlier this year\, we are able to open our doors and welcome families inside for an exclusive preview. \nThroughout December\, we will be hosting small-group tours of our fully furnished nursery\, including all age-group rooms and shared spaces. There are limited dates and times available\, so please book early to secure your place. \nThis is a wonderful opportunity to see the nursery nearing completion\, meet more of our dedicated team\, and have any questions you may have answered ahead of our official opening in January. \nSimply click the link below to choose your preferred tour slot. We can’t wait to welcome you! \n⭐ CLICK HERE TO BOOK YOUR DECEMBER TOUR TODAY  ⭐  \n 
URL:https://happydaysnurseries.com/event/nursery-tour-boorley-green/2025-12-17/
LOCATION:Happy Days Nursery & Pre-School\, Boorley Green\, Happy Days Nursery & Preschool\, Nairn Road\, Boorley Green\, Hampshire\, SO32 2SH\, United Kingdom
CATEGORIES:New Nursery Info Event
ATTACH;FMTTYPE=image/jpeg:https://happydaysnurseries.com/wp-content/uploads/2025/11/BG-nursery-tours-scaled.jpg
END:VEVENT
BEGIN:VEVENT
DTSTART;TZID=Europe/London:20251218T093000
DTEND;TZID=Europe/London:20251218T123000
DTSTAMP:20260419T231417
CREATED:20251124T151841Z
LAST-MODIFIED:20251124T161014Z
UID:10006040-1766050200-1766061000@happydaysnurseries.com
SUMMARY:Book Your Boorley Green Nursery Tour Today!
DESCRIPTION:We are delighted to share that the build of our brand-new Happy Days Nursery & Pre-School in Boorley Green is progressing right on schedule. For the first time since construction began earlier this year\, we are able to open our doors and welcome families inside for an exclusive preview. \nThroughout December\, we will be hosting small-group tours of our fully furnished nursery\, including all age-group rooms and shared spaces. There are limited dates and times available\, so please book early to secure your place. \nThis is a wonderful opportunity to see the nursery nearing completion\, meet more of our dedicated team\, and have any questions you may have answered ahead of our official opening in January. \nSimply click the link below to choose your preferred tour slot. We can’t wait to welcome you! \n⭐ CLICK HERE TO BOOK YOUR DECEMBER TOUR TODAY  ⭐  \n 
URL:https://happydaysnurseries.com/event/nursery-tour-boorley-green/2025-12-18/
LOCATION:Happy Days Nursery & Pre-School\, Boorley Green\, Happy Days Nursery & Preschool\, Nairn Road\, Boorley Green\, Hampshire\, SO32 2SH\, United Kingdom
CATEGORIES:New Nursery Info Event
ATTACH;FMTTYPE=image/jpeg:https://happydaysnurseries.com/wp-content/uploads/2025/11/BG-nursery-tours-scaled.jpg
END:VEVENT
BEGIN:VEVENT
DTSTART;TZID=Europe/London:20251222T090000
DTEND;TZID=Europe/London:20251222T170000
DTSTAMP:20260419T231417
CREATED:20251121T110504Z
LAST-MODIFIED:20251121T111949Z
UID:10006035-1766394000-1766422800@happydaysnurseries.com
SUMMARY:You’re Invited to Our Christmas Open House!
DESCRIPTION:Looking for a nursery in Boorley Green or considering childcare for 2026? Happy Days Nursery Boorley Green is excited to invite local families to our Christmas Open House on 22 December between 9am and 5pm. \nOur brand new nursery is due to open in January 2026\, and this festive event is the perfect chance for parents and the local community to explore our purpose built early years setting before we open. \nWhat to Expect at Our Christmas Open House\n🎄 Tour our brand-new early years learning environments🎄 Enjoy Christmas themed activities for babies\, toddlers and pre schoolers🎄 Meet our experienced and friendly nursery and childcare team🎄 Learn more about our curriculum and approach🎄 Enquire about nursery places for 2026 \nWhether you’re searching for high quality childcare in Boorley Green or simply want to see what we’ve created for local families\, everyone is welcome to drop in throughout the day. \nJoin us on 22 December\, enjoy some festive fun\, and get a first look at the newest Happy Days Nursery opening in your community in January 2026.
URL:https://happydaysnurseries.com/event/open-house-boorley-green-christmas/
LOCATION:Happy Days Nursery & Pre-School\, Boorley Green\, Happy Days Nursery & Preschool\, Nairn Road\, Boorley Green\, Hampshire\, SO32 2SH\, United Kingdom
CATEGORIES:New Nursery Info Event
ATTACH;FMTTYPE=image/jpeg:https://happydaysnurseries.com/wp-content/uploads/2025/11/BG-Open-House-scaled.jpg
END:VEVENT
BEGIN:VEVENT
DTSTART;TZID=Europe/London:20251223T093000
DTEND;TZID=Europe/London:20251223T163000
DTSTAMP:20260419T231417
CREATED:20251124T151841Z
LAST-MODIFIED:20251124T161014Z
UID:10006041-1766482200-1766507400@happydaysnurseries.com
SUMMARY:Book Your Boorley Green Nursery Tour Today!
DESCRIPTION:We are delighted to share that the build of our brand-new Happy Days Nursery & Pre-School in Boorley Green is progressing right on schedule. For the first time since construction began earlier this year\, we are able to open our doors and welcome families inside for an exclusive preview. \nThroughout December\, we will be hosting small-group tours of our fully furnished nursery\, including all age-group rooms and shared spaces. There are limited dates and times available\, so please book early to secure your place. \nThis is a wonderful opportunity to see the nursery nearing completion\, meet more of our dedicated team\, and have any questions you may have answered ahead of our official opening in January. \nSimply click the link below to choose your preferred tour slot. We can’t wait to welcome you! \n⭐ CLICK HERE TO BOOK YOUR DECEMBER TOUR TODAY  ⭐  \n 
URL:https://happydaysnurseries.com/event/nursery-tour-boorley-green/2025-12-23/
LOCATION:Happy Days Nursery & Pre-School\, Boorley Green\, Happy Days Nursery & Preschool\, Nairn Road\, Boorley Green\, Hampshire\, SO32 2SH\, United Kingdom
CATEGORIES:New Nursery Info Event
ATTACH;FMTTYPE=image/jpeg:https://happydaysnurseries.com/wp-content/uploads/2025/11/BG-nursery-tours-scaled.jpg
END:VEVENT
END:VCALENDAR