BEGIN:VCALENDAR
VERSION:2.0
PRODID:-//Happy Days Nursery - ECPv6.15.20//NONSGML v1.0//EN
CALSCALE:GREGORIAN
METHOD:PUBLISH
X-WR-CALNAME:Happy Days Nursery
X-ORIGINAL-URL:https://happydaysnurseries.com
X-WR-CALDESC:Events for Happy Days Nursery
REFRESH-INTERVAL;VALUE=DURATION:PT1H
X-Robots-Tag:noindex
X-PUBLISHED-TTL:PT1H
BEGIN:VTIMEZONE
TZID:Europe/London
BEGIN:DAYLIGHT
TZOFFSETFROM:+0000
TZOFFSETTO:+0100
TZNAME:BST
DTSTART:20230326T010000
END:DAYLIGHT
BEGIN:STANDARD
TZOFFSETFROM:+0100
TZOFFSETTO:+0000
TZNAME:GMT
DTSTART:20231029T010000
END:STANDARD
BEGIN:DAYLIGHT
TZOFFSETFROM:+0000
TZOFFSETTO:+0100
TZNAME:BST
DTSTART:20240331T010000
END:DAYLIGHT
BEGIN:STANDARD
TZOFFSETFROM:+0100
TZOFFSETTO:+0000
TZNAME:GMT
DTSTART:20241027T010000
END:STANDARD
BEGIN:DAYLIGHT
TZOFFSETFROM:+0000
TZOFFSETTO:+0100
TZNAME:BST
DTSTART:20250330T010000
END:DAYLIGHT
BEGIN:STANDARD
TZOFFSETFROM:+0100
TZOFFSETTO:+0000
TZNAME:GMT
DTSTART:20251026T010000
END:STANDARD
END:VTIMEZONE
BEGIN:VEVENT
DTSTART;TZID=Europe/London:20240315T100000
DTEND;TZID=Europe/London:20240315T110000
DTSTAMP:20260423T081040
CREATED:20240206T164041Z
LAST-MODIFIED:20240214T112805Z
UID:10000014-1710496800-1710500400@happydaysnurseries.com
SUMMARY:Free Stay & Play Sessions
DESCRIPTION:Join us for FREE Stay and Play for over 3’s at Happy Days\, Droitwich for 6 weeks!\n \nWhen: 16th February 10am-11amWhere: Happy Days\, Droitwich Spa\, Worcestershire\n \nThey’ll be a new and exciting theme each week…16 Feb | Let’s Get Messy23 Feb | Let’s Cook1 March | Let‘s Build8 March | Animals & Insects15 March | Storytime22 March | Let‘s Get Active\n \nThese sessions get booked up super fast so get in touch to confirm your place as quick as possible. Booking is essential!\n \n Where: Happy Days Nursery & Pre-School\, Woodland Way\, Yew Tree Village\, Droitwich Spa\, Worcestershire\, WR9 7GP Call: 01905 590500 Email: droitwich@happydaysnurseries.com\n\n\n \n \n 
URL:https://happydaysnurseries.com/event/free-stay-and-play-droitwich-nursery-5/
LOCATION:Happy Days Nursery & Pre-School\, Droitwich Spa\, 9 Woodland Way\, Yew Tree Village\, WR9 7GP
CATEGORIES:Stay & Play
ATTACH;FMTTYPE=image/jpeg:https://happydaysnurseries.com/wp-content/uploads/2024/02/Stay-and-Play-Droitwich-Event.jpg
END:VEVENT
BEGIN:VEVENT
DTSTART;TZID=Europe/London:20240315T100000
DTEND;TZID=Europe/London:20240315T110000
DTSTAMP:20260423T081040
CREATED:20240227T154736Z
LAST-MODIFIED:20240227T155124Z
UID:10002252-1710496800-1710500400@happydaysnurseries.com
SUMMARY:Join us for FREE Stay and Play - Red Nose day at BTP
DESCRIPTION:Join us for FREE Stay and Play – Red Nose day at BTP \nOur Stay and Play sessions are back! Join us for a host of activities based around sensory play. This event is aimed at children aged 3 months – 18 months and is limited to 12 children only so book your place today! \nWhen: Friday 15th March 10:00-11:00amWhere: Boston Tea Party Cheswick Village \nTo reserve a place\, please contact btpcheswickevents@outlook.com or cheswick@happydaysnurseries.com \n📍 Where: 7 The Square\, Long Down Avenue\, Cheswick Village\, Stoke Gifford BS16 1GU☎ Call: 01179 798 953📩 Email: cheswick@happydaysnurseries.com
URL:https://happydaysnurseries.com/event/btp-red-nose-day-free-stay-and-play-cheswick/
LOCATION:BTP Cheswick\, 7 The Square\, Long Down Avenue\, Cheswick Village\, Stoke Gifford\, BS16 1GU
CATEGORIES:Stay & Play
ATTACH;FMTTYPE=image/jpeg:https://happydaysnurseries.com/wp-content/uploads/2024/02/stay-and-play-over-2s-poole-1.jpg
END:VEVENT
END:VCALENDAR