BEGIN:VCALENDAR
VERSION:2.0
PRODID:-//Happy Days Nursery - ECPv6.15.20//NONSGML v1.0//EN
CALSCALE:GREGORIAN
METHOD:PUBLISH
X-WR-CALNAME:Happy Days Nursery
X-ORIGINAL-URL:https://happydaysnurseries.com
X-WR-CALDESC:Events for Happy Days Nursery
REFRESH-INTERVAL;VALUE=DURATION:PT1H
X-Robots-Tag:noindex
X-PUBLISHED-TTL:PT1H
BEGIN:VTIMEZONE
TZID:Europe/London
BEGIN:DAYLIGHT
TZOFFSETFROM:+0000
TZOFFSETTO:+0100
TZNAME:BST
DTSTART:20230326T010000
END:DAYLIGHT
BEGIN:STANDARD
TZOFFSETFROM:+0100
TZOFFSETTO:+0000
TZNAME:GMT
DTSTART:20231029T010000
END:STANDARD
BEGIN:DAYLIGHT
TZOFFSETFROM:+0000
TZOFFSETTO:+0100
TZNAME:BST
DTSTART:20240331T010000
END:DAYLIGHT
BEGIN:STANDARD
TZOFFSETFROM:+0100
TZOFFSETTO:+0000
TZNAME:GMT
DTSTART:20241027T010000
END:STANDARD
BEGIN:DAYLIGHT
TZOFFSETFROM:+0000
TZOFFSETTO:+0100
TZNAME:BST
DTSTART:20250330T010000
END:DAYLIGHT
BEGIN:STANDARD
TZOFFSETFROM:+0100
TZOFFSETTO:+0000
TZNAME:GMT
DTSTART:20251026T010000
END:STANDARD
END:VTIMEZONE
BEGIN:VEVENT
DTSTART;TZID=Europe/London:20240522T100000
DTEND;TZID=Europe/London:20240522T110000
DTSTAMP:20260422T222727
CREATED:20240425T090828Z
LAST-MODIFIED:20240425T092843Z
UID:10002372-1716372000-1716375600@happydaysnurseries.com
SUMMARY:Arhosiad a chwarae am ddim i'r rhai dros 2 oed yn The Hollies\, Caerdydd | Free Stay and Play for Over 2's at The Hollies!
DESCRIPTION:Arhosiad a chwarae am ddim i’r rhai dros 2 oed yn The Hollies\, Caerdydd \nYn galw ar holl rieni Caerdydd sydd â phlant 2 oed a hŷn! \nChwilio am fore o chwarae llawn dychymyg a chysylltiadau cymdeithasol i’ch plentyn? Mae Meithrinfa Gofal Dydd Hollies yn eich gwahodd i’n sesiwn aros a chwarae am ddim cyffrous! \nDyma pam na fyddwch chi a’ch plentyn am ei golli:▪  Spark dychymyg: Mae amgylchedd ein meithrinfa yn llawn gweithgareddau\, gemau a theganau sy’n briodol i’w hoedran i danio creadigrwydd a chwilfrydedd eich plentyn.▪  Gwneud ffrindiau newydd: Gadewch i’ch plentyn feithrin sgiliau cymdeithasol a chyfeillgarwch trwy chwarae rhyngweithiol gyda phlant eraill. ▪  Cysylltwch â rhieni eraill: Mwynhewch fore hamddenol gyda rhieni eraill Caerdydd tra bod eich plant yn archwilio ac yn cael hwyl. \nBudd-daliadau i’ch plentyn:▪  Datblygu sgiliau cymdeithasol trwy chwarae rhyngweithiol.▪  Gwella datblygiad gwybyddol trwy weithgareddau ysgogol.▪  Meithrin hyder trwy archwilio a darganfod. \nYmlaciwch a chysylltwch â rhieni eraill tra bod eich plentyn:▪  Cymryd rhan mewn gweithgareddau sy’n briodol i’w hoedran. ▪  Gwneud ffrindiau newydd mewn amgylchedd diogel dan oruchwyliaeth.▪  Yn cael hwyl ac yn dysgu trwy chwarae. \nYmunwch â’n cymuned sy’n tyfu! \nDydd Mercher 22 Mai\, 10am – 11amMeithrinfa Gofal Dydd Hollies\,9 Sanatorium Road\, Canton\, Caerdydd\, CF11 8DGNifer cyfyngedig o leoedd ar gael. RSVP heddiw!02920378177 neu hollies@happydaysnurseries.com \n_______________________________________________________________________________________ \nFree stay and play for over 2s at The Hollies\, Cardiff \nCalling all Cardiff parents with children aged 2 and over! \nLooking for a morning of imaginative play and social connections for your child? Hollies Day Care Nursery invites you to our exciting free wait and play session! \nHere’s why you and your child won’t want to miss it: \n\nSpark imagination: Our nursery environment is full of age-appropriate activities\, games and toys to spark your child’s creativity and curiosity.\nMake new friends: Let your child build social skills and friendships through interactive play with other children.\nConnect with other parents: Enjoy a relaxed morning with other Cardiff parents while your children explore and have fun.\n\nBenefits for your child: \n\nDevelop social skills through interactive play.\nImprove cognitive development through stimulating activities.\nBuild confidence through exploration and discovery.\n\nRelax and connect with other parents while your child: \n\nTake part in activities that are appropriate for their age.\nMake new friends in a safe and supervised environment.\nHave fun and learn through play.\n\nJoin our growing community! \nWednesday 22 May\, 10am to 11am  \nBook early as places are limited  Where: The Hollies Daycare Nursery\, 9 Sanatorium Road\, Canton\, Cardiff\, CF11 8DG  Call: 02920 378177  Email: thehollies@happydaysnurseries.com \n\n\n \n \n 
URL:https://happydaysnurseries.com/event/stay-play-over-2-the-hollies-cardiff/
LOCATION:The Hollies Daycare Nursery\, 9 Sanatorium\, Canton\, Cardiff\, CF11 8DG
CATEGORIES:Stay & Play
ATTACH;FMTTYPE=image/jpeg:https://happydaysnurseries.com/wp-content/uploads/2024/04/Stay-and-Play-Hollies-over-2s-1.jpg
END:VEVENT
BEGIN:VEVENT
DTSTART;TZID=Europe/London:20240522T180000
DTEND;TZID=Europe/London:20240522T190000
DTSTAMP:20260422T222727
CREATED:20240424T154910Z
LAST-MODIFIED:20240507T155850Z
UID:10002371-1716400800-1716404400@happydaysnurseries.com
SUMMARY:College and University Graduate Careers in Childcare Webinar
DESCRIPTION:Due to graduate College or University this summer and planning your next step? Learn if Early Years is for you! \nJoin us on May 22nd for our College and University Graduate Careers in Childcare Webinar to discover… \n· Career Opportunities for College and University Graduates both with and without Early Years Qualifications.· Ongoing Career Development Paths for College and University Graduates.· Our “Summer of Fun” Student Employment Programme – offering Students guaranteed paid summer work!· Q&A We’ll be there to answering all of your burning questions surrounding Early Years and helping you with next steps. \nThis is a great opportunity to get an insight into life within the nursery. \nWe’d love for you to join us! If you’d like to get in touch please contact recruitment@happydaysnurseries.com or 07467 861712
URL:https://happydaysnurseries.com/event/early-years-recruitment-webinar/
LOCATION:Please select a region\, state or province.
CATEGORIES:Recruitment
ATTACH;FMTTYPE=image/jpeg:https://happydaysnurseries.com/wp-content/uploads/2024/04/Website-Recruitment-Event-19.jpg
END:VEVENT
END:VCALENDAR