BEGIN:VCALENDAR
VERSION:2.0
PRODID:-//Happy Days Nursery - ECPv6.15.20//NONSGML v1.0//EN
CALSCALE:GREGORIAN
METHOD:PUBLISH
X-ORIGINAL-URL:https://happydaysnurseries.com
X-WR-CALDESC:Events for Happy Days Nursery
REFRESH-INTERVAL;VALUE=DURATION:PT1H
X-Robots-Tag:noindex
X-PUBLISHED-TTL:PT1H
BEGIN:VTIMEZONE
TZID:Europe/London
BEGIN:DAYLIGHT
TZOFFSETFROM:+0000
TZOFFSETTO:+0100
TZNAME:BST
DTSTART:20240331T010000
END:DAYLIGHT
BEGIN:STANDARD
TZOFFSETFROM:+0100
TZOFFSETTO:+0000
TZNAME:GMT
DTSTART:20241027T010000
END:STANDARD
BEGIN:DAYLIGHT
TZOFFSETFROM:+0000
TZOFFSETTO:+0100
TZNAME:BST
DTSTART:20250330T010000
END:DAYLIGHT
BEGIN:STANDARD
TZOFFSETFROM:+0100
TZOFFSETTO:+0000
TZNAME:GMT
DTSTART:20251026T010000
END:STANDARD
BEGIN:DAYLIGHT
TZOFFSETFROM:+0000
TZOFFSETTO:+0100
TZNAME:BST
DTSTART:20260329T010000
END:DAYLIGHT
BEGIN:STANDARD
TZOFFSETFROM:+0100
TZOFFSETTO:+0000
TZNAME:GMT
DTSTART:20261025T010000
END:STANDARD
END:VTIMEZONE
BEGIN:VEVENT
DTSTART;TZID=Europe/London:20250301T100000
DTEND;TZID=Europe/London:20250301T130000
DTSTAMP:20260423T053309
CREATED:20250218T160519Z
LAST-MODIFIED:20250218T161034Z
UID:10003746-1740823200-1740834000@happydaysnurseries.com
SUMMARY:March Open Day - Story Land
DESCRIPTION:Date: Saturday 1st March 2025Time: 10:00AM-13:00PM \nOur nursery looks forward to opening it’s doors to you on Saturday the 1st March between 10am and 1pm. In honour of World Book Day this year our Open Day has a brand new theme ‘Story Land’\, which we’re so excited for you to experience. \nOpen Day activities:– Discover Our Rooms – Both Inside and Out!– Enchanting Storybook-Themed Spaces– Engaging Interactive Story Stations– Get to Know Our Amazing Team– Celebrate World Book Day with Us– Enjoy Complimentary Book Tokens– Automatic Entry into Prize Draw for All Visitors \nCharlton Heights exclusive:– Dear Zoo ‘What’s in the box?’– The Tiger Who Came To Tea ‘Feed the Tiger’ and Tiger biscuits– Dear Zoo Animal Puzzle– Bear hunt and Bear masks \nThis Open Day is perfect for families who want to experience the joy of learning and growth in a nurturing environment. Come and discover why Happy Days Nurseries is the ideal place for your child’s early years education. They’ll be great activities set up for your child to have fun with\, whilst you make the most of this perfect opportunity to meet our incredible team\, explore our excellent facilities\, discover our curriculum\, learn about funding and ask any questions you may have. \nFree registration (terms and conditions apply)! \n\n\n\nNo need to book\, please drop in and have a day of fun on us!\n\n \n\n\n Where: Happy Days Nursery & Pre-School Chessel Drive Patchway Bristol BS34 5UZ Call: 0117 379 0360 Email: charltonheights@happydaysnurseries.com 
URL:https://happydaysnurseries.com/event/open-day-story-land-charlton/
LOCATION:Happy Days Nursery & Pre-School\, Charlton Heights\, Bristol\, BS34 5UZ\, Chessel Drive\, Patchway\, Bristol\, BS34 5UZ\, United Kingdom
CATEGORIES:Community Pop Up Event
ATTACH;FMTTYPE=image/jpeg:https://happydaysnurseries.com/wp-content/uploads/2025/02/Story-land-March-Open-Day-1.jpg
END:VEVENT
BEGIN:VEVENT
DTSTART;TZID=Europe/London:20250306T160000
DTEND;TZID=Europe/London:20250306T173000
DTSTAMP:20260423T053309
CREATED:20250219T121853Z
LAST-MODIFIED:20250219T122901Z
UID:10003750-1741276800-1741282200@happydaysnurseries.com
SUMMARY:Ty Agored | Open House
DESCRIPTION:Open House! No need to book\, just pop in when you can. \nDate: 6th & 20th MarchTime: 4:00 pm – 5:30 pm \nExplore our state-of-the-art facilities:– Tour our purpose-built nursery designed for your child’s learning and development.– Meet our friendly and dedicated nursery team. \nLearn everything you need to know:– Early years funding options and fees– Nursery opening hours and tour availability– Nutritious meal plans and delicious menus– Engaging early years curriculum– …and much more! \nThis is a fantastic opportunity for you to see our nursery and ask any questions you may have. We look forward to welcoming you and your family to The Hollies! \nNo need to book – just pop in when you can!  Where: The Hollies\, 9 Sanatorium Road\, Canton\, Cardiff\, CF11 8DG  Call: 02920 378 177  Email: hollies@happydaysnurseries.com \n____________________________________________________ \nTy Agored! Does dim angen archebu lle\, galwch heibio pan allwch chi. \nDyddiad: 6th & 20th MawrthAmser: 4:00 pm – 5:30 pm \nArchwiliwch ein cyfleusterau o’r radd flaenaf: \n\nEwch ar daith o amgylch ein meithrinfa bwrpasol sydd wedi’i dylunio ar gyfer dysgu a datblygiad eich plentyn.\nDewch i gwrdd â’n tîm meithrinfa cyfeillgar ac ymroddedig.\n\nDysgwch bopeth sydd angen i chi ei wybod: \n\nOpsiynau cyllid blynyddoedd cynnar a ffioedd\nOriau agor y feithrinfa ac argaeledd teithiau\nCynlluniau prydau maethlon a bwydlenni blasus\nYmrwymo i gwricwlwm y blynyddoedd cynnar\n…a llawer mwy!\n\nMae hwn yn gyfle gwych i chi weld ein meithrinfa a gofyn unrhyw gwestiynau sydd gennych. Edrychwn ymlaen at eich croesawu chi a’ch teulu i The Hollies! \nDoes dim angen archebu lle – galwch heibio pan allwch chi! \n 📍    Lle: The Hollies\, 9 Sanatorium Road\, Canton\, Cardiff\, CF11 8DG 📞  Galwch: 02920 378 177📧  E-bost:hollies@happydaysnurseries.com
URL:https://happydaysnurseries.com/event/hollies-open-house/2025-03-06/
LOCATION:The Hollies Daycare Nursery\, 9 Sanatorium\, Canton\, Cardiff\, CF11 8DG
CATEGORIES:Open Day
ATTACH;FMTTYPE=image/jpeg:https://happydaysnurseries.com/wp-content/uploads/2025/02/The-Hollies-Open-House.jpg
ORGANIZER;CN="The Hollies Daycare":MAILTO:thehollies@happydaysnurseries.com
END:VEVENT
BEGIN:VEVENT
DTSTART;TZID=Europe/London:20250320T160000
DTEND;TZID=Europe/London:20250320T173000
DTSTAMP:20260423T053309
CREATED:20250219T121853Z
LAST-MODIFIED:20250219T122901Z
UID:10003751-1742486400-1742491800@happydaysnurseries.com
SUMMARY:Ty Agored | Open House
DESCRIPTION:Open House! No need to book\, just pop in when you can. \nDate: 6th & 20th MarchTime: 4:00 pm – 5:30 pm \nExplore our state-of-the-art facilities:– Tour our purpose-built nursery designed for your child’s learning and development.– Meet our friendly and dedicated nursery team. \nLearn everything you need to know:– Early years funding options and fees– Nursery opening hours and tour availability– Nutritious meal plans and delicious menus– Engaging early years curriculum– …and much more! \nThis is a fantastic opportunity for you to see our nursery and ask any questions you may have. We look forward to welcoming you and your family to The Hollies! \nNo need to book – just pop in when you can!  Where: The Hollies\, 9 Sanatorium Road\, Canton\, Cardiff\, CF11 8DG  Call: 02920 378 177  Email: hollies@happydaysnurseries.com \n____________________________________________________ \nTy Agored! Does dim angen archebu lle\, galwch heibio pan allwch chi. \nDyddiad: 6th & 20th MawrthAmser: 4:00 pm – 5:30 pm \nArchwiliwch ein cyfleusterau o’r radd flaenaf: \n\nEwch ar daith o amgylch ein meithrinfa bwrpasol sydd wedi’i dylunio ar gyfer dysgu a datblygiad eich plentyn.\nDewch i gwrdd â’n tîm meithrinfa cyfeillgar ac ymroddedig.\n\nDysgwch bopeth sydd angen i chi ei wybod: \n\nOpsiynau cyllid blynyddoedd cynnar a ffioedd\nOriau agor y feithrinfa ac argaeledd teithiau\nCynlluniau prydau maethlon a bwydlenni blasus\nYmrwymo i gwricwlwm y blynyddoedd cynnar\n…a llawer mwy!\n\nMae hwn yn gyfle gwych i chi weld ein meithrinfa a gofyn unrhyw gwestiynau sydd gennych. Edrychwn ymlaen at eich croesawu chi a’ch teulu i The Hollies! \nDoes dim angen archebu lle – galwch heibio pan allwch chi! \n 📍    Lle: The Hollies\, 9 Sanatorium Road\, Canton\, Cardiff\, CF11 8DG 📞  Galwch: 02920 378 177📧  E-bost:hollies@happydaysnurseries.com
URL:https://happydaysnurseries.com/event/hollies-open-house/2025-03-20/
LOCATION:The Hollies Daycare Nursery\, 9 Sanatorium\, Canton\, Cardiff\, CF11 8DG
CATEGORIES:Open Day
ATTACH;FMTTYPE=image/jpeg:https://happydaysnurseries.com/wp-content/uploads/2025/02/The-Hollies-Open-House.jpg
ORGANIZER;CN="The Hollies Daycare":MAILTO:thehollies@happydaysnurseries.com
END:VEVENT
END:VCALENDAR