BEGIN:VCALENDAR
VERSION:2.0
PRODID:-//Happy Days Nursery - ECPv6.15.20//NONSGML v1.0//EN
CALSCALE:GREGORIAN
METHOD:PUBLISH
X-WR-CALNAME:Happy Days Nursery
X-ORIGINAL-URL:https://happydaysnurseries.com
X-WR-CALDESC:Events for Happy Days Nursery
REFRESH-INTERVAL;VALUE=DURATION:PT1H
X-Robots-Tag:noindex
X-PUBLISHED-TTL:PT1H
BEGIN:VTIMEZONE
TZID:Europe/London
BEGIN:DAYLIGHT
TZOFFSETFROM:+0000
TZOFFSETTO:+0100
TZNAME:BST
DTSTART:20240331T010000
END:DAYLIGHT
BEGIN:STANDARD
TZOFFSETFROM:+0100
TZOFFSETTO:+0000
TZNAME:GMT
DTSTART:20241027T010000
END:STANDARD
BEGIN:DAYLIGHT
TZOFFSETFROM:+0000
TZOFFSETTO:+0100
TZNAME:BST
DTSTART:20250330T010000
END:DAYLIGHT
BEGIN:STANDARD
TZOFFSETFROM:+0100
TZOFFSETTO:+0000
TZNAME:GMT
DTSTART:20251026T010000
END:STANDARD
BEGIN:DAYLIGHT
TZOFFSETFROM:+0000
TZOFFSETTO:+0100
TZNAME:BST
DTSTART:20260329T010000
END:DAYLIGHT
BEGIN:STANDARD
TZOFFSETFROM:+0100
TZOFFSETTO:+0000
TZNAME:GMT
DTSTART:20261025T010000
END:STANDARD
END:VTIMEZONE
BEGIN:VEVENT
DTSTART;TZID=Europe/London:20250609T093000
DTEND;TZID=Europe/London:20250609T190000
DTSTAMP:20260420T035403
CREATED:20250605T144048Z
LAST-MODIFIED:20250605T144610Z
UID:10005207-1749461400-1749495600@happydaysnurseries.com
SUMMARY:Open House & Recruitment Event
DESCRIPTION:🌟 Outstanding Opportunity at Happy Days Salisbury! 🌟 \nWe’re thrilled to invite you to our special Open House & Recruitment Event on Sunday\, 9th June at Happy Days Nursery & Pre-School\, Rhodes Moorhouse Way\, Longhedge\, Salisbury\, SP4 6SA. \n🗓️ Event Times: \n\n\n9:30am – 11:00am \n\n\n2:30pm – 4:00pm \n\n\n5:30pm – 7:00pm \n\n\nCome and:✅ Tour our purpose-built nursery\, designed to nurture every child’s learning and development.✅ Meet our friendly\, dedicated team\, who are passionate about providing the very best early years education.✅ Ask any questions about early years funding\, fees\, our engaging curriculum\, nutritious menus\, and more!✅ Discover our Outstanding Ofsted outcome — the inspector praised us for “exceptional care” and “inspirational teaching” that supports children to thrive. \n💼 We’re Hiring!Are you looking for a rewarding career in early years education? We’re seeking:✨ Nursery Practitioners (Level 3) – passionate\, qualified professionals who want to make a difference every day.✨ Nursery Cook – bring your culinary skills to our nursery kitchen and help us deliver nutritious\, home-cooked meals that children love. \n👉 Ad hoc interviews will be available on the day! Bring your CV and chat with our team about opportunities to join Happy Days. \n📍 Where: Happy Days Nursery & Pre-School\, Rhodes Moorhouse Way\, Longhedge\, Salisbury\, SP4 6SA📞 Call: 01722 510 009📧 Email: salisbury@happydaysnurseries.com \nDon’t miss this chance to see why Happy Days Salisbury is a truly Outstanding place to learn\, play\, and grow\, for both children and staff alike! 🌈 \n\n\n \n \n 
URL:https://happydaysnurseries.com/event/open-house-come-salisbury-june/
LOCATION:Happy Days Nursery & Pre-School\, Salisbury\, Rhodes Moorhouse Way\, Longhedge\, Salisbury\, SP4 6SA\, United Kingdom
CATEGORIES:Community Pop Up Event,Recruitment
ATTACH;FMTTYPE=image/jpeg:https://happydaysnurseries.com/wp-content/uploads/2025/06/website-Recruitment-salisbury.jpg
END:VEVENT
BEGIN:VEVENT
DTSTART;TZID=Europe/London:20250611T090000
DTEND;TZID=Europe/London:20250611T143000
DTSTAMP:20260420T035403
CREATED:20250514T091354Z
LAST-MODIFIED:20250514T091521Z
UID:10004562-1749632400-1749652200@happydaysnurseries.com
SUMMARY:Open House! At Happy Days Bradley Stoke
DESCRIPTION:Open House! No need to book\, just pop in when you can. \nDate: Wednesday 11 June\, 2025Time: 9:00 am – 2:30 pm \nExplore our state-of-the-art facilities:– Tour our purpose-built nursery designed for your child’s learning and development.– Tour our newly refurbished baby unit.– Meet our friendly and dedicated nursery team. \nLearn everything you need to know:– Early years funding options and fees– Nursery opening hours and tour availability– Nutritious meal plans and delicious menus– Engaging early years curriculum– …and much more! \nThis is a fantastic opportunity for you to see our nursery and ask any questions you may have. We look forward to welcoming you and your family to Happy Days! \nNo need to book – just pop in when you can!  Where: Happy Days Nursery & Pre-School\, Almondsbury Business Centre\, Woodlands Lane\, Bristol\, BS32 4QH  Call: 01454 614 411  Email: bradleystoke@happydaysnurseries.com \n\n\n \n \n 
URL:https://happydaysnurseries.com/event/open-house-bradley-stoke-june-2/
LOCATION:Happy Days Nursery & Pre-School\, Bradley Stoke\, Almondsbury Business Centre\, Woodlands Lane\, Bristol\, BH32 4QH
CATEGORIES:Open Day
ATTACH;FMTTYPE=image/jpeg:https://happydaysnurseries.com/wp-content/uploads/2024/07/open-house-Bradley-Stoke.jpg
END:VEVENT
BEGIN:VEVENT
DTSTART;TZID=Europe/London:20250619T090000
DTEND;TZID=Europe/London:20250619T143000
DTSTAMP:20260420T035403
CREATED:20250514T091536Z
LAST-MODIFIED:20250514T091716Z
UID:10004563-1750323600-1750343400@happydaysnurseries.com
SUMMARY:Open House! At Happy Days Bradley Stoke
DESCRIPTION:Open House! No need to book\, just pop in when you can. \nDate: Thursday 19 June\, 2025Time: 9:00 am – 2:30 pm \nExplore our state-of-the-art facilities:– Tour our purpose-built nursery designed for your child’s learning and development.– Tour our newly refurbished baby unit.– Meet our friendly and dedicated nursery team. \nLearn everything you need to know:– Early years funding options and fees– Nursery opening hours and tour availability– Nutritious meal plans and delicious menus– Engaging early years curriculum– …and much more! \nThis is a fantastic opportunity for you to see our nursery and ask any questions you may have. We look forward to welcoming you and your family to Happy Days! \nNo need to book – just pop in when you can!  Where: Happy Days Nursery & Pre-School\, Almondsbury Business Centre\, Woodlands Lane\, Bristol\, BS32 4QH  Call: 01454 614 411  Email: bradleystoke@happydaysnurseries.com \n\n\n \n \n 
URL:https://happydaysnurseries.com/event/open-house-bradley-stoke-june-3/
LOCATION:Happy Days Nursery & Pre-School\, Bradley Stoke\, Almondsbury Business Centre\, Woodlands Lane\, Bristol\, BH32 4QH
CATEGORIES:Open Day
ATTACH;FMTTYPE=image/jpeg:https://happydaysnurseries.com/wp-content/uploads/2024/07/open-house-Bradley-Stoke.jpg
END:VEVENT
BEGIN:VEVENT
DTSTART;TZID=Europe/London:20250623T100000
DTEND;TZID=Europe/London:20250623T110000
DTSTAMP:20260420T035403
CREATED:20250617T150326Z
LAST-MODIFIED:20250617T150503Z
UID:10005288-1750672800-1750676400@happydaysnurseries.com
SUMMARY:Community Litter Pick
DESCRIPTION:🌍 Community Litter Pick – Join Us!\n📅 Date: Sunday 23rd🕙 Time: 10:00am – 11:00am📍 Meeting Point: Happy Days Nursery\, Bradley Stoke (BS32 4QH) \nJoin the team at Happy Days Nursery\, Bradley Stoke\, for a community litter pick as we work together to keep our local area clean and green! We’ll be tidying up around the business park\, and everyone is welcome – families\, friends\, children\, and local residents. \nThis is a great opportunity to: \n\n\nSupport the local community 🌱 \n\n\nTeach children about caring for the environment 🧤 \n\n\nMeet other local families and nursery staff 👋 \n\n\nLitter-picking equipment will be provided\, but feel free to bring your own gloves if you prefer. \nLet’s make a difference\, one piece of litter at a time!We can’t wait to see you there. \n  Where: Happy Days Nursery & Pre-School\, Almondsbury Business Centre\, Woodlands Lane\, Bristol\, BS32 4QH  Call: 01454 614 411  Email: bradleystoke@happydaysnurseries.com \n\n\n \n \n 
URL:https://happydaysnurseries.com/event/litter-pick-bradley-stoke/
LOCATION:Happy Days Nursery & Pre-School\, Bradley Stoke\, Almondsbury Business Centre\, Woodlands Lane\, Bristol\, BH32 4QH
CATEGORIES:Community Pop Up Event
ATTACH;FMTTYPE=image/jpeg:https://happydaysnurseries.com/wp-content/uploads/2025/06/Community-Litter-Pick-1.jpg
END:VEVENT
BEGIN:VEVENT
DTSTART;TZID=Europe/London:20250628T100000
DTEND;TZID=Europe/London:20250628T130000
DTSTAMP:20260420T035403
CREATED:20250606T122350Z
LAST-MODIFIED:20250609T081159Z
UID:10005208-1751104800-1751115600@happydaysnurseries.com
SUMMARY:Happy Days Nursery\, Saltford - Open Day and Re-Launch
DESCRIPTION:Join Us for Saltford’s Open Day & Re-Launch! \n📍 Happy Days Nursery\, Saltford📅 Saturday 28th June | 10am-1pm \nWe’re excited to invite you to the official Re-Launch of Happy Days Saltford (formerly Tiddlers Nursery) as we celebrate our fresh new look and join in the fun of the Saltford School Fair! \nThis special event is not only a chance to explore our newly rebranded nursery but also to meet our passionate team\, discover our inspiring learning environments\, and see how we support every child to learn\, grow and shine. \nExpect: \n✨ A warm welcome from the Saltford team🏫 Guided tours of our refreshed spaces🎈 Fun activities for children and families🎁 Free goody bags (while supplies last)🎉 A celebratory atmosphere as part of the wider School Fair \nWhether you’re new to the area or already part of the Saltford community\, we’d love to welcome you for a fun and informal afternoon. No need to book—just pop by and say hello! \nNo need to book – just pop in when you can! \n Where: Happy Days Nursery\, 480 Bath Rd\, Saltford\, Bristol\, BS31 3DJ Call: 01225 874954 Email: saltfordpreschool@happydaysnurseries.com
URL:https://happydaysnurseries.com/event/saltford-open-day-nursery/
LOCATION:Happy Days Nursery & Pre-School\, Saltford\, Happy Days Pre School\, Saltford Primary School\, Claverton Road\, Saltford\, Bristol\, BS31 3DW
CATEGORIES:Open Day
ATTACH;FMTTYPE=image/jpeg:https://happydaysnurseries.com/wp-content/uploads/2025/05/une-Open-Day-Happy-Days-Fest-Website-Event-Cover-3.jpg
END:VEVENT
BEGIN:VEVENT
DTSTART;TZID=Europe/London:20250628T123000
DTEND;TZID=Europe/London:20250628T153000
DTSTAMP:20260420T035403
CREATED:20250515T112235Z
LAST-MODIFIED:20250609T081230Z
UID:10004576-1751113800-1751124600@happydaysnurseries.com
SUMMARY:Happy Days Pre-School\, Saltford - Open Day and Re-Launch
DESCRIPTION:Join Us for Saltford’s Open Day & Re-Launch! \n📍 Happy Days Pre-School\, Saltford📅 Saturday 28th June | 12:30pm-3:30pm🎉 In conjunction with the Saltford School Fair \nWe’re excited to invite you to the official Re-Launch of Happy Days Saltford (formerly Tiddlers Nursery) as we celebrate our fresh new look and join in the fun of the Saltford School Fair! \nThis special event is not only a chance to explore our newly rebranded nursery but also to meet our passionate team\, discover our inspiring learning environments\, and see how we support every child to learn\, grow and shine. \nExpect: \n✨ A warm welcome from the Saltford team🏫 Guided tours of our refreshed spaces🎈 Fun activities for children and families🎁 Free goody bags (while supplies last)🎉 A celebratory atmosphere as part of the wider School Fair \nWhether you’re new to the area or already part of the Saltford community\, we’d love to welcome you for a fun and informal afternoon. No need to book—just pop by and say hello! \nNo need to book – just pop in when you can! \n Where: Happy Days Pre School\, Saltford Primary School\, Claverton Road\, Saltford\, Bristol\, BS31 3DW Call: 01225 874954 Email: saltfordpreschool@happydaysnurseries.com
URL:https://happydaysnurseries.com/event/saltford-open-day/
LOCATION:Happy Days Nursery & Pre-School\, Saltford\, Happy Days Pre School\, Saltford Primary School\, Claverton Road\, Saltford\, Bristol\, BS31 3DW
CATEGORIES:Open Day
ATTACH;FMTTYPE=image/jpeg:https://happydaysnurseries.com/wp-content/uploads/2025/05/une-Open-Day-Happy-Days-Fest-Website-Event-Cover-3.jpg
END:VEVENT
END:VCALENDAR