BEGIN:VCALENDAR
VERSION:2.0
PRODID:-//Happy Days Nursery - ECPv6.15.20//NONSGML v1.0//EN
CALSCALE:GREGORIAN
METHOD:PUBLISH
X-WR-CALNAME:Happy Days Nursery
X-ORIGINAL-URL:https://happydaysnurseries.com
X-WR-CALDESC:Events for Happy Days Nursery
REFRESH-INTERVAL;VALUE=DURATION:PT1H
X-Robots-Tag:noindex
X-PUBLISHED-TTL:PT1H
BEGIN:VTIMEZONE
TZID:Europe/London
BEGIN:DAYLIGHT
TZOFFSETFROM:+0000
TZOFFSETTO:+0100
TZNAME:BST
DTSTART:20250330T010000
END:DAYLIGHT
BEGIN:STANDARD
TZOFFSETFROM:+0100
TZOFFSETTO:+0000
TZNAME:GMT
DTSTART:20251026T010000
END:STANDARD
BEGIN:DAYLIGHT
TZOFFSETFROM:+0000
TZOFFSETTO:+0100
TZNAME:BST
DTSTART:20260329T010000
END:DAYLIGHT
BEGIN:STANDARD
TZOFFSETFROM:+0100
TZOFFSETTO:+0000
TZNAME:GMT
DTSTART:20261025T010000
END:STANDARD
BEGIN:DAYLIGHT
TZOFFSETFROM:+0000
TZOFFSETTO:+0100
TZNAME:BST
DTSTART:20270328T010000
END:DAYLIGHT
BEGIN:STANDARD
TZOFFSETFROM:+0100
TZOFFSETTO:+0000
TZNAME:GMT
DTSTART:20271031T010000
END:STANDARD
END:VTIMEZONE
BEGIN:VEVENT
DTSTART;TZID=Europe/London:20260304T100000
DTEND;TZID=Europe/London:20260304T113000
DTSTAMP:20260422T082700
CREATED:20260213T131013Z
LAST-MODIFIED:20260213T131134Z
UID:10006175-1772618400-1772623800@happydaysnurseries.com
SUMMARY:Open House Event at Teddy Bears Nursery
DESCRIPTION:Join us for a fantastic opportunity to see our nursery and ask any questions you may have. We look forward to welcoming you and your family to Teddy Bears! \nExplore our state-of-the-art facilities:\n⭐ Tour our nursery designed for your child’s learning and development.\n⭐ Meet our friendly and dedicated nursery team. \nLearn everything you need to know:\n✅ Early years funding options and fees\n✅ Nursery opening hours and tour availability\n✅ Nutritious meal plans and delicious menus\n✅ Engaging early years curriculum\n✅ …and much more! \n📅Wednesday 4th March 🕘10am – 11.30am \n📍 Where: Teddy Bears Nursery School\, 232 Southampton Road\, North Harbour\, Portsmouth\, PO6 4QD\n📞 Call: 023 9238 5005\n📧 Email: teddybears.nursery@happydaysnurseries.com
URL:https://happydaysnurseries.com/event/open-house-event-at-teddy-bears-nursery-feb/
LOCATION:Teddy Bears\, Teddy Bears Nursery School\, 232 Southampton Road\, Portsmouth\, PO6 4QD\, Portsmouth\, PO6 4QD\, United Kingdom
CATEGORIES:Open House
ATTACH;FMTTYPE=image/png:https://happydaysnurseries.com/wp-content/uploads/2025/12/Teddy-bears-Open-House.png
END:VEVENT
BEGIN:VEVENT
DTSTART;TZID=Europe/London:20260326T143000
DTEND;TZID=Europe/London:20260326T153000
DTSTAMP:20260422T082700
CREATED:20260213T131910Z
LAST-MODIFIED:20260213T131956Z
UID:10006176-1774535400-1774539000@happydaysnurseries.com
SUMMARY:Open House Event at Teddy Bears Nursery
DESCRIPTION:Join us for a fantastic opportunity to see our nursery and ask any questions you may have. We look forward to welcoming you and your family to Teddy Bears! \nExplore our state-of-the-art facilities:\n⭐ Tour our nursery designed for your child’s learning and development.\n⭐ Meet our friendly and dedicated nursery team. \nLearn everything you need to know:\n✅ Early years funding options and fees\n✅ Nursery opening hours and tour availability\n✅ Nutritious meal plans and delicious menus\n✅ Engaging early years curriculum\n✅ …and much more! \n📅Thursday 26th March 🕘2:30pm – 3.30pm \n📍 Where: Teddy Bears Nursery School\, 232 Southampton Road\, North Harbour\, Portsmouth\, PO6 4QD\n📞 Call: 023 9238 5005\n📧 Email: teddybears.nursery@happydaysnurseries.com
URL:https://happydaysnurseries.com/event/open-house-event-at-teddy-bears-nursery-feb26/
LOCATION:Teddy Bears\, Teddy Bears Nursery School\, 232 Southampton Road\, Portsmouth\, PO6 4QD\, Portsmouth\, PO6 4QD\, United Kingdom
CATEGORIES:Open House
ATTACH;FMTTYPE=image/png:https://happydaysnurseries.com/wp-content/uploads/2025/12/Teddy-bears-Open-House.png
END:VEVENT
BEGIN:VEVENT
DTSTART;TZID=Europe/London:20260326T180000
DTEND;TZID=Europe/London:20260326T193000
DTSTAMP:20260422T082700
CREATED:20260226T155943Z
LAST-MODIFIED:20260226T160015Z
UID:10006217-1774548000-1774553400@happydaysnurseries.com
SUMMARY:Open House | Dolls House Nursery
DESCRIPTION: You’re invited to Our Open House! \nWe are opening our doors and inviting families from the local community to drop in\, explore and make yourselves at home. \nThis is a relaxed\, drop-in open house with no timetable and no pressure. Children are free to lead the way as families discover playful spaces\, friendly teams and the everyday moments that help children explore\, discover and shine. \nFamilies can enjoy a variety of child-led experiences including creative play\, music\, sensory play and every day nursery magic\, this is a chance to see what life at Dolls House really feels like. \nOur Open House is all about:\n• Children learning through play\n• Understanding more about government funding in our funding corner\n• Meeting the teams who care for and support children every day\n• Discovering what makes each nursery unique \n Thursday 26th March |   18:15pm – 19:30 pm\nDolls House Nursery\, 71 Havant Road\, Portsmouth\, PO6 2JD \nThere’s no need to book\, just pop in at a time that suits you.
URL:https://happydaysnurseries.com/event/dolls-house-open-day/
LOCATION:Hampshire – Dolls House\, Portsmouth\, 71 Havant Road\, Portsmouth\, PO6 2JD
CATEGORIES:Open Day
ATTACH;FMTTYPE=image/png:https://happydaysnurseries.com/wp-content/uploads/2026/02/Open-House-Dolls-House.png
END:VEVENT
END:VCALENDAR