BEGIN:VCALENDAR
VERSION:2.0
PRODID:-//Happy Days Nursery - ECPv6.15.20//NONSGML v1.0//EN
CALSCALE:GREGORIAN
METHOD:PUBLISH
X-ORIGINAL-URL:https://happydaysnurseries.com
X-WR-CALDESC:Events for Happy Days Nursery
REFRESH-INTERVAL;VALUE=DURATION:PT1H
X-Robots-Tag:noindex
X-PUBLISHED-TTL:PT1H
BEGIN:VTIMEZONE
TZID:Europe/London
BEGIN:DAYLIGHT
TZOFFSETFROM:+0000
TZOFFSETTO:+0100
TZNAME:BST
DTSTART:20250330T010000
END:DAYLIGHT
BEGIN:STANDARD
TZOFFSETFROM:+0100
TZOFFSETTO:+0000
TZNAME:GMT
DTSTART:20251026T010000
END:STANDARD
BEGIN:DAYLIGHT
TZOFFSETFROM:+0000
TZOFFSETTO:+0100
TZNAME:BST
DTSTART:20260329T010000
END:DAYLIGHT
BEGIN:STANDARD
TZOFFSETFROM:+0100
TZOFFSETTO:+0000
TZNAME:GMT
DTSTART:20261025T010000
END:STANDARD
BEGIN:DAYLIGHT
TZOFFSETFROM:+0000
TZOFFSETTO:+0100
TZNAME:BST
DTSTART:20270328T010000
END:DAYLIGHT
BEGIN:STANDARD
TZOFFSETFROM:+0100
TZOFFSETTO:+0000
TZNAME:GMT
DTSTART:20271031T010000
END:STANDARD
END:VTIMEZONE
BEGIN:VEVENT
DTSTART;TZID=Europe/London:20260130T140000
DTEND;TZID=Europe/London:20260130T170000
DTSTAMP:20260425T010501
CREATED:20260109T084616Z
LAST-MODIFIED:20260109T084616Z
UID:10006125-1769781600-1769792400@happydaysnurseries.com
SUMMARY:Open House at Happy Days Verwood
DESCRIPTION:Pop in to explore our beautiful purpose-built nursery\, meet the friendly team\, and find out everything you need to know about joining Happy Days Verwood. \n✨ What to expect:\n– A guided tour of our state-of-the-art facilities\n– Friendly conversations with our experienced nursery team\n– Information about funding options\, availability\, fees\, and the early years curriculum\n– A look at our nutritious menus and approach to wellbeing\n– Time to ask any questions you may have \n📅Friday 30th January 🕘2pm – 5pm \n📍 Location: Happy Days Nursery & Pre-School\, Church Hill\, Verwood\, BH31 6HT\n📞 Call: 01202 806004\n📩 Email: verwood@happydaysnurseries.com \nNo need to book – just pop in when it suits you!\nWe look forward to welcoming you and your family. 🌟
URL:https://happydaysnurseries.com/event/open-house-at-happy-days-verwood-jan-30/
LOCATION:Happy Days Nursery & Pre-School\, Verwood\, 19 Church Hill\, Verwood\, Dorset\, BH31 6HT
CATEGORIES:Open Day
ATTACH;FMTTYPE=image/png:https://happydaysnurseries.com/wp-content/uploads/2026/01/open-house-Happy-Days-Nursery-verwood.png
END:VEVENT
END:VCALENDAR