BEGIN:VCALENDAR
VERSION:2.0
PRODID:-//Happy Days Nursery - ECPv6.15.20//NONSGML v1.0//EN
CALSCALE:GREGORIAN
METHOD:PUBLISH
X-WR-CALNAME:Happy Days Nursery
X-ORIGINAL-URL:https://happydaysnurseries.com
X-WR-CALDESC:Events for Happy Days Nursery
REFRESH-INTERVAL;VALUE=DURATION:PT1H
X-Robots-Tag:noindex
X-PUBLISHED-TTL:PT1H
BEGIN:VTIMEZONE
TZID:Europe/London
BEGIN:DAYLIGHT
TZOFFSETFROM:+0000
TZOFFSETTO:+0100
TZNAME:BST
DTSTART:20250330T010000
END:DAYLIGHT
BEGIN:STANDARD
TZOFFSETFROM:+0100
TZOFFSETTO:+0000
TZNAME:GMT
DTSTART:20251026T010000
END:STANDARD
BEGIN:DAYLIGHT
TZOFFSETFROM:+0000
TZOFFSETTO:+0100
TZNAME:BST
DTSTART:20260329T010000
END:DAYLIGHT
BEGIN:STANDARD
TZOFFSETFROM:+0100
TZOFFSETTO:+0000
TZNAME:GMT
DTSTART:20261025T010000
END:STANDARD
BEGIN:DAYLIGHT
TZOFFSETFROM:+0000
TZOFFSETTO:+0100
TZNAME:BST
DTSTART:20270328T010000
END:DAYLIGHT
BEGIN:STANDARD
TZOFFSETFROM:+0100
TZOFFSETTO:+0000
TZNAME:GMT
DTSTART:20271031T010000
END:STANDARD
END:VTIMEZONE
BEGIN:VEVENT
DTSTART;TZID=Europe/London:20260306T100000
DTEND;TZID=Europe/London:20260306T110000
DTSTAMP:20260424T133528
CREATED:20260218T092624Z
LAST-MODIFIED:20260218T092624Z
UID:10006188-1772791200-1772794800@happydaysnurseries.com
SUMMARY:Open House at Happy Days Penrice Nursery
DESCRIPTION:Open House at Happy Days Penrice Nursery ⭐ \nWe’re opening our doors and would love to welcome you to our weekly Open House events this March! \nThis is a wonderful opportunity for families to pop in\, explore our nursery\, and experience our warm and nurturing environment firsthand. \n📅 Every Friday throughout March\, starting 6th March\n⏰ 10am–11am\n⏰ 1:30pm–2:30pm \nCome along to: \n✨ Tour our beautiful nursery\n✨ Meet our friendly and experienced team\n✨ Learn more about our curriculum and daily routines\n✨ Ask any questions about childcare and availability \nWhether you’re actively looking for a nursery place or simply starting to explore your options\, our Open House sessions are relaxed\, informal\, and open to everyone. \nWe look forward to welcoming you and your little ones soon 😊
URL:https://happydaysnurseries.com/event/penrice-nursery-open-house-march-2/
LOCATION:Happy Days Nursery Penrice\, Happy Days Nursery Penrice Hospital Porthpean Road\, St Austell\, Cornwall\, PL26 6AA\, United Kingdom
CATEGORIES:Stay & Play
ATTACH;FMTTYPE=image/jpeg:https://happydaysnurseries.com/wp-content/uploads/2026/02/open-house-Verwood-2.jpg
END:VEVENT
END:VCALENDAR