BEGIN:VCALENDAR
VERSION:2.0
PRODID:-//Happy Days Nursery - ECPv6.15.20//NONSGML v1.0//EN
CALSCALE:GREGORIAN
METHOD:PUBLISH
X-WR-CALNAME:Happy Days Nursery
X-ORIGINAL-URL:https://happydaysnurseries.com
X-WR-CALDESC:Events for Happy Days Nursery
REFRESH-INTERVAL;VALUE=DURATION:PT1H
X-Robots-Tag:noindex
X-PUBLISHED-TTL:PT1H
BEGIN:VTIMEZONE
TZID:Europe/London
BEGIN:DAYLIGHT
TZOFFSETFROM:+0000
TZOFFSETTO:+0100
TZNAME:BST
DTSTART:20230326T010000
END:DAYLIGHT
BEGIN:STANDARD
TZOFFSETFROM:+0100
TZOFFSETTO:+0000
TZNAME:GMT
DTSTART:20231029T010000
END:STANDARD
BEGIN:DAYLIGHT
TZOFFSETFROM:+0000
TZOFFSETTO:+0100
TZNAME:BST
DTSTART:20240331T010000
END:DAYLIGHT
BEGIN:STANDARD
TZOFFSETFROM:+0100
TZOFFSETTO:+0000
TZNAME:GMT
DTSTART:20241027T010000
END:STANDARD
BEGIN:DAYLIGHT
TZOFFSETFROM:+0000
TZOFFSETTO:+0100
TZNAME:BST
DTSTART:20250330T010000
END:DAYLIGHT
BEGIN:STANDARD
TZOFFSETFROM:+0100
TZOFFSETTO:+0000
TZNAME:GMT
DTSTART:20251026T010000
END:STANDARD
END:VTIMEZONE
BEGIN:VEVENT
DTSTART;TZID=Europe/London:20240301T100000
DTEND;TZID=Europe/London:20240301T110000
DTSTAMP:20260423T064052
CREATED:20240219T112156Z
LAST-MODIFIED:20240219T113007Z
UID:10000032-1709287200-1709290800@happydaysnurseries.com
SUMMARY:Free Pre-School\, St David's Day\, Stay & Play
DESCRIPTION:Join us at Happy Days Nursery\, Charlton Heights on the 1st March from 10am to 11am for a St David’s Day themed Stay and Play for children 3 years and above. \nCharlton Heights is celebrating St David’s Day in style on March 1st with a FREE Pre-School Stay & Play. These events are extremely popular so get booked in quick\, using the contact information below! \nStay & Play Theme: St David’s DayWhen: Friday 1 March from 10:00am to 11:00amWhere: Happy Days Nursery & Pre-School\, Chessel Drive\, Patchway\, Bristol\, BS34 5UZ \nBook early as places are limited  Where: Happy Days Nursery & Pre-School\, Chessel Drive\, Patchway\, Bristol\, BS34 5UZ  Call: 0117 379 0360  Email: charltonheights@happydaysnurseries.com \n\n\n \n \n 
URL:https://happydaysnurseries.com/event/free-preschool-st-davids-day-stay-play/
LOCATION:Happy Days Nursery & Pre-School\, Charlton Heights\, Bristol\, BS34 5UZ\, Chessel Drive\, Patchway\, Bristol\, BS34 5UZ\, United Kingdom
CATEGORIES:Stay & Play
ATTACH;FMTTYPE=image/jpeg:https://happydaysnurseries.com/wp-content/uploads/2024/02/stay-and-play-charlton-2.jpg
END:VEVENT
BEGIN:VEVENT
DTSTART;TZID=Europe/London:20240304T140000
DTEND;TZID=Europe/London:20240304T150000
DTSTAMP:20260423T064052
CREATED:20240226T151143Z
LAST-MODIFIED:20240226T152455Z
UID:10001987-1709560800-1709564400@happydaysnurseries.com
SUMMARY:Free Stay & Play Sessions
DESCRIPTION:Happy Days Poole is hosting FREE Stay and Play sessions every Monday for the next four weeks\, from 2pm to 3pm. This is a fantastic chance to: \n\nMeet other local parents and connect while your child enjoys fun activities.\nLet your child explore engaging experiences prepared by our experienced nursery practitioners.\n\nDon’t miss out on this opportunity to have some fun and build connections in your community. \nWhen: Monday 4\, 11\, 18 and 25 March from 2:00pm to 3:00pmWhere: Happy Days Nursery & Pre-School\, Beechbank Avenue\, Creekmoor\, Poole\, BH17 7FF \nBook early as places are limited  Where: Happy Days Nursery & Pre-School\, Beechbank Avenue\, Creekmoor\, Poole\, BH17 7FF  Call: 01202 698 427  Email: poole@happydaysnurseries.com \n\n\n \n \n 
URL:https://happydaysnurseries.com/event/free-stay-play-over-2-2/
LOCATION:Happy Days Nursery & Pre-School\, Poole\, Beechbank Avenue\, Creekmoor\, Poole\, BH17 7FF
CATEGORIES:Stay & Play
ATTACH;FMTTYPE=image/jpeg:https://happydaysnurseries.com/wp-content/uploads/2024/02/stay-and-play-over-2s-poole.jpg
END:VEVENT
BEGIN:VEVENT
DTSTART;TZID=Europe/London:20240307T100000
DTEND;TZID=Europe/London:20240307T110000
DTSTAMP:20260423T064052
CREATED:20240226T132729Z
LAST-MODIFIED:20240226T133045Z
UID:10001983-1709805600-1709809200@happydaysnurseries.com
SUMMARY:Let's Kick It!  Free Football Stay & Play Session for over 3's
DESCRIPTION:Join us at The Hollies for a FREE Let’s Kick It! Session\, starting  Thursday 7 March from 10am to 11am. \nLet’s Kick It! is a 6 week programme to support and develop football skills in early years. The programme will focus on passing skills\, dribbling\, shooting and teamwork. At the end of each session\, the children will receive a sticker to place on their Let’s Kick It chart.  \nThis week’s theme: Getting to know the equipmentWhen: Thursday 7 March from 10:00am to 11:00amWhere: The Hollies Daycare Nursery\, 9 Sanatorium Road\, Canton\, Cardiff\, CF11 8DG \nUp coming sessions and themes:Thursday 14 March: Passing Skills \nBook early as places are limited  Where: The Hollies Daycare Nursery\, 9 Sanatorium Road\, Canton\, Cardiff\, CF11 8DG  Call: 02920 378177  Email: thehollies@happydaysnurseries.com \n\n\n \n \n 
URL:https://happydaysnurseries.com/event/free-lets-kick-it-the-hollies-wk1/
LOCATION:The Hollies Daycare Nursery\, 9 Sanatorium\, Canton\, Cardiff\, CF11 8DG
ATTACH;FMTTYPE=image/jpeg:https://happydaysnurseries.com/wp-content/uploads/2024/02/Lets-Kick-It-Event.jpg
END:VEVENT
BEGIN:VEVENT
DTSTART;TZID=Europe/London:20240311T140000
DTEND;TZID=Europe/London:20240311T150000
DTSTAMP:20260423T064052
CREATED:20240226T151215Z
LAST-MODIFIED:20240226T152241Z
UID:10002249-1710165600-1710169200@happydaysnurseries.com
SUMMARY:Free Stay & Play Sessions
DESCRIPTION:Happy Days Poole is hosting FREE Stay and Play sessions every Monday for the next four weeks\, from 2pm to 3pm. This is a fantastic chance to: \n\nMeet other local parents and connect while your child enjoys fun activities.\nLet your child explore engaging experiences prepared by our experienced nursery practitioners.\n\nDon’t miss out on this opportunity to have some fun and build connections in your community. \nWhen: Monday 4\, 11\, 18 and 25 March from 2:00pm to 3:00pmWhere: Happy Days Nursery & Pre-School\, Beechbank Avenue\, Creekmoor\, Poole\, BH17 7FF \nBook early as places are limited  Where: Happy Days Nursery & Pre-School\, Beechbank Avenue\, Creekmoor\, Poole\, BH17 7FF  Call: 01202 698 427  Email: poole@happydaysnurseries.com \n\n\n \n \n 
URL:https://happydaysnurseries.com/event/free-stay-play-over-poole-over2s-wk2/
LOCATION:Happy Days Nursery & Pre-School\, Poole\, Beechbank Avenue\, Creekmoor\, Poole\, BH17 7FF
CATEGORIES:Stay & Play
ATTACH;FMTTYPE=image/jpeg:https://happydaysnurseries.com/wp-content/uploads/2024/02/stay-and-play-over-2s-poole.jpg
END:VEVENT
BEGIN:VEVENT
DTSTART;TZID=Europe/London:20240314T100000
DTEND;TZID=Europe/London:20240314T110000
DTSTAMP:20260423T064052
CREATED:20240226T131214Z
LAST-MODIFIED:20240226T132841Z
UID:10001981-1710410400-1710414000@happydaysnurseries.com
SUMMARY:Let's Kick It!  Free Football Stay & Play Session for over 3's
DESCRIPTION:Join us at The Hollies for a FREE Let’s Kick It! Session. \nLet’s Kick It! is a 6 week programme to support and develop football skills in early years. The programme will focus on passing skills\, dribbling\, shooting and teamwork. At the end of each session\, the children will receive a sticker to place on their Let’s Kick It chart.  \nThis week’s theme: Passing SkillsWhen: Thursday 14 March from 10:00am to 11:00amWhere: The Hollies Daycare Nursery\, 9 Sanatorium Road\, Canton\, Cardiff\, CF11 8DG \nUp coming sessions and themes:Thursday 21 March: Dribbling practice \nBook early as places are limited  Where: The Hollies Daycare Nursery\, 9 Sanatorium Road\, Canton\, Cardiff\, CF11 8DG  Call: 02920 378177  Email: thehollies@happydaysnurseries.com \n\n\n \n \n 
URL:https://happydaysnurseries.com/event/free-lets-kick-it-the-hollies/
LOCATION:The Hollies Daycare Nursery\, 9 Sanatorium\, Canton\, Cardiff\, CF11 8DG
ATTACH;FMTTYPE=image/jpeg:https://happydaysnurseries.com/wp-content/uploads/2024/02/Lets-Kick-It-Event.jpg
END:VEVENT
BEGIN:VEVENT
DTSTART;TZID=Europe/London:20240318T140000
DTEND;TZID=Europe/London:20240318T150000
DTSTAMP:20260423T064052
CREATED:20240226T145322Z
LAST-MODIFIED:20240226T152627Z
UID:10002251-1710770400-1710774000@happydaysnurseries.com
SUMMARY:Free Stay & Play Sessions
DESCRIPTION:Happy Days Poole is hosting FREE Stay and Play sessions every Monday for the next four weeks\, from 2pm to 3pm. This is a fantastic chance to: \n\nMeet other local parents and connect while your child enjoys fun activities.\nLet your child explore engaging experiences prepared by our experienced nursery practitioners.\n\nDon’t miss out on this opportunity to have some fun and build connections in your community. \nWhen: Monday 4\, 11\, 18 and 25 March from 2:00pm to 3:00pmWhere: Happy Days Nursery & Pre-School\, Beechbank Avenue\, Creekmoor\, Poole\, BH17 7FF \nBook early as places are limited  Where: Happy Days Nursery & Pre-School\, Beechbank Avenue\, Creekmoor\, Poole\, BH17 7FF  Call: 01202 698 427  Email: poole@happydaysnurseries.com \n\n\n \n \n 
URL:https://happydaysnurseries.com/event/free-stay-play-over-2/
LOCATION:Happy Days Nursery & Pre-School\, Poole\, Beechbank Avenue\, Creekmoor\, Poole\, BH17 7FF
CATEGORIES:Stay & Play
ATTACH;FMTTYPE=image/jpeg:https://happydaysnurseries.com/wp-content/uploads/2024/02/stay-and-play-over-2s-poole.jpg
END:VEVENT
BEGIN:VEVENT
DTSTART;TZID=Europe/London:20240321T100000
DTEND;TZID=Europe/London:20240321T110000
DTSTAMP:20260423T064052
CREATED:20240226T132852Z
LAST-MODIFIED:20240226T133203Z
UID:10001982-1711015200-1711018800@happydaysnurseries.com
SUMMARY:Let's Kick It!  Free Football Stay & Play Session for over 3's
DESCRIPTION:Join us at The Hollies for a FREE Let’s Kick It! Session. \nLet’s Kick It! is a 6 week programme to support and develop football skills in early years. The programme will focus on passing skills\, dribbling\, shooting and teamwork. At the end of each session\, the children will receive a sticker to place on their Let’s Kick It chart.  \nThis week’s theme: Passing SkillsWhen: Thursday 21 March from 10:00am to 11:00amWhere: The Hollies Daycare Nursery\, 9 Sanatorium Road\, Canton\, Cardiff\, CF11 8DG \nUp coming sessions and themes:Thursday 28 March: Dribbling practice \nBook early as places are limited  Where: The Hollies Daycare Nursery\, 9 Sanatorium Road\, Canton\, Cardiff\, CF11 8DG  Call: 02920 378177  Email: thehollies@happydaysnurseries.com \n\n\n \n \n 
URL:https://happydaysnurseries.com/event/free-lets-kick-it-the-hollies-2/
LOCATION:The Hollies Daycare Nursery\, 9 Sanatorium\, Canton\, Cardiff\, CF11 8DG
ATTACH;FMTTYPE=image/jpeg:https://happydaysnurseries.com/wp-content/uploads/2024/02/Lets-Kick-It-Event.jpg
END:VEVENT
BEGIN:VEVENT
DTSTART;TZID=Europe/London:20240325T140000
DTEND;TZID=Europe/London:20240325T150000
DTSTAMP:20260423T064052
CREATED:20240226T151302Z
LAST-MODIFIED:20240226T152149Z
UID:10002250-1711375200-1711378800@happydaysnurseries.com
SUMMARY:Free Stay & Play Sessions for Over 2's
DESCRIPTION:Happy Days Poole is hosting FREE Stay and Play sessions every Monday for the next four weeks\, from 2pm to 3pm. This is a fantastic chance to: \n\nMeet other local parents and connect while your child enjoys fun activities.\nLet your child explore engaging experiences prepared by our experienced nursery practitioners.\n\nDon’t miss out on this opportunity to have some fun and build connections in your community. \nWhen: Monday 4\, 11\, 18 and 25 March from 2:00pm to 3:00pmWhere: Happy Days Nursery & Pre-School\, Beechbank Avenue\, Creekmoor\, Poole\, BH17 7FF \nBook early as places are limited  Where: Happy Days Nursery & Pre-School\, Beechbank Avenue\, Creekmoor\, Poole\, BH17 7FF  Call: 01202 698 427  Email: poole@happydaysnurseries.com \n\n\n \n \n 
URL:https://happydaysnurseries.com/event/free-stay-play-over-poole-over2s-wk4/
LOCATION:Happy Days Nursery & Pre-School\, Poole\, Beechbank Avenue\, Creekmoor\, Poole\, BH17 7FF
CATEGORIES:Stay & Play
ATTACH;FMTTYPE=image/jpeg:https://happydaysnurseries.com/wp-content/uploads/2024/02/stay-and-play-over-2s-poole.jpg
END:VEVENT
BEGIN:VEVENT
DTSTART;TZID=Europe/London:20240328T100000
DTEND;TZID=Europe/London:20240328T110000
DTSTAMP:20260423T064052
CREATED:20240226T133245Z
LAST-MODIFIED:20240226T133400Z
UID:10001984-1711620000-1711623600@happydaysnurseries.com
SUMMARY:Let's Kick It!  Free Football Stay & Play Session for over 3's
DESCRIPTION:Join us at The Hollies for a FREE Let’s Kick It! Session. \nLet’s Kick It! is a 6 week programme to support and develop football skills in early years. The programme will focus on passing skills\, dribbling\, shooting and teamwork. At the end of each session\, the children will receive a sticker to place on their Let’s Kick It chart.  \nThis week’s theme: ShootingWhen: Thursday 28 March from 10:00am to 11:00amWhere: The Hollies Daycare Nursery\, 9 Sanatorium Road\, Canton\, Cardiff\, CF11 8DG \nUp coming sessions and themes:Thursday 28 March: Teamwork \nBook early as places are limited  Where: The Hollies Daycare Nursery\, 9 Sanatorium Road\, Canton\, Cardiff\, CF11 8DG  Call: 02920 378177  Email: thehollies@happydaysnurseries.com \n\n\n \n \n 
URL:https://happydaysnurseries.com/event/free-lets-kick-it-the-hollies-wk4/
LOCATION:The Hollies Daycare Nursery\, 9 Sanatorium\, Canton\, Cardiff\, CF11 8DG
ATTACH;FMTTYPE=image/jpeg:https://happydaysnurseries.com/wp-content/uploads/2024/02/Lets-Kick-It-Event.jpg
END:VEVENT
END:VCALENDAR