BEGIN:VCALENDAR
VERSION:2.0
PRODID:-//Happy Days Nursery - ECPv6.15.20//NONSGML v1.0//EN
CALSCALE:GREGORIAN
METHOD:PUBLISH
X-WR-CALNAME:Happy Days Nursery
X-ORIGINAL-URL:https://happydaysnurseries.com
X-WR-CALDESC:Events for Happy Days Nursery
REFRESH-INTERVAL;VALUE=DURATION:PT1H
X-Robots-Tag:noindex
X-PUBLISHED-TTL:PT1H
BEGIN:VTIMEZONE
TZID:Europe/London
BEGIN:DAYLIGHT
TZOFFSETFROM:+0000
TZOFFSETTO:+0100
TZNAME:BST
DTSTART:20240331T010000
END:DAYLIGHT
BEGIN:STANDARD
TZOFFSETFROM:+0100
TZOFFSETTO:+0000
TZNAME:GMT
DTSTART:20241027T010000
END:STANDARD
BEGIN:DAYLIGHT
TZOFFSETFROM:+0000
TZOFFSETTO:+0100
TZNAME:BST
DTSTART:20250330T010000
END:DAYLIGHT
BEGIN:STANDARD
TZOFFSETFROM:+0100
TZOFFSETTO:+0000
TZNAME:GMT
DTSTART:20251026T010000
END:STANDARD
BEGIN:DAYLIGHT
TZOFFSETFROM:+0000
TZOFFSETTO:+0100
TZNAME:BST
DTSTART:20260329T010000
END:DAYLIGHT
BEGIN:STANDARD
TZOFFSETFROM:+0100
TZOFFSETTO:+0000
TZNAME:GMT
DTSTART:20261025T010000
END:STANDARD
END:VTIMEZONE
BEGIN:VEVENT
DTSTART;TZID=Europe/London:20250301T100000
DTEND;TZID=Europe/London:20250301T130000
DTSTAMP:20260424T152436
CREATED:20250218T161539Z
LAST-MODIFIED:20250218T162112Z
UID:10003748-1740823200-1740834000@happydaysnurseries.com
SUMMARY:March Open Day | Story Land
DESCRIPTION:Date: Saturday 1st March 2025Time: 10:00AM-13:00PM \nOur nursery looks forward to opening it’s doors to you on Saturday the 1st March between 10am and 1pm. In honour of World Book Day this year our Open Day has a brand new theme ‘Story Land’\, which we’re so excited for you to experience. \nOpen Day activities:– Discover Our Rooms – Both Inside and Out!– Enchanting Storybook-Themed Spaces– Engaging Interactive Story Stations– Get to Know Our Amazing Team– Celebrate World Book Day with Us– Enjoy Complimentary Book Tokens– Automatic Entry into Prize Draw for All Visitors \nSummercourt exclusives:– Jaspers Beanstalk – tuff trays\, story sack\, grow your own beans\, making snails– Rainbow Fish – fish collage\, exploring rock pools\, play doe\, STEM activities– Going on a Bear Hunt – mark making\, gloop snowstorm\, bear yoga\, sensory walk– Old Mac Donald – sing and sign\, tuff trays\, seed planting\, tractor rides\, hook a duck \nThis Open Day is perfect for families who want to experience the joy of learning and growth in a nurturing environment. Come and discover why Happy Days Nurseries is the ideal place for your child’s early years education. They’ll be great activities set up for your child to have fun with\, whilst you make the most of this perfect opportunity to meet our incredible team\, explore our excellent facilities\, discover our curriculum\, learn about funding and ask any questions you may have. \nFree registration (terms and conditions apply)! \n\n\n\nNo need to book\, please drop in and have a day of fun on us!\n\n📍 Where: Happy Days Nursery\, Summercourt\, TR8 5YA 📞 Call: 01872 510247📧 Email: summercourt@happydaysnurseries.com
URL:https://happydaysnurseries.com/event/open-day-story-land-summercourt/
LOCATION:Happy Days Nursery & Pre-School\, Summercourt\, Chapel Town\, Summercourt\, TR8 5YA
CATEGORIES:Open Day
ATTACH;FMTTYPE=image/jpeg:https://happydaysnurseries.com/wp-content/uploads/2025/02/Story-land-March-Open-Day-1.jpg
END:VEVENT
BEGIN:VEVENT
DTSTART;TZID=Europe/London:20250326T140000
DTEND;TZID=Europe/London:20250326T150000
DTSTAMP:20260424T152436
CREATED:20250318T164241Z
LAST-MODIFIED:20250318T164922Z
UID:10003899-1742997600-1743001200@happydaysnurseries.com
SUMMARY:FREE Over 3's Spring Stay and Play
DESCRIPTION:Join us this Spring for a FREE Stay & Play session\, this time all about Spring time! \nSession theme: SpringWhen: 26th March from 2pm to 3pmWhere: Happy Days Nursery & Pre-School\, 25 Forest Hill\, Yeovil\, Somerset\, BA20 2PG \nThese sessions are aimed at children 3 and over! \nSpace is limited\, so please book your place today! \n📍    Where: Happy Days Nursery & Pre-School\, 25 Forest Hill\, Yeovil\, Somerset\, BA20 2PG📞  Call: 01935 471717📧  Email: yeovil@happydaysnurseries.com
URL:https://happydaysnurseries.com/event/spring-stay-and-play-yeovil/
LOCATION:Happy Days Nursery & Pre-School\, Yeovil\, Happy Days Nursery & Pre-School\, 25 Forest Hill\, Yeovil\, BA20 2\, United Kingdom\, YEOVIL\, Please select a region\, state or province.\, BA20 2\, United Kingdom
CATEGORIES:Stay & Play
ATTACH;FMTTYPE=image/jpeg:https://happydaysnurseries.com/wp-content/uploads/2025/03/Stay-and-Play-yeovil.jpg
END:VEVENT
END:VCALENDAR