BEGIN:VCALENDAR
VERSION:2.0
PRODID:-//Happy Days Nursery - ECPv6.15.20//NONSGML v1.0//EN
CALSCALE:GREGORIAN
METHOD:PUBLISH
X-WR-CALNAME:Happy Days Nursery
X-ORIGINAL-URL:https://happydaysnurseries.com
X-WR-CALDESC:Events for Happy Days Nursery
REFRESH-INTERVAL;VALUE=DURATION:PT1H
X-Robots-Tag:noindex
X-PUBLISHED-TTL:PT1H
BEGIN:VTIMEZONE
TZID:Europe/London
BEGIN:DAYLIGHT
TZOFFSETFROM:+0000
TZOFFSETTO:+0100
TZNAME:BST
DTSTART:20230326T010000
END:DAYLIGHT
BEGIN:STANDARD
TZOFFSETFROM:+0100
TZOFFSETTO:+0000
TZNAME:GMT
DTSTART:20231029T010000
END:STANDARD
BEGIN:DAYLIGHT
TZOFFSETFROM:+0000
TZOFFSETTO:+0100
TZNAME:BST
DTSTART:20240331T010000
END:DAYLIGHT
BEGIN:STANDARD
TZOFFSETFROM:+0100
TZOFFSETTO:+0000
TZNAME:GMT
DTSTART:20241027T010000
END:STANDARD
BEGIN:DAYLIGHT
TZOFFSETFROM:+0000
TZOFFSETTO:+0100
TZNAME:BST
DTSTART:20250330T010000
END:DAYLIGHT
BEGIN:STANDARD
TZOFFSETFROM:+0100
TZOFFSETTO:+0000
TZNAME:GMT
DTSTART:20251026T010000
END:STANDARD
END:VTIMEZONE
BEGIN:VEVENT
DTSTART;TZID=Europe/London:20240805T133000
DTEND;TZID=Europe/London:20240805T143000
DTSTAMP:20260425T152702
CREATED:20240801T103136Z
LAST-MODIFIED:20240801T103812Z
UID:10003139-1722864600-1722868200@happydaysnurseries.com
SUMMARY:FREE Under 5's Stay and Play Sessions with Happy Days Summercourt
DESCRIPTION:Looking for something a little different to do with your child this summer? \nJoin us for 8 weeks of FREE Stay & Play at Summercourt Happy Days Nursery! It’s the perfect opportunity for you and your child to make new friends\, explore exciting activities\, and discover the joy of learning through play. \nWhat can you expect from the Stay and Play sessions? \n\nEngaging activities: Each week will feature a different theme with stimulating activities designed to spark your child’s imagination and development.\nSafe and nurturing environment: Our experienced team will provide a warm and welcoming space where your child feels comfortable exploring and having fun.\nSocial interaction: Connect with other parents while your child makes new friends and builds social skills.\nSneak peek at Happy Days: This is a great chance to experience the Happy Days Nursery environment first hand!\n\nLimited spots available! Sign up today to reserve your spot. \nHere’s what you need to know: \n\nAges: 0-5 years old\nDates: Starting Monday 5 August – Monday 30 September (excluding 26 August) \nTime: 1:30 pm to 2:30pm each week\n\nDon’t miss out on this opportunity to have some fun and build connections in your community. Book early as places are limited! \n📍 Where: Happy Days Nursery\, Summercourt\, TR8 5YA 📞 Call: 01872 510247📧 Email: summercourt@happydaysnurseries.com
URL:https://happydaysnurseries.com/event/stay-and-play-summercourt-2/2024-08-05/
LOCATION:Happy Days Nursery & Pre-School\, Summercourt\, Chapel Town\, Summercourt\, TR8 5YA
CATEGORIES:Stay & Play
ATTACH;FMTTYPE=image/jpeg:https://happydaysnurseries.com/wp-content/uploads/2024/06/SP-summercourt.jpg
END:VEVENT
BEGIN:VEVENT
DTSTART;TZID=Europe/London:20240805T140000
DTEND;TZID=Europe/London:20240805T150000
DTSTAMP:20260425T152702
CREATED:20240627T104450Z
LAST-MODIFIED:20240627T104550Z
UID:10002601-1722866400-1722870000@happydaysnurseries.com
SUMMARY:Community Gardening Club with Happy Days Nursery\, Poole
DESCRIPTION:Calling all green thumbs\, budding gardeners\, and anyone who enjoys a bit of fun in the dirt! Happy Days Nursery & Pre-School is excited to invite you to our brand new Community Gardening Club! \nThis club is open to everyone in the community – parents\, grandparents\, children\, and anyone else with a love for plants. We’ll be getting our hands dirty (in a good way!) with a variety of activities\, from planting seeds and tending to seedlings to arts and crafts with a gardening theme. \nWhen: August 5\, 2pm to 3pmWhere: Happy Days Nursery & Pre-School\, Beechbank Avenue\, Creekmoor\, Poole\, BH17 7FF \nHere’s what you can expect: \n\nLearning through play: Children will discover the joy of gardening in a fun and interactive way.\nIntergenerational bonding: Grandparents can share their gardening wisdom with younger generations.\nA sense of community: Meet your neighbours and fellow plant enthusiasts while creating a beautiful garden space together.\nArts and Crafts: Let your creativity bloom with gardening-themed crafts.\n\nWhether you’re a seasoned gardener or a complete novice\, there’s something for everyone at the Happy Days Nursery & Pre-School Community Gardening Club. It’s a fantastic opportunity to learn new skills\, get some exercise in the fresh air\, and connect with your community. \nBook early as places are limited  Where: Happy Days Nursery & Pre-School\, Beechbank Avenue\, Creekmoor\, Poole\, BH17 7FF  Call: 01202 698 427  Email: poole@happydaysnurseries.com \n\n\n \n \n 
URL:https://happydaysnurseries.com/event/community-gardening-club-poole-august/
LOCATION:Happy Days Nursery & Pre-School\, Poole\, Beechbank Avenue\, Creekmoor\, Poole\, BH17 7FF
CATEGORIES:Stay & Play
ATTACH;FMTTYPE=image/jpeg:https://happydaysnurseries.com/wp-content/uploads/2024/06/baby-stay-and-play-poole-1.jpg
END:VEVENT
END:VCALENDAR