BEGIN:VCALENDAR
VERSION:2.0
PRODID:-//Happy Days Nursery - ECPv6.15.20//NONSGML v1.0//EN
CALSCALE:GREGORIAN
METHOD:PUBLISH
X-WR-CALNAME:Happy Days Nursery
X-ORIGINAL-URL:https://happydaysnurseries.com
X-WR-CALDESC:Events for Happy Days Nursery
REFRESH-INTERVAL;VALUE=DURATION:PT1H
X-Robots-Tag:noindex
X-PUBLISHED-TTL:PT1H
BEGIN:VTIMEZONE
TZID:Europe/London
BEGIN:DAYLIGHT
TZOFFSETFROM:+0000
TZOFFSETTO:+0100
TZNAME:BST
DTSTART:20250330T010000
END:DAYLIGHT
BEGIN:STANDARD
TZOFFSETFROM:+0100
TZOFFSETTO:+0000
TZNAME:GMT
DTSTART:20251026T010000
END:STANDARD
BEGIN:DAYLIGHT
TZOFFSETFROM:+0000
TZOFFSETTO:+0100
TZNAME:BST
DTSTART:20260329T010000
END:DAYLIGHT
BEGIN:STANDARD
TZOFFSETFROM:+0100
TZOFFSETTO:+0000
TZNAME:GMT
DTSTART:20261025T010000
END:STANDARD
BEGIN:DAYLIGHT
TZOFFSETFROM:+0000
TZOFFSETTO:+0100
TZNAME:BST
DTSTART:20270328T010000
END:DAYLIGHT
BEGIN:STANDARD
TZOFFSETFROM:+0100
TZOFFSETTO:+0000
TZNAME:GMT
DTSTART:20271031T010000
END:STANDARD
END:VTIMEZONE
BEGIN:VEVENT
DTSTART;TZID=Europe/London:20260108T093000
DTEND;TZID=Europe/London:20260108T103000
DTSTAMP:20260424T025915
CREATED:20251216T105248Z
LAST-MODIFIED:20251216T105248Z
UID:10006108-1767864600-1767868200@happydaysnurseries.com
SUMMARY:Happy Days Curriculum Drop-in session – Strong & Confident Communicator Saltford Nursery
DESCRIPTION:🪩Join us for Boogie Mites at Happy Days Nursery Saltford🎵 \nStrong & Confident Communicator is one aspect of the unique curriculum at Happy Days Curriculum. It supports children’s ability to listen\, understand and communicate\, which is crucial for lifelong learning and future success. \nWe invite you to drop-in and join us to explore some of the activities we deliver to support this aspect. We will be hosting a Boogie Mites session with games that use music\, singing and dancing. These activities will have a focus on self regulation allowing children to understand their emotions and communicate how they feel. \n⭐Perfect for children under 2!  \n✨ What to expect: \n-A chance to meet our experienced\, friendly team \n-Information about early years funding\, fees\, and availability \n-Insights into our engaging curriculum and daily routine \n-And answers to all your questions! \n🗓 When: 9:30am – 10:30am Thursday 8th January\n📍 Location: Happy Days Nursery\, 480 Bath Road\, Saltford\, Bristol\, BS31 3DJ\n📞 Call: 01225 872088\n📩 Email: saltfordnursery@happydaysnurseries.com
URL:https://happydaysnurseries.com/event/happy-days-curriculum-drop-in-session-strong-confident-communicator-saltford-nursery/
LOCATION:Happy Days Nursery & Pre-School\, Saltford\, Happy Days Pre School\, Saltford Primary School\, Claverton Road\, Saltford\, Bristol\, BS31 3DW
ATTACH;FMTTYPE=image/png:https://happydaysnurseries.com/wp-content/uploads/2025/12/Saltford-Curriculum-Drop-in-Strong-Confident-Communicator-Nursery.png
END:VEVENT
END:VCALENDAR