BEGIN:VCALENDAR
VERSION:2.0
PRODID:-//Happy Days Nursery - ECPv6.15.20//NONSGML v1.0//EN
CALSCALE:GREGORIAN
METHOD:PUBLISH
X-WR-CALNAME:Happy Days Nursery
X-ORIGINAL-URL:https://happydaysnurseries.com
X-WR-CALDESC:Events for Happy Days Nursery
REFRESH-INTERVAL;VALUE=DURATION:PT1H
X-Robots-Tag:noindex
X-PUBLISHED-TTL:PT1H
BEGIN:VTIMEZONE
TZID:Europe/London
BEGIN:DAYLIGHT
TZOFFSETFROM:+0000
TZOFFSETTO:+0100
TZNAME:BST
DTSTART:20250330T010000
END:DAYLIGHT
BEGIN:STANDARD
TZOFFSETFROM:+0100
TZOFFSETTO:+0000
TZNAME:GMT
DTSTART:20251026T010000
END:STANDARD
BEGIN:DAYLIGHT
TZOFFSETFROM:+0000
TZOFFSETTO:+0100
TZNAME:BST
DTSTART:20260329T010000
END:DAYLIGHT
BEGIN:STANDARD
TZOFFSETFROM:+0100
TZOFFSETTO:+0000
TZNAME:GMT
DTSTART:20261025T010000
END:STANDARD
BEGIN:DAYLIGHT
TZOFFSETFROM:+0000
TZOFFSETTO:+0100
TZNAME:BST
DTSTART:20270328T010000
END:DAYLIGHT
BEGIN:STANDARD
TZOFFSETFROM:+0100
TZOFFSETTO:+0000
TZNAME:GMT
DTSTART:20271031T010000
END:STANDARD
END:VTIMEZONE
BEGIN:VEVENT
DTSTART;TZID=Europe/London:20260112T100000
DTEND;TZID=Europe/London:20260112T140000
DTSTAMP:20260424T134220
CREATED:20260108T113208Z
LAST-MODIFIED:20260108T113208Z
UID:10006121-1768212000-1768226400@happydaysnurseries.com
SUMMARY:Open House at Happy Days Verwood
DESCRIPTION:Pop in to explore our beautiful purpose-built nursery\, meet the friendly team\, and find out everything you need to know about joining Happy Days Verwood. \n✨ What to expect:\n– A guided tour of our state-of-the-art facilities\n– Friendly conversations with our experienced nursery team\n– Information about funding options\, availability\, fees\, and the early years curriculum\n– A look at our nutritious menus and approach to wellbeing\n– Time to ask any questions you may have \n📅Monday 12th January 🕘10am – 2pm \n📍 Location: Happy Days Nursery & Pre-School\, Church Hill\, Verwood\, BH31 6HT\n📞 Call: 01202 806004\n📩 Email: verwood@happydaysnurseries.com \nNo need to book – just pop in when it suits you!\nWe look forward to welcoming you and your family. 🌟
URL:https://happydaysnurseries.com/event/open-house-at-happy-days-verwood/
LOCATION:Happy Days Nursery & Pre-School\, Verwood\, 19 Church Hill\, Verwood\, Dorset\, BH31 6HT
CATEGORIES:Open Day
ATTACH;FMTTYPE=image/png:https://happydaysnurseries.com/wp-content/uploads/2026/01/open-house-Happy-Days-Nursery-verwood.png
END:VEVENT
BEGIN:VEVENT
DTSTART;TZID=Europe/London:20260115T140000
DTEND;TZID=Europe/London:20260115T150000
DTSTAMP:20260424T134220
CREATED:20260108T131000Z
LAST-MODIFIED:20260108T131000Z
UID:10006122-1768485600-1768489200@happydaysnurseries.com
SUMMARY:Sensory Stay & Play at Happy Days Verwood
DESCRIPTION:Come and join us at Happy Days Verwood for a fun-filled Sensory Stay & Play session that is designed for children aged 2 and under! \nWhy join us? \n⭐ Fun and stimulating activities for early learning\n⭐ Meet other parents and carers in the local area\n⭐ Explore our nursery and outdoor play spaces\n⭐ Enjoy quality time with your child \n📅Thursday 15th January 🕘2pm – 3pm\n📍 Location: Happy Days Nursery & Pre-School\, Church Hill\, Verwood\, BH31 6HT\n📞 Call: 01202 806004\n📩 Email: verwood@happydaysnurseries.com \nNo need to book – just pop in!\nWe look forward to welcoming you and your little ones 🌟
URL:https://happydaysnurseries.com/event/sensory-stay-play-at-happy-days-verwood/
LOCATION:Happy Days Nursery & Pre-School\, Verwood\, 19 Church Hill\, Verwood\, Dorset\, BH31 6HT
CATEGORIES:Stay & Play
ATTACH;FMTTYPE=image/png:https://happydaysnurseries.com/wp-content/uploads/2026/01/Sensory-Stay-Play-Verwood.png
END:VEVENT
BEGIN:VEVENT
DTSTART;TZID=Europe/London:20260121T143000
DTEND;TZID=Europe/London:20260121T153000
DTSTAMP:20260424T134220
CREATED:20260108T140219Z
LAST-MODIFIED:20260108T143346Z
UID:10006123-1769005800-1769009400@happydaysnurseries.com
SUMMARY:National Hug Day Friendship Bracelet making for over 2's at Happy Days Verwood
DESCRIPTION:Celebrate National Hug Day with Happy Days Verwood by making new friends with friendship bracelets 🫶 \nPractice gross motor skills\, creativity and sharing with friends by making a friendship bracelet with us! \n⭐This activity is perfect for children over 2 ⭐ \n📅Wednesday 21st January 🕘2.30pm – 3.30pm\n📍 Location: Happy Days Nursery & Pre-School\, Church Hill\, Verwood\, BH31 6HT\n📞 Call: 01202 806004\n📩 Email: verwood@happydaysnurseries.com \nNo need to book – just pop in!\nWe look forward to welcoming you and your little ones 🌟
URL:https://happydaysnurseries.com/event/national-hug-day-friendship-bracelet-making-for-over-2s-at-happy-days-verwood/
LOCATION:Happy Days Nursery & Pre-School\, Verwood\, 19 Church Hill\, Verwood\, Dorset\, BH31 6HT
ATTACH;FMTTYPE=image/png:https://happydaysnurseries.com/wp-content/uploads/2026/01/friendship-bracelet-making-Verwood.png
END:VEVENT
BEGIN:VEVENT
DTSTART;TZID=Europe/London:20260126T143000
DTEND;TZID=Europe/London:20260126T153000
DTSTAMP:20260424T134220
CREATED:20260108T160145Z
LAST-MODIFIED:20260108T160145Z
UID:10006124-1769437800-1769441400@happydaysnurseries.com
SUMMARY:Story Time Stay & Play at Happy Days Verwood
DESCRIPTION:📖 Get cozy and sit comfortably at Happy Days Verwood for a fun filled story time! 📖 \nReading books to children stimulates their imagination and creativity\, supports the development of vocabulary and extends their understanding of the world. \nBenefits for your little one: \n🗣️Develop early language skills. \n✨Encourage social interaction and coordination. \n🤝Make new friends in a warm and welcoming environment. \n📅Monday 26th January 🕘2.30pm – 3.30pm\n📍 Location: Happy Days Nursery & Pre-School\, Church Hill\, Verwood\, BH31 6HT\n📞 Call: 01202 806004\n📩 Email: verwood@happydaysnurseries.com \nNo need to book – just pop in!\nWe look forward to welcoming you and your little ones 🌟
URL:https://happydaysnurseries.com/event/story-time-stay-play-at-happy-days-verwood/
LOCATION:Happy Days Nursery & Pre-School\, Verwood\, 19 Church Hill\, Verwood\, Dorset\, BH31 6HT
ATTACH;FMTTYPE=image/png:https://happydaysnurseries.com/wp-content/uploads/2026/01/Story-Time-Stay-Play-Verwood-1.png
END:VEVENT
BEGIN:VEVENT
DTSTART;TZID=Europe/London:20260129T140000
DTEND;TZID=Europe/London:20260129T150000
DTSTAMP:20260424T134220
CREATED:20260113T100408Z
LAST-MODIFIED:20260113T100408Z
UID:10006127-1769695200-1769698800@happydaysnurseries.com
SUMMARY:Chinese lantern making at Happy Days Verwood
DESCRIPTION:Be prepared to welcome in the Year of the Horse by making a Chinese lantern with us at Happy Days Verwood. Learn all about Chinese traditions to plan for the New Year celebrations🐎 \nYour little one will:\n⭐Meet new friends\n🫟Show off their creative skills\n🏮Learn about Chinese traditions \n✨This activity is perfect for over 3’s! ✨ \n📅Thursday 29th January 🕘2pm – 3pm\n📍 Location: Happy Days Nursery & Pre-School\, Church Hill\, Verwood\, BH31 6HT\n📞 Call: 01202 806004\n📩 Email: verwood@happydaysnurseries.com \nNo need to book – just pop in!\nWe look forward to welcoming you and your little ones 🌟
URL:https://happydaysnurseries.com/event/chinese-lantern-making-at-happy-days-verwood/
LOCATION:Happy Days Nursery & Pre-School\, Verwood\, 19 Church Hill\, Verwood\, Dorset\, BH31 6HT
ATTACH;FMTTYPE=image/png:https://happydaysnurseries.com/wp-content/uploads/2026/01/Verwood-Chinese-Lantern-Making.png
END:VEVENT
BEGIN:VEVENT
DTSTART;TZID=Europe/London:20260130T140000
DTEND;TZID=Europe/London:20260130T170000
DTSTAMP:20260424T134220
CREATED:20260109T084616Z
LAST-MODIFIED:20260109T084616Z
UID:10006125-1769781600-1769792400@happydaysnurseries.com
SUMMARY:Open House at Happy Days Verwood
DESCRIPTION:Pop in to explore our beautiful purpose-built nursery\, meet the friendly team\, and find out everything you need to know about joining Happy Days Verwood. \n✨ What to expect:\n– A guided tour of our state-of-the-art facilities\n– Friendly conversations with our experienced nursery team\n– Information about funding options\, availability\, fees\, and the early years curriculum\n– A look at our nutritious menus and approach to wellbeing\n– Time to ask any questions you may have \n📅Friday 30th January 🕘2pm – 5pm \n📍 Location: Happy Days Nursery & Pre-School\, Church Hill\, Verwood\, BH31 6HT\n📞 Call: 01202 806004\n📩 Email: verwood@happydaysnurseries.com \nNo need to book – just pop in when it suits you!\nWe look forward to welcoming you and your family. 🌟
URL:https://happydaysnurseries.com/event/open-house-at-happy-days-verwood-jan-30/
LOCATION:Happy Days Nursery & Pre-School\, Verwood\, 19 Church Hill\, Verwood\, Dorset\, BH31 6HT
CATEGORIES:Open Day
ATTACH;FMTTYPE=image/png:https://happydaysnurseries.com/wp-content/uploads/2026/01/open-house-Happy-Days-Nursery-verwood.png
END:VEVENT
END:VCALENDAR