BEGIN:VCALENDAR
VERSION:2.0
PRODID:-//Happy Days Nursery - ECPv6.15.20//NONSGML v1.0//EN
CALSCALE:GREGORIAN
METHOD:PUBLISH
X-WR-CALNAME:Happy Days Nursery
X-ORIGINAL-URL:https://happydaysnurseries.com
X-WR-CALDESC:Events for Happy Days Nursery
REFRESH-INTERVAL;VALUE=DURATION:PT1H
X-Robots-Tag:noindex
X-PUBLISHED-TTL:PT1H
BEGIN:VTIMEZONE
TZID:Europe/London
BEGIN:DAYLIGHT
TZOFFSETFROM:+0000
TZOFFSETTO:+0100
TZNAME:BST
DTSTART:20250330T010000
END:DAYLIGHT
BEGIN:STANDARD
TZOFFSETFROM:+0100
TZOFFSETTO:+0000
TZNAME:GMT
DTSTART:20251026T010000
END:STANDARD
BEGIN:DAYLIGHT
TZOFFSETFROM:+0000
TZOFFSETTO:+0100
TZNAME:BST
DTSTART:20260329T010000
END:DAYLIGHT
BEGIN:STANDARD
TZOFFSETFROM:+0100
TZOFFSETTO:+0000
TZNAME:GMT
DTSTART:20261025T010000
END:STANDARD
BEGIN:DAYLIGHT
TZOFFSETFROM:+0000
TZOFFSETTO:+0100
TZNAME:BST
DTSTART:20270328T010000
END:DAYLIGHT
BEGIN:STANDARD
TZOFFSETFROM:+0100
TZOFFSETTO:+0000
TZNAME:GMT
DTSTART:20271031T010000
END:STANDARD
END:VTIMEZONE
BEGIN:VEVENT
DTSTART;TZID=Europe/London:20260305T140000
DTEND;TZID=Europe/London:20260305T150000
DTSTAMP:20260420T064232
CREATED:20260213T104127Z
LAST-MODIFIED:20260213T104652Z
UID:10006172-1772719200-1772722800@happydaysnurseries.com
SUMMARY:Dress Up & Story Time - Happy Days Verwood
DESCRIPTION:We invite you to get cozy\, sit comfortably and dress like your favourite character with us at Happy Days Verwood for a fun filled Dress Up & Story Time! \nReading books to children stimulates their imagination and creativity\, supports the development of vocabulary and extends their understanding of the world. \nBenefits for your little one: \n🗣️Develop early language skills. \n✨Encourage social interaction and coordination. \n🤝Make new friends in a warm and welcoming environment. \n📅Thursday 5th March🕘2.00pm – 3.00pm\n📍 Location: Happy Days Nursery & Pre-School\, Church Hill\, Verwood\, BH31 6HT\n📞 Call: 01202 806004\n📩 Email: verwood@happydaysnurseries.com \nNo need to book – just pop in!\nWe look forward to welcoming you and your little ones 🌟
URL:https://happydaysnurseries.com/event/dress-up-story-time-happy-days-verwood/
LOCATION:Happy Days Nursery & Pre-School\, Verwood\, 19 Church Hill\, Verwood\, Dorset\, BH31 6HT
CATEGORIES:Stay & Play
ATTACH;FMTTYPE=image/png:https://happydaysnurseries.com/wp-content/uploads/2026/02/Dress-Up-Story-Time-1.png
END:VEVENT
BEGIN:VEVENT
DTSTART;TZID=Europe/London:20260309T140000
DTEND;TZID=Europe/London:20260309T150000
DTSTAMP:20260420T064232
CREATED:20260213T105911Z
LAST-MODIFIED:20260213T110923Z
UID:10006173-1773064800-1773068400@happydaysnurseries.com
SUMMARY:Free STEM Stay & Play - Happy Days Verwood
DESCRIPTION:Discover the fascinating world of Science\, Technology\, Engineering and Maths at our STEM Stay & Play! \nYour little one will enjoy hands-on activities designed to spark curiosity\, problem-solving\, and critical thinking – all while having lots of fun ✨ \n⭐Perfect for children over 3 years old! \n📅Monday 9th March 🕘2.00pm – 3.00pm\n📍 Location: Happy Days Nursery & Pre-School\, Church Hill\, Verwood\, BH31 6HT\n📞 Call: 01202 806004\n📩 Email: verwood@happydaysnurseries.com \nIt is also an excellent opportunity to have a look around and ask any questions you may have!
URL:https://happydaysnurseries.com/event/free-stem-stay-play-happy-days-verwood/
LOCATION:Happy Days Nursery & Pre-School\, Verwood\, 19 Church Hill\, Verwood\, Dorset\, BH31 6HT
CATEGORIES:Stay & Play
ATTACH;FMTTYPE=image/png:https://happydaysnurseries.com/wp-content/uploads/2026/02/Website-Stem-Stay-and-Play-Verwood.png
END:VEVENT
BEGIN:VEVENT
DTSTART;TZID=Europe/London:20260317T143000
DTEND;TZID=Europe/London:20260317T153000
DTSTAMP:20260420T064232
CREATED:20260218T160424Z
LAST-MODIFIED:20260218T161344Z
UID:10006195-1773757800-1773761400@happydaysnurseries.com
SUMMARY:Under 2s Stay & Play at Teddy Bears Day Nursery
DESCRIPTION:Join us for a relaxed and welcoming Stay & Play session specially designed for our youngest children and their families. \nThis session gives under 2s the chance to explore\, play\, and interact with other children\, helping to build early social skills\, confidence\, and communication in a safe and nurturing environment. Through shared play\, songs\, and activities\, little ones begin learning how to take turns\, express themselves\, and form friendships. \nFor parents and carers\, Stay & Play offers a wonderful opportunity to connect with other families\, share experiences\, and enjoy quality time with your child while building supportive relationships within our nursery community. \nCome along for a fun\, friendly afternoon of play\, learning\, and meaningful connection. \n📆 Date: 17 March April\,  2026 between 2:30pm and 3:30pm\n📍 Location: Teddy Bears Nursery School\, 232 Southampton Road\, North Harbour\, Portsmouth\, PO6 4QD\n📞 Call: 023 9238 5005\n📩 Email: teddybears.nursery@happydaysnurseries.com
URL:https://happydaysnurseries.com/event/under-2-stay-play-teddy-bears-portsmouth/
LOCATION:Teddy Bears\, Teddy Bears Nursery School\, 232 Southampton Road\, Portsmouth\, PO6 4QD\, Portsmouth\, PO6 4QD\, United Kingdom
CATEGORIES:Stay & Play
ATTACH;FMTTYPE=image/jpeg:https://happydaysnurseries.com/wp-content/uploads/2026/02/Teddy-bears-babies-sensory-play-scaled.jpg
END:VEVENT
BEGIN:VEVENT
DTSTART;TZID=Europe/London:20260318T143000
DTEND;TZID=Europe/London:20260318T153000
DTSTAMP:20260420T064232
CREATED:20260213T125956Z
LAST-MODIFIED:20260213T125956Z
UID:10006174-1773844200-1773847800@happydaysnurseries.com
SUMMARY:Global Recycling Day & Community Litter Pick - Happy Days Verwood
DESCRIPTION:Help our local community by joining us on Global Recycling Day for a Community Litter Pick! \nMaking our home a better place to live and learning all about the natural world around us is part of Eco-Schools\, a global programme that enables children to engage in a hands on practical approach to improving their environmental awareness 🌱 \n📅Wednesday 18th March 🕘2.30pm – 3.30pm\n📍 Location: Happy Days Nursery & Pre-School\, Church Hill\, Verwood\, BH31 6HT\n📞 Call: 01202 806004\n📩 Email: verwood@happydaysnurseries.com
URL:https://happydaysnurseries.com/event/community-litter-pick/
LOCATION:Happy Days Nursery & Pre-School\, Verwood\, 19 Church Hill\, Verwood\, Dorset\, BH31 6HT
CATEGORIES:Community Pop Up Event
ATTACH;FMTTYPE=image/png:https://happydaysnurseries.com/wp-content/uploads/2026/02/Global-Recycling-Day-Community-Litter-Pick-3.png
END:VEVENT
BEGIN:VEVENT
DTSTART;TZID=Europe/London:20260327T143000
DTEND;TZID=Europe/London:20260327T153000
DTSTAMP:20260420T064232
CREATED:20260218T101150Z
LAST-MODIFIED:20260225T153630Z
UID:10006189-1774621800-1774625400@happydaysnurseries.com
SUMMARY:Talent Show for World Theatre Day at Happy Days Verwood
DESCRIPTION:Talent Show for World Theatre Day at Happy Days Verwood 🎭 \nWe’re celebrating World Theatre Day at Happy Days Verwood with a Nursery Talent Show! \n📅 27th March\n⏰ 2:30pm–3:30pm \nParticipants will have the chance to share their talents\, be creative\, and express themselves through music\, storytelling\, crafts\, dancing\, and imaginative play\, all in a fun\, supportive environment. \nAt Happy Days Verwood\, celebrating creativity helps build confidence\, develop communication skills\, and nurture imagination. The Talent Show is all about encouragement and fun\, giving everyone the opportunity to shine in their own way. \nWe can’t wait to celebrate the amazing skills and creativity on display! ✨ \n📍 Location: Happy Days Nursery & Pre-School\, Church Hill\, Verwood\, BH31 6HT\n📞 Call: 01202 806004\n📩 Email: verwood@happydaysnurseries.com
URL:https://happydaysnurseries.com/event/happy-days-verwood-talent-show/
LOCATION:Happy Days Nursery & Pre-School\, Verwood\, 19 Church Hill\, Verwood\, Dorset\, BH31 6HT
CATEGORIES:Stay & Play
ATTACH;FMTTYPE=image/jpeg:https://happydaysnurseries.com/wp-content/uploads/2026/02/Talent-Show-.jpg
END:VEVENT
BEGIN:VEVENT
DTSTART;TZID=Europe/London:20260331T140000
DTEND;TZID=Europe/London:20260331T150000
DTSTAMP:20260420T064232
CREATED:20260218T103334Z
LAST-MODIFIED:20260225T153444Z
UID:10006190-1774965600-1774969200@happydaysnurseries.com
SUMMARY:Community Garden Week – Cress Head Activity at Happy Days Verwood
DESCRIPTION:Community Garden Week – Cress Head Activity at Happy Days Verwood 🌱 \nWe’re celebrating Community Garden Week at Happy Days Verwood with a hands-on Cress Head activity for children aged 2 and over! \n📅 31st March\n⏰ 2:00pm–3:00pm \nChildren will get creative growing their own cress heads\, while exploring nature\, planting seeds\, and learning about how plants grow. This activity encourages curiosity\, fine motor skills\, and a love for the outdoors\, all in a fun and supportive environment. \nAt Happy Days Verwood\, activities like this help develop problem-solving skills\, teamwork\, and imaginative play. Community Garden Week is all about exploring\, discovering\, and having fun together. \nWe can’t wait to see everyone’s cress creations! 🌿 \n📍 Location: Happy Days Nursery & Pre-School\, Church Hill\, Verwood\, BH31 6HT\n📞 Call: 01202 806004\n📩 Email: verwood@happydaysnurseries.com
URL:https://happydaysnurseries.com/event/verwood-cress-head-activity/
LOCATION:Happy Days Nursery & Pre-School\, Verwood\, 19 Church Hill\, Verwood\, Dorset\, BH31 6HT
CATEGORIES:Stay & Play
ATTACH;FMTTYPE=image/jpeg:https://happydaysnurseries.com/wp-content/uploads/2026/02/garden-week.jpg
END:VEVENT
END:VCALENDAR