BEGIN:VCALENDAR
VERSION:2.0
PRODID:-//Happy Days Nursery - ECPv6.15.20//NONSGML v1.0//EN
CALSCALE:GREGORIAN
METHOD:PUBLISH
X-WR-CALNAME:Happy Days Nursery
X-ORIGINAL-URL:https://happydaysnurseries.com
X-WR-CALDESC:Events for Happy Days Nursery
REFRESH-INTERVAL;VALUE=DURATION:PT1H
X-Robots-Tag:noindex
X-PUBLISHED-TTL:PT1H
BEGIN:VTIMEZONE
TZID:Europe/London
BEGIN:DAYLIGHT
TZOFFSETFROM:+0000
TZOFFSETTO:+0100
TZNAME:BST
DTSTART:20240331T010000
END:DAYLIGHT
BEGIN:STANDARD
TZOFFSETFROM:+0100
TZOFFSETTO:+0000
TZNAME:GMT
DTSTART:20241027T010000
END:STANDARD
BEGIN:DAYLIGHT
TZOFFSETFROM:+0000
TZOFFSETTO:+0100
TZNAME:BST
DTSTART:20250330T010000
END:DAYLIGHT
BEGIN:STANDARD
TZOFFSETFROM:+0100
TZOFFSETTO:+0000
TZNAME:GMT
DTSTART:20251026T010000
END:STANDARD
BEGIN:DAYLIGHT
TZOFFSETFROM:+0000
TZOFFSETTO:+0100
TZNAME:BST
DTSTART:20260329T010000
END:DAYLIGHT
BEGIN:STANDARD
TZOFFSETFROM:+0100
TZOFFSETTO:+0000
TZNAME:GMT
DTSTART:20261025T010000
END:STANDARD
END:VTIMEZONE
BEGIN:VEVENT
DTSTART;TZID=Europe/London:20251124T100000
DTEND;TZID=Europe/London:20251124T110000
DTSTAMP:20260425T170449
CREATED:20250923T103339Z
LAST-MODIFIED:20250923T105232Z
UID:10005961-1763978400-1763982000@happydaysnurseries.com
SUMMARY:Woodland Trust Stay and Play with Happy Days Poole
DESCRIPTION:Join us for a free Stay and Play session at Happy Days Poole\, where we’ll be celebrating the magic of woodlands! This special stay and play event is perfect for children aged 3-5 and their grown-ups. \nDiscover the incredible work of the Woodland Trust as we explore how to protect\, restore\, and plant trees. Through fun activities and stories\, your child will learn about the vital role woodlands play in our environment and how we can help protect them for future generations. \nThis is a fantastic opportunity for you to see our nursery and ask any questions you may have. We look forward to welcoming you and your family to Happy Days! \nConfirm your spot today!📅 Date: Monday 24th November 2025⏰ Time: 10:00 – 11:00am📍 Where: Happy Days Nursery & Pre-School\, Beechbank Avenue\, Creekmoor\, Poole\, BH17 7FF☎ Call: 01202 698 427📩 Email: poole@happydaysnurseries.com
URL:https://happydaysnurseries.com/event/woodland-trust-stay-and-play/2025-11-24/
LOCATION:Happy Days Nursery & Pre-School\, Poole\, Beechbank Avenue\, Creekmoor\, Poole\, BH17 7FF
CATEGORIES:Stay & Play
ATTACH;FMTTYPE=image/jpeg:https://happydaysnurseries.com/wp-content/uploads/2025/09/Woodland-Trust-Day-Poole.jpg
END:VEVENT
END:VCALENDAR